BEGIN:VCALENDAR
VERSION:2.0
PRODID:-//Idaho State Bar - ECPv6.15.20//NONSGML v1.0//EN
CALSCALE:GREGORIAN
METHOD:PUBLISH
X-WR-CALNAME:Idaho State Bar
X-ORIGINAL-URL:https://isb.idaho.gov
X-WR-CALDESC:Events for Idaho State Bar
REFRESH-INTERVAL;VALUE=DURATION:PT1H
X-Robots-Tag:noindex
X-PUBLISHED-TTL:PT1H
BEGIN:VTIMEZONE
TZID:America/Boise
BEGIN:DAYLIGHT
TZOFFSETFROM:-0700
TZOFFSETTO:-0600
TZNAME:MDT
DTSTART:20280312T090000
END:DAYLIGHT
BEGIN:STANDARD
TZOFFSETFROM:-0600
TZOFFSETTO:-0700
TZNAME:MST
DTSTART:20281105T080000
END:STANDARD
BEGIN:DAYLIGHT
TZOFFSETFROM:-0700
TZOFFSETTO:-0600
TZNAME:MDT
DTSTART:20290311T090000
END:DAYLIGHT
BEGIN:STANDARD
TZOFFSETFROM:-0600
TZOFFSETTO:-0700
TZNAME:MST
DTSTART:20291104T080000
END:STANDARD
BEGIN:DAYLIGHT
TZOFFSETFROM:-0700
TZOFFSETTO:-0600
TZNAME:MDT
DTSTART:20300310T090000
END:DAYLIGHT
BEGIN:STANDARD
TZOFFSETFROM:-0600
TZOFFSETTO:-0700
TZNAME:MST
DTSTART:20301103T080000
END:STANDARD
END:VTIMEZONE
BEGIN:VEVENT
DTSTART;TZID=America/Boise:20290905T120000
DTEND;TZID=America/Boise:20290905T130000
DTSTAMP:20260425T131019
CREATED:20240726T185941Z
LAST-MODIFIED:20260401T220244Z
UID:10002388-1883304000-1883307600@isb.idaho.gov
SUMMARY:Real Property Section Meeting
DESCRIPTION:
URL:https://isb.idaho.gov/event/real-property-section-meeting/2029-09-05/
CATEGORIES:Real Property Section
END:VEVENT
BEGIN:VEVENT
DTSTART;TZID=America/Boise:20290906T120000
DTEND;TZID=America/Boise:20290906T130000
DTSTAMP:20260425T131019
CREATED:20240726T194156Z
LAST-MODIFIED:20260401T220217Z
UID:10002004-1883390400-1883394000@isb.idaho.gov
SUMMARY:Government & Public Sector Lawyers Section Meeting
DESCRIPTION:
URL:https://isb.idaho.gov/event/government-public-sector-lawyers-section-meeting/2029-09-06/
CATEGORIES:Government & Public Sector Lawyers Section
END:VEVENT
BEGIN:VEVENT
DTSTART;TZID=America/Boise:20290907T130000
DTEND;TZID=America/Boise:20290907T140000
DTSTAMP:20260425T131019
CREATED:20241209T210534Z
LAST-MODIFIED:20260420T180146Z
UID:10002937-1883480400-1883484000@isb.idaho.gov
SUMMARY:Indian Law Section Meeting
DESCRIPTION:
URL:https://isb.idaho.gov/event/indian-law-section-meeting-2/2029-09-07/
CATEGORIES:Indian Law Section
END:VEVENT
BEGIN:VEVENT
DTSTART;TZID=America/Boise:20290912T120000
DTEND;TZID=America/Boise:20290912T130000
DTSTAMP:20260425T131019
CREATED:20240726T194211Z
LAST-MODIFIED:20260401T220900Z
UID:10001276-1883908800-1883912400@isb.idaho.gov
SUMMARY:Business & Corporate Law Section Meeting
DESCRIPTION:
URL:https://isb.idaho.gov/event/business-corporate-law-section-meeting/2029-09-12/
CATEGORIES:Business & Corporate Law Section
END:VEVENT
BEGIN:VEVENT
DTSTART;TZID=America/Boise:20290913T120000
DTEND;TZID=America/Boise:20290913T130000
DTSTAMP:20260425T131019
CREATED:20240726T175408Z
LAST-MODIFIED:20260401T230113Z
UID:10002476-1883995200-1883998800@isb.idaho.gov
SUMMARY:Water Law Section Meeting
DESCRIPTION:
URL:https://isb.idaho.gov/event/water-law-section-meeting/2029-09-13/
CATEGORIES:Water Law Section
END:VEVENT
BEGIN:VEVENT
DTSTART;TZID=America/Boise:20290913T120000
DTEND;TZID=America/Boise:20290913T130000
DTSTAMP:20260425T131019
CREATED:20240726T194156Z
LAST-MODIFIED:20260401T215403Z
UID:10002615-1883995200-1883998800@isb.idaho.gov
SUMMARY:Appellate Practice Section Member Meeting
DESCRIPTION:
URL:https://isb.idaho.gov/event/appellate-practice-section-member-meeting/2029-09-13/
CATEGORIES:Appellate Practice Section
END:VEVENT
BEGIN:VEVENT
DTSTART;TZID=America/Boise:20290914T120000
DTEND;TZID=America/Boise:20290914T130000
DTSTAMP:20260425T131019
CREATED:20240726T194211Z
LAST-MODIFIED:20260401T220951Z
UID:10001900-1884081600-1884085200@isb.idaho.gov
SUMMARY:Family Law Section Meeting
DESCRIPTION:
URL:https://isb.idaho.gov/event/family-law-section-meeting/2029-09-14/
CATEGORIES:Family Law Section
END:VEVENT
BEGIN:VEVENT
DTSTART;TZID=America/Boise:20290918T120000
DTEND;TZID=America/Boise:20290918T130000
DTSTAMP:20260425T131019
CREATED:20240726T194141Z
LAST-MODIFIED:20260401T222312Z
UID:10002579-1884427200-1884430800@isb.idaho.gov
SUMMARY:Young Lawyers Section Meeting
DESCRIPTION:
URL:https://isb.idaho.gov/event/young-lawyers-section-meeting/2029-09-18/
CATEGORIES:Young Lawyers Section
END:VEVENT
BEGIN:VEVENT
DTSTART;TZID=America/Boise:20290919T160000
DTEND;TZID=America/Boise:20290919T170000
DTSTAMP:20260425T131019
CREATED:20240726T175006Z
LAST-MODIFIED:20260401T221958Z
UID:10001575-1884528000-1884531600@isb.idaho.gov
SUMMARY:Commercial Law & Bankruptcy Section Meeting
DESCRIPTION:
URL:https://isb.idaho.gov/event/commercial-law-bankruptcy-section-meeting/2029-09-19/
CATEGORIES:Commercial Law & Bankruptcy Section
END:VEVENT
BEGIN:VEVENT
DTSTART;TZID=America/Boise:20290920T120000
DTEND;TZID=America/Boise:20290920T130000
DTSTAMP:20260425T131019
CREATED:20251113T173953Z
LAST-MODIFIED:20260401T224537Z
UID:10001648-1884600000-1884603600@isb.idaho.gov
SUMMARY:Diversity Section Meeting
DESCRIPTION:
URL:https://isb.idaho.gov/event/diversity-section-meeting-4/2029-09-20/
CATEGORIES:Diversity Section
END:VEVENT
BEGIN:VEVENT
DTSTART;TZID=America/Boise:20290921T120000
DTEND;TZID=America/Boise:20290921T130000
DTSTAMP:20260425T131019
CREATED:20240726T193626Z
LAST-MODIFIED:20260401T222237Z
UID:10002260-1884686400-1884690000@isb.idaho.gov
SUMMARY:Litigation Section Meeting
DESCRIPTION:
URL:https://isb.idaho.gov/event/litigation-section-meeting/2029-09-21/
CATEGORIES:Litigation Section
END:VEVENT
BEGIN:VEVENT
DTSTART;TZID=America/Boise:20290925T120000
DTEND;TZID=America/Boise:20290925T130000
DTSTAMP:20260425T131019
CREATED:20250625T154413Z
LAST-MODIFIED:20260401T225401Z
UID:10003171-1885032000-1885035600@isb.idaho.gov
SUMMARY:Technology & Practice Management Section Meeting
DESCRIPTION:
URL:https://isb.idaho.gov/event/technology-property-management-section-meeting-2/2029-09-25/
CATEGORIES:Technology & Practice Management Section
END:VEVENT
BEGIN:VEVENT
DTSTART;TZID=America/Boise:20290926T120000
DTEND;TZID=America/Boise:20290926T130000
DTSTAMP:20260425T131019
CREATED:20240726T173306Z
LAST-MODIFIED:20260401T223343Z
UID:10001828-1885118400-1885122000@isb.idaho.gov
SUMMARY:Environment & Natural Resources Law Section Meeting
DESCRIPTION:
URL:https://isb.idaho.gov/event/environment-natural-resources-law-section-meeting/2029-09-26/
CATEGORIES:Environment & Natural Resources Law Section
END:VEVENT
BEGIN:VEVENT
DTSTART;TZID=America/Boise:20290926T120000
DTEND;TZID=America/Boise:20290926T130000
DTSTAMP:20260425T131019
CREATED:20240726T194141Z
LAST-MODIFIED:20260401T222401Z
UID:10001751-1885118400-1885122000@isb.idaho.gov
SUMMARY:Employment & Labor Law Section Meeting
DESCRIPTION:
URL:https://isb.idaho.gov/event/employment-labor-law-section-meeting/2029-09-26/
CATEGORIES:Employment & Labor Law Section
END:VEVENT
BEGIN:VEVENT
DTSTART;TZID=America/Boise:20290927T120000
DTEND;TZID=America/Boise:20290927T130000
DTSTAMP:20260425T131019
CREATED:20240726T194141Z
LAST-MODIFIED:20260401T221917Z
UID:10001042-1885204800-1885208400@isb.idaho.gov
SUMMARY:Agricultural Law Section Meeting
DESCRIPTION:
URL:https://isb.idaho.gov/event/agricultural-law-section-meeting/2029-09-27/
CATEGORIES:Agricultural Law Section
END:VEVENT
BEGIN:VEVENT
DTSTART;TZID=America/Boise:20290928T120000
DTEND;TZID=America/Boise:20290928T130000
DTSTAMP:20260425T131019
CREATED:20240726T194155Z
LAST-MODIFIED:20260414T145846Z
UID:10001356-1885291200-1885294800@isb.idaho.gov
SUMMARY:Child Protection Section Meeting
DESCRIPTION:
URL:https://isb.idaho.gov/event/child-protection-section-meeting/2029-09-28/
CATEGORIES:Child Protection Section
END:VEVENT
END:VCALENDAR