BEGIN:VCALENDAR
VERSION:2.0
PRODID:-//Idaho State Bar - ECPv6.15.20//NONSGML v1.0//EN
CALSCALE:GREGORIAN
METHOD:PUBLISH
X-WR-CALNAME:Idaho State Bar
X-ORIGINAL-URL:https://isb.idaho.gov
X-WR-CALDESC:Events for Idaho State Bar
REFRESH-INTERVAL;VALUE=DURATION:PT1H
X-Robots-Tag:noindex
X-PUBLISHED-TTL:PT1H
BEGIN:VTIMEZONE
TZID:America/Boise
BEGIN:DAYLIGHT
TZOFFSETFROM:-0700
TZOFFSETTO:-0600
TZNAME:MDT
DTSTART:20280312T090000
END:DAYLIGHT
BEGIN:STANDARD
TZOFFSETFROM:-0600
TZOFFSETTO:-0700
TZNAME:MST
DTSTART:20281105T080000
END:STANDARD
BEGIN:DAYLIGHT
TZOFFSETFROM:-0700
TZOFFSETTO:-0600
TZNAME:MDT
DTSTART:20290311T090000
END:DAYLIGHT
BEGIN:STANDARD
TZOFFSETFROM:-0600
TZOFFSETTO:-0700
TZNAME:MST
DTSTART:20291104T080000
END:STANDARD
BEGIN:DAYLIGHT
TZOFFSETFROM:-0700
TZOFFSETTO:-0600
TZNAME:MDT
DTSTART:20300310T090000
END:DAYLIGHT
BEGIN:STANDARD
TZOFFSETFROM:-0600
TZOFFSETTO:-0700
TZNAME:MST
DTSTART:20301103T080000
END:STANDARD
END:VTIMEZONE
BEGIN:VEVENT
DTSTART;TZID=America/Boise:20290705T120000
DTEND;TZID=America/Boise:20290705T130000
DTSTAMP:20260424T105045
CREATED:20240726T194156Z
LAST-MODIFIED:20260401T220217Z
UID:10002002-1877947200-1877950800@isb.idaho.gov
SUMMARY:Government & Public Sector Lawyers Section Meeting
DESCRIPTION:
URL:https://isb.idaho.gov/event/government-public-sector-lawyers-section-meeting/2029-07-05/
CATEGORIES:Government & Public Sector Lawyers Section
END:VEVENT
BEGIN:VEVENT
DTSTART;TZID=America/Boise:20290706T130000
DTEND;TZID=America/Boise:20290706T140000
DTSTAMP:20260424T105045
CREATED:20241209T210534Z
LAST-MODIFIED:20260420T180146Z
UID:10002935-1878037200-1878040800@isb.idaho.gov
SUMMARY:Indian Law Section Meeting
DESCRIPTION:
URL:https://isb.idaho.gov/event/indian-law-section-meeting-2/2029-07-06/
CATEGORIES:Indian Law Section
END:VEVENT
BEGIN:VEVENT
DTSTART;TZID=America/Boise:20290712T120000
DTEND;TZID=America/Boise:20290712T130000
DTSTAMP:20260424T105045
CREATED:20240726T175408Z
LAST-MODIFIED:20260401T230113Z
UID:10002475-1878552000-1878555600@isb.idaho.gov
SUMMARY:Water Law Section Meeting
DESCRIPTION:
URL:https://isb.idaho.gov/event/water-law-section-meeting/2029-07-12/
CATEGORIES:Water Law Section
END:VEVENT
BEGIN:VEVENT
DTSTART;TZID=America/Boise:20290717T120000
DTEND;TZID=America/Boise:20290717T130000
DTSTAMP:20260424T105045
CREATED:20240726T194141Z
LAST-MODIFIED:20260401T222312Z
UID:10002577-1878984000-1878987600@isb.idaho.gov
SUMMARY:Young Lawyers Section Meeting
DESCRIPTION:
URL:https://isb.idaho.gov/event/young-lawyers-section-meeting/2029-07-17/
CATEGORIES:Young Lawyers Section
END:VEVENT
BEGIN:VEVENT
DTSTART;TZID=America/Boise:20290718T160000
DTEND;TZID=America/Boise:20290718T170000
DTSTAMP:20260424T105045
CREATED:20240726T175006Z
LAST-MODIFIED:20260401T221958Z
UID:10001573-1879084800-1879088400@isb.idaho.gov
SUMMARY:Commercial Law & Bankruptcy Section Meeting
DESCRIPTION:
URL:https://isb.idaho.gov/event/commercial-law-bankruptcy-section-meeting/2029-07-18/
CATEGORIES:Commercial Law & Bankruptcy Section
END:VEVENT
BEGIN:VEVENT
DTSTART;TZID=America/Boise:20290719T120000
DTEND;TZID=America/Boise:20290719T130000
DTSTAMP:20260424T105045
CREATED:20251113T173953Z
LAST-MODIFIED:20260401T224537Z
UID:10001647-1879156800-1879160400@isb.idaho.gov
SUMMARY:Diversity Section Meeting
DESCRIPTION:
URL:https://isb.idaho.gov/event/diversity-section-meeting-4/2029-07-19/
CATEGORIES:Diversity Section
END:VEVENT
BEGIN:VEVENT
DTSTART;TZID=America/Boise:20290720T120000
DTEND;TZID=America/Boise:20290720T130000
DTSTAMP:20260424T105045
CREATED:20240726T193626Z
LAST-MODIFIED:20260401T222237Z
UID:10002258-1879243200-1879246800@isb.idaho.gov
SUMMARY:Litigation Section Meeting
DESCRIPTION:
URL:https://isb.idaho.gov/event/litigation-section-meeting/2029-07-20/
CATEGORIES:Litigation Section
END:VEVENT
BEGIN:VEVENT
DTSTART;TZID=America/Boise:20290724T120000
DTEND;TZID=America/Boise:20290724T130000
DTSTAMP:20260424T105045
CREATED:20250625T154413Z
LAST-MODIFIED:20260401T225401Z
UID:10003519-1879588800-1879592400@isb.idaho.gov
SUMMARY:Technology & Practice Management Section Meeting
DESCRIPTION:
URL:https://isb.idaho.gov/event/technology-property-management-section-meeting-2/2029-07-24/
CATEGORIES:Technology & Practice Management Section
END:VEVENT
BEGIN:VEVENT
DTSTART;TZID=America/Boise:20290725T120000
DTEND;TZID=America/Boise:20290725T130000
DTSTAMP:20260424T105045
CREATED:20240726T194141Z
LAST-MODIFIED:20260401T222401Z
UID:10001749-1879675200-1879678800@isb.idaho.gov
SUMMARY:Employment & Labor Law Section Meeting
DESCRIPTION:
URL:https://isb.idaho.gov/event/employment-labor-law-section-meeting/2029-07-25/
CATEGORIES:Employment & Labor Law Section
END:VEVENT
END:VCALENDAR