BEGIN:VCALENDAR
VERSION:2.0
PRODID:-//Idaho State Bar - ECPv6.15.20//NONSGML v1.0//EN
CALSCALE:GREGORIAN
METHOD:PUBLISH
X-WR-CALNAME:Idaho State Bar
X-ORIGINAL-URL:https://isb.idaho.gov
X-WR-CALDESC:Events for Idaho State Bar
REFRESH-INTERVAL;VALUE=DURATION:PT1H
X-Robots-Tag:noindex
X-PUBLISHED-TTL:PT1H
BEGIN:VTIMEZONE
TZID:America/Boise
BEGIN:DAYLIGHT
TZOFFSETFROM:-0700
TZOFFSETTO:-0600
TZNAME:MDT
DTSTART:20280312T090000
END:DAYLIGHT
BEGIN:STANDARD
TZOFFSETFROM:-0600
TZOFFSETTO:-0700
TZNAME:MST
DTSTART:20281105T080000
END:STANDARD
BEGIN:DAYLIGHT
TZOFFSETFROM:-0700
TZOFFSETTO:-0600
TZNAME:MDT
DTSTART:20290311T090000
END:DAYLIGHT
BEGIN:STANDARD
TZOFFSETFROM:-0600
TZOFFSETTO:-0700
TZNAME:MST
DTSTART:20291104T080000
END:STANDARD
BEGIN:DAYLIGHT
TZOFFSETFROM:-0700
TZOFFSETTO:-0600
TZNAME:MDT
DTSTART:20300310T090000
END:DAYLIGHT
BEGIN:STANDARD
TZOFFSETFROM:-0600
TZOFFSETTO:-0700
TZNAME:MST
DTSTART:20301103T080000
END:STANDARD
END:VTIMEZONE
BEGIN:VEVENT
DTSTART;TZID=America/Boise:20290601T130000
DTEND;TZID=America/Boise:20290601T140000
DTSTAMP:20260424T084652
CREATED:20241209T210534Z
LAST-MODIFIED:20260420T180146Z
UID:10002934-1875013200-1875016800@isb.idaho.gov
SUMMARY:Indian Law Section Meeting
DESCRIPTION:
URL:https://isb.idaho.gov/event/indian-law-section-meeting-2/2029-06-01/
CATEGORIES:Indian Law Section
END:VEVENT
BEGIN:VEVENT
DTSTART;TZID=America/Boise:20290605T120000
DTEND;TZID=America/Boise:20290605T130000
DTSTAMP:20260424T084652
CREATED:20250811T192221Z
LAST-MODIFIED:20260401T220614Z
UID:10003221-1875355200-1875358800@isb.idaho.gov
SUMMARY:Professionalism & Ethics Section Meeting
DESCRIPTION:
URL:https://isb.idaho.gov/event/professionalism-ethics-section-meeting-2-2/2029-06-05/
CATEGORIES:Professionalism & Ethics Section
END:VEVENT
BEGIN:VEVENT
DTSTART;TZID=America/Boise:20290607T120000
DTEND;TZID=America/Boise:20290607T130000
DTSTAMP:20260424T084652
CREATED:20240726T194156Z
LAST-MODIFIED:20260401T220217Z
UID:10002001-1875528000-1875531600@isb.idaho.gov
SUMMARY:Government & Public Sector Lawyers Section Meeting
DESCRIPTION:
URL:https://isb.idaho.gov/event/government-public-sector-lawyers-section-meeting/2029-06-07/
CATEGORIES:Government & Public Sector Lawyers Section
END:VEVENT
BEGIN:VEVENT
DTSTART;TZID=America/Boise:20290607T120000
DTEND;TZID=America/Boise:20290607T130000
DTSTAMP:20260424T084652
CREATED:20241217T201618Z
LAST-MODIFIED:20260401T220138Z
UID:10002674-1875528000-1875531600@isb.idaho.gov
SUMMARY:Health Law Section Meeting
DESCRIPTION:
URL:https://isb.idaho.gov/event/health-law-section-meeting-2-2/2029-06-07/
CATEGORIES:Health Law Section
END:VEVENT
BEGIN:VEVENT
DTSTART;TZID=America/Boise:20290612T120000
DTEND;TZID=America/Boise:20290612T130000
DTSTAMP:20260424T084652
CREATED:20250815T161726Z
LAST-MODIFIED:20260401T221146Z
UID:10003302-1875960000-1875963600@isb.idaho.gov
SUMMARY:Taxation\, Probate & Trust Law Section Meeting
DESCRIPTION:
URL:https://isb.idaho.gov/event/taxation-probate-trust-law-section-meeting-2-2/2029-06-12/
CATEGORIES:Taxation, Probate & Trust Law Section
END:VEVENT
BEGIN:VEVENT
DTSTART;TZID=America/Boise:20290614T120000
DTEND;TZID=America/Boise:20290614T130000
DTSTAMP:20260424T084652
CREATED:20240726T194156Z
LAST-MODIFIED:20260401T215403Z
UID:10002614-1876132800-1876136400@isb.idaho.gov
SUMMARY:Appellate Practice Section Member Meeting
DESCRIPTION:
URL:https://isb.idaho.gov/event/appellate-practice-section-member-meeting/2029-06-14/
CATEGORIES:Appellate Practice Section
END:VEVENT
BEGIN:VEVENT
DTSTART;TZID=America/Boise:20290615T120000
DTEND;TZID=America/Boise:20290615T130000
DTSTAMP:20260424T084652
CREATED:20240726T193626Z
LAST-MODIFIED:20260401T222237Z
UID:10002257-1876219200-1876222800@isb.idaho.gov
SUMMARY:Litigation Section Meeting
DESCRIPTION:
URL:https://isb.idaho.gov/event/litigation-section-meeting/2029-06-15/
CATEGORIES:Litigation Section
END:VEVENT
BEGIN:VEVENT
DTSTART;TZID=America/Boise:20290619T120000
DTEND;TZID=America/Boise:20290619T130000
DTSTAMP:20260424T084652
CREATED:20240726T194141Z
LAST-MODIFIED:20260401T222312Z
UID:10002576-1876564800-1876568400@isb.idaho.gov
SUMMARY:Young Lawyers Section Meeting
DESCRIPTION:
URL:https://isb.idaho.gov/event/young-lawyers-section-meeting/2029-06-19/
CATEGORIES:Young Lawyers Section
END:VEVENT
BEGIN:VEVENT
DTSTART;TZID=America/Boise:20290620T160000
DTEND;TZID=America/Boise:20290620T170000
DTSTAMP:20260424T084652
CREATED:20240726T175006Z
LAST-MODIFIED:20260401T221958Z
UID:10001499-1876665600-1876669200@isb.idaho.gov
SUMMARY:Commercial Law & Bankruptcy Section Meeting
DESCRIPTION:
URL:https://isb.idaho.gov/event/commercial-law-bankruptcy-section-meeting/2029-06-20/
CATEGORIES:Commercial Law & Bankruptcy Section
END:VEVENT
BEGIN:VEVENT
DTSTART;TZID=America/Boise:20290621T120000
DTEND;TZID=America/Boise:20290621T130000
DTSTAMP:20260424T084652
CREATED:20240726T194211Z
LAST-MODIFIED:20260413T151349Z
UID:10002154-1876737600-1876741200@isb.idaho.gov
SUMMARY:Intellectual Property Law Section Meeting
DESCRIPTION:
URL:https://isb.idaho.gov/event/intellectual-property-law-section-meeting/2029-06-21/
CATEGORIES:Intellectual Property Law Section
END:VEVENT
BEGIN:VEVENT
DTSTART;TZID=America/Boise:20290622T120000
DTEND;TZID=America/Boise:20290622T130000
DTSTAMP:20260424T084652
CREATED:20240726T194155Z
LAST-MODIFIED:20260414T145846Z
UID:10001354-1876824000-1876827600@isb.idaho.gov
SUMMARY:Child Protection Section Meeting
DESCRIPTION:
URL:https://isb.idaho.gov/event/child-protection-section-meeting/2029-06-22/
CATEGORIES:Child Protection Section
END:VEVENT
BEGIN:VEVENT
DTSTART;TZID=America/Boise:20290626T120000
DTEND;TZID=America/Boise:20290626T130000
DTSTAMP:20260424T084652
CREATED:20240726T194341Z
LAST-MODIFIED:20260401T221703Z
UID:10001093-1877169600-1877173200@isb.idaho.gov
SUMMARY:Animal Law Section Meeting
DESCRIPTION:
URL:https://isb.idaho.gov/event/animal-law-section-meeting/2029-06-26/
CATEGORIES:Animal Law Section
END:VEVENT
BEGIN:VEVENT
DTSTART;TZID=America/Boise:20290627T120000
DTEND;TZID=America/Boise:20290627T130000
DTSTAMP:20260424T084652
CREATED:20240726T194141Z
LAST-MODIFIED:20260401T222401Z
UID:10001748-1877256000-1877259600@isb.idaho.gov
SUMMARY:Employment & Labor Law Section Meeting
DESCRIPTION:
URL:https://isb.idaho.gov/event/employment-labor-law-section-meeting/2029-06-27/
CATEGORIES:Employment & Labor Law Section
END:VEVENT
END:VCALENDAR