BEGIN:VCALENDAR
VERSION:2.0
PRODID:-//Idaho State Bar - ECPv6.15.20//NONSGML v1.0//EN
CALSCALE:GREGORIAN
METHOD:PUBLISH
X-WR-CALNAME:Idaho State Bar
X-ORIGINAL-URL:https://isb.idaho.gov
X-WR-CALDESC:Events for Idaho State Bar
REFRESH-INTERVAL;VALUE=DURATION:PT1H
X-Robots-Tag:noindex
X-PUBLISHED-TTL:PT1H
BEGIN:VTIMEZONE
TZID:America/Boise
BEGIN:DAYLIGHT
TZOFFSETFROM:-0700
TZOFFSETTO:-0600
TZNAME:MDT
DTSTART:20280312T090000
END:DAYLIGHT
BEGIN:STANDARD
TZOFFSETFROM:-0600
TZOFFSETTO:-0700
TZNAME:MST
DTSTART:20281105T080000
END:STANDARD
BEGIN:DAYLIGHT
TZOFFSETFROM:-0700
TZOFFSETTO:-0600
TZNAME:MDT
DTSTART:20290311T090000
END:DAYLIGHT
BEGIN:STANDARD
TZOFFSETFROM:-0600
TZOFFSETTO:-0700
TZNAME:MST
DTSTART:20291104T080000
END:STANDARD
BEGIN:DAYLIGHT
TZOFFSETFROM:-0700
TZOFFSETTO:-0600
TZNAME:MDT
DTSTART:20300310T090000
END:DAYLIGHT
BEGIN:STANDARD
TZOFFSETFROM:-0600
TZOFFSETTO:-0700
TZNAME:MST
DTSTART:20301103T080000
END:STANDARD
END:VTIMEZONE
BEGIN:VEVENT
DTSTART;TZID=America/Boise:20290502T120000
DTEND;TZID=America/Boise:20290502T130000
DTSTAMP:20260424T110624
CREATED:20240726T185941Z
LAST-MODIFIED:20260401T220244Z
UID:10002387-1872417600-1872421200@isb.idaho.gov
SUMMARY:Real Property Section Meeting
DESCRIPTION:
URL:https://isb.idaho.gov/event/real-property-section-meeting/2029-05-02/
CATEGORIES:Real Property Section
END:VEVENT
BEGIN:VEVENT
DTSTART;TZID=America/Boise:20290503T120000
DTEND;TZID=America/Boise:20290503T130000
DTSTAMP:20260424T110624
CREATED:20240726T194156Z
LAST-MODIFIED:20260401T220217Z
UID:10002000-1872504000-1872507600@isb.idaho.gov
SUMMARY:Government & Public Sector Lawyers Section Meeting
DESCRIPTION:
URL:https://isb.idaho.gov/event/government-public-sector-lawyers-section-meeting/2029-05-03/
CATEGORIES:Government & Public Sector Lawyers Section
END:VEVENT
BEGIN:VEVENT
DTSTART;TZID=America/Boise:20290504T130000
DTEND;TZID=America/Boise:20290504T140000
DTSTAMP:20260424T110624
CREATED:20241209T210534Z
LAST-MODIFIED:20260420T180146Z
UID:10002933-1872594000-1872597600@isb.idaho.gov
SUMMARY:Indian Law Section Meeting
DESCRIPTION:
URL:https://isb.idaho.gov/event/indian-law-section-meeting-2/2029-05-04/
CATEGORIES:Indian Law Section
END:VEVENT
BEGIN:VEVENT
DTSTART;TZID=America/Boise:20290508T120000
DTEND;TZID=America/Boise:20290508T130000
DTSTAMP:20260424T110624
CREATED:20241217T191606Z
LAST-MODIFIED:20260401T223717Z
UID:10002104-1872936000-1872939600@isb.idaho.gov
SUMMARY:Idaho Legal History Section Meeting
DESCRIPTION:
URL:https://isb.idaho.gov/event/idaho-legal-history-section-meeting-2/2029-05-08/
CATEGORIES:Idaho Legal History Section
END:VEVENT
BEGIN:VEVENT
DTSTART;TZID=America/Boise:20290509T120000
DTEND;TZID=America/Boise:20290509T130000
DTSTAMP:20260424T110624
CREATED:20240726T194211Z
LAST-MODIFIED:20260401T220900Z
UID:10001275-1873022400-1873026000@isb.idaho.gov
SUMMARY:Business & Corporate Law Section Meeting
DESCRIPTION:
URL:https://isb.idaho.gov/event/business-corporate-law-section-meeting/2029-05-09/
CATEGORIES:Business & Corporate Law Section
END:VEVENT
BEGIN:VEVENT
DTSTART;TZID=America/Boise:20290510T120000
DTEND;TZID=America/Boise:20290510T130000
DTSTAMP:20260424T110624
CREATED:20240726T175408Z
LAST-MODIFIED:20260401T230113Z
UID:10002474-1873108800-1873112400@isb.idaho.gov
SUMMARY:Water Law Section Meeting
DESCRIPTION:
URL:https://isb.idaho.gov/event/water-law-section-meeting/2029-05-10/
CATEGORIES:Water Law Section
END:VEVENT
BEGIN:VEVENT
DTSTART;TZID=America/Boise:20290511T120000
DTEND;TZID=America/Boise:20290511T130000
DTSTAMP:20260424T110624
CREATED:20240726T194211Z
LAST-MODIFIED:20260401T220951Z
UID:10001896-1873195200-1873198800@isb.idaho.gov
SUMMARY:Family Law Section Meeting
DESCRIPTION:
URL:https://isb.idaho.gov/event/family-law-section-meeting/2029-05-11/
CATEGORIES:Family Law Section
END:VEVENT
BEGIN:VEVENT
DTSTART;TZID=America/Boise:20290515T120000
DTEND;TZID=America/Boise:20290515T130000
DTSTAMP:20260424T110624
CREATED:20240726T194141Z
LAST-MODIFIED:20260401T222312Z
UID:10002575-1873540800-1873544400@isb.idaho.gov
SUMMARY:Young Lawyers Section Meeting
DESCRIPTION:
URL:https://isb.idaho.gov/event/young-lawyers-section-meeting/2029-05-15/
CATEGORIES:Young Lawyers Section
END:VEVENT
BEGIN:VEVENT
DTSTART;TZID=America/Boise:20290516T120000
DTEND;TZID=America/Boise:20290516T130000
DTSTAMP:20260424T110624
CREATED:20250818T165204Z
LAST-MODIFIED:20260401T224318Z
UID:10001610-1873627200-1873630800@isb.idaho.gov
SUMMARY:Dispute Resolution Section Meeting
DESCRIPTION:
URL:https://isb.idaho.gov/event/dispute-resolution-section-meeting-2/2029-05-16/
CATEGORIES:Dispute Resolution Section
END:VEVENT
BEGIN:VEVENT
DTSTART;TZID=America/Boise:20290516T160000
DTEND;TZID=America/Boise:20290516T170000
DTSTAMP:20260424T110624
CREATED:20240726T175006Z
LAST-MODIFIED:20260401T221958Z
UID:10001572-1873641600-1873645200@isb.idaho.gov
SUMMARY:Commercial Law & Bankruptcy Section Meeting
DESCRIPTION:
URL:https://isb.idaho.gov/event/commercial-law-bankruptcy-section-meeting/2029-05-16/
CATEGORIES:Commercial Law & Bankruptcy Section
END:VEVENT
BEGIN:VEVENT
DTSTART;TZID=America/Boise:20290517T120000
DTEND;TZID=America/Boise:20290517T130000
DTSTAMP:20260424T110624
CREATED:20251113T173953Z
LAST-MODIFIED:20260401T224537Z
UID:10001646-1873713600-1873717200@isb.idaho.gov
SUMMARY:Diversity Section Meeting
DESCRIPTION:
URL:https://isb.idaho.gov/event/diversity-section-meeting-4/2029-05-17/
CATEGORIES:Diversity Section
END:VEVENT
BEGIN:VEVENT
DTSTART;TZID=America/Boise:20290518T120000
DTEND;TZID=America/Boise:20290518T130000
DTSTAMP:20260424T110624
CREATED:20240726T193626Z
LAST-MODIFIED:20260401T222237Z
UID:10002256-1873800000-1873803600@isb.idaho.gov
SUMMARY:Litigation Section Meeting
DESCRIPTION:
URL:https://isb.idaho.gov/event/litigation-section-meeting/2029-05-18/
CATEGORIES:Litigation Section
END:VEVENT
BEGIN:VEVENT
DTSTART;TZID=America/Boise:20290522T120000
DTEND;TZID=America/Boise:20290522T130000
DTSTAMP:20260424T110624
CREATED:20250625T154413Z
LAST-MODIFIED:20260401T225401Z
UID:10003170-1874145600-1874149200@isb.idaho.gov
SUMMARY:Technology & Practice Management Section Meeting
DESCRIPTION:
URL:https://isb.idaho.gov/event/technology-property-management-section-meeting-2/2029-05-22/
CATEGORIES:Technology & Practice Management Section
END:VEVENT
BEGIN:VEVENT
DTSTART;TZID=America/Boise:20290523T120000
DTEND;TZID=America/Boise:20290523T130000
DTSTAMP:20260424T110624
CREATED:20240726T173306Z
LAST-MODIFIED:20260401T223343Z
UID:10001827-1874232000-1874235600@isb.idaho.gov
SUMMARY:Environment & Natural Resources Law Section Meeting
DESCRIPTION:
URL:https://isb.idaho.gov/event/environment-natural-resources-law-section-meeting/2029-05-23/
CATEGORIES:Environment & Natural Resources Law Section
END:VEVENT
BEGIN:VEVENT
DTSTART;TZID=America/Boise:20290523T120000
DTEND;TZID=America/Boise:20290523T130000
DTSTAMP:20260424T110624
CREATED:20240726T194141Z
LAST-MODIFIED:20260401T222401Z
UID:10001747-1874232000-1874235600@isb.idaho.gov
SUMMARY:Employment & Labor Law Section Meeting
DESCRIPTION:
URL:https://isb.idaho.gov/event/employment-labor-law-section-meeting/2029-05-23/
CATEGORIES:Employment & Labor Law Section
END:VEVENT
BEGIN:VEVENT
DTSTART;TZID=America/Boise:20290525T120000
DTEND;TZID=America/Boise:20290525T130000
DTSTAMP:20260424T110624
CREATED:20240726T194155Z
LAST-MODIFIED:20260414T145846Z
UID:10001353-1874404800-1874408400@isb.idaho.gov
SUMMARY:Child Protection Section Meeting
DESCRIPTION:
URL:https://isb.idaho.gov/event/child-protection-section-meeting/2029-05-25/
CATEGORIES:Child Protection Section
END:VEVENT
END:VCALENDAR