BEGIN:VCALENDAR
VERSION:2.0
PRODID:-//Idaho State Bar - ECPv6.15.20//NONSGML v1.0//EN
CALSCALE:GREGORIAN
METHOD:PUBLISH
X-WR-CALNAME:Idaho State Bar
X-ORIGINAL-URL:https://isb.idaho.gov
X-WR-CALDESC:Events for Idaho State Bar
REFRESH-INTERVAL;VALUE=DURATION:PT1H
X-Robots-Tag:noindex
X-PUBLISHED-TTL:PT1H
BEGIN:VTIMEZONE
TZID:America/Boise
BEGIN:DAYLIGHT
TZOFFSETFROM:-0700
TZOFFSETTO:-0600
TZNAME:MDT
DTSTART:20280312T090000
END:DAYLIGHT
BEGIN:STANDARD
TZOFFSETFROM:-0600
TZOFFSETTO:-0700
TZNAME:MST
DTSTART:20281105T080000
END:STANDARD
BEGIN:DAYLIGHT
TZOFFSETFROM:-0700
TZOFFSETTO:-0600
TZNAME:MDT
DTSTART:20290311T090000
END:DAYLIGHT
BEGIN:STANDARD
TZOFFSETFROM:-0600
TZOFFSETTO:-0700
TZNAME:MST
DTSTART:20291104T080000
END:STANDARD
BEGIN:DAYLIGHT
TZOFFSETFROM:-0700
TZOFFSETTO:-0600
TZNAME:MDT
DTSTART:20300310T090000
END:DAYLIGHT
BEGIN:STANDARD
TZOFFSETFROM:-0600
TZOFFSETTO:-0700
TZNAME:MST
DTSTART:20301103T080000
END:STANDARD
END:VTIMEZONE
BEGIN:VEVENT
DTSTART;TZID=America/Boise:20290301T120000
DTEND;TZID=America/Boise:20290301T130000
DTSTAMP:20260424T160951
CREATED:20240726T194156Z
LAST-MODIFIED:20260401T220217Z
UID:10001998-1867060800-1867064400@isb.idaho.gov
SUMMARY:Government & Public Sector Lawyers Section Meeting
DESCRIPTION:
URL:https://isb.idaho.gov/event/government-public-sector-lawyers-section-meeting/2029-03-01/
CATEGORIES:Government & Public Sector Lawyers Section
END:VEVENT
BEGIN:VEVENT
DTSTART;TZID=America/Boise:20290302T130000
DTEND;TZID=America/Boise:20290302T140000
DTSTAMP:20260424T160951
CREATED:20241209T210534Z
LAST-MODIFIED:20260420T180146Z
UID:10002931-1867150800-1867154400@isb.idaho.gov
SUMMARY:Indian Law Section Meeting
DESCRIPTION:
URL:https://isb.idaho.gov/event/indian-law-section-meeting-2/2029-03-02/
CATEGORIES:Indian Law Section
END:VEVENT
BEGIN:VEVENT
DTSTART;TZID=America/Boise:20290307T120000
DTEND;TZID=America/Boise:20290307T130000
DTSTAMP:20260424T160951
CREATED:20240726T185941Z
LAST-MODIFIED:20260401T220244Z
UID:10002385-1867579200-1867582800@isb.idaho.gov
SUMMARY:Real Property Section Meeting
DESCRIPTION:
URL:https://isb.idaho.gov/event/real-property-section-meeting/2029-03-07/
CATEGORIES:Real Property Section
END:VEVENT
BEGIN:VEVENT
DTSTART;TZID=America/Boise:20290308T120000
DTEND;TZID=America/Boise:20290308T130000
DTSTAMP:20260424T160951
CREATED:20240726T175408Z
LAST-MODIFIED:20260401T230113Z
UID:10002473-1867665600-1867669200@isb.idaho.gov
SUMMARY:Water Law Section Meeting
DESCRIPTION:
URL:https://isb.idaho.gov/event/water-law-section-meeting/2029-03-08/
CATEGORIES:Water Law Section
END:VEVENT
BEGIN:VEVENT
DTSTART;TZID=America/Boise:20290309T120000
DTEND;TZID=America/Boise:20290309T130000
DTSTAMP:20260424T160951
CREATED:20240726T194211Z
LAST-MODIFIED:20260401T220951Z
UID:10001894-1867752000-1867755600@isb.idaho.gov
SUMMARY:Family Law Section Meeting
DESCRIPTION:
URL:https://isb.idaho.gov/event/family-law-section-meeting/2029-03-09/
CATEGORIES:Family Law Section
END:VEVENT
BEGIN:VEVENT
DTSTART;TZID=America/Boise:20290313T120000
DTEND;TZID=America/Boise:20290313T130000
DTSTAMP:20260424T160951
CREATED:20241217T191606Z
LAST-MODIFIED:20260401T223717Z
UID:10002103-1868097600-1868101200@isb.idaho.gov
SUMMARY:Idaho Legal History Section Meeting
DESCRIPTION:
URL:https://isb.idaho.gov/event/idaho-legal-history-section-meeting-2/2029-03-13/
CATEGORIES:Idaho Legal History Section
END:VEVENT
BEGIN:VEVENT
DTSTART;TZID=America/Boise:20290314T120000
DTEND;TZID=America/Boise:20290314T130000
DTSTAMP:20260424T160951
CREATED:20240726T194211Z
LAST-MODIFIED:20260401T220900Z
UID:10001273-1868184000-1868187600@isb.idaho.gov
SUMMARY:Business & Corporate Law Section Meeting
DESCRIPTION:
URL:https://isb.idaho.gov/event/business-corporate-law-section-meeting/2029-03-14/
CATEGORIES:Business & Corporate Law Section
END:VEVENT
BEGIN:VEVENT
DTSTART;TZID=America/Boise:20290315T120000
DTEND;TZID=America/Boise:20290315T130000
DTSTAMP:20260424T160951
CREATED:20251113T173953Z
LAST-MODIFIED:20260401T224537Z
UID:10001645-1868270400-1868274000@isb.idaho.gov
SUMMARY:Diversity Section Meeting
DESCRIPTION:
URL:https://isb.idaho.gov/event/diversity-section-meeting-4/2029-03-15/
CATEGORIES:Diversity Section
END:VEVENT
BEGIN:VEVENT
DTSTART;TZID=America/Boise:20290316T120000
DTEND;TZID=America/Boise:20290316T130000
DTSTAMP:20260424T160951
CREATED:20240726T193626Z
LAST-MODIFIED:20260401T222237Z
UID:10002254-1868356800-1868360400@isb.idaho.gov
SUMMARY:Litigation Section Meeting
DESCRIPTION:
URL:https://isb.idaho.gov/event/litigation-section-meeting/2029-03-16/
CATEGORIES:Litigation Section
END:VEVENT
BEGIN:VEVENT
DTSTART;TZID=America/Boise:20290320T120000
DTEND;TZID=America/Boise:20290320T130000
DTSTAMP:20260424T160951
CREATED:20240726T194141Z
LAST-MODIFIED:20260401T222312Z
UID:10002573-1868702400-1868706000@isb.idaho.gov
SUMMARY:Young Lawyers Section Meeting
DESCRIPTION:
URL:https://isb.idaho.gov/event/young-lawyers-section-meeting/2029-03-20/
CATEGORIES:Young Lawyers Section
END:VEVENT
BEGIN:VEVENT
DTSTART;TZID=America/Boise:20290321T160000
DTEND;TZID=America/Boise:20290321T170000
DTSTAMP:20260424T160951
CREATED:20240726T175006Z
LAST-MODIFIED:20260401T221958Z
UID:10001571-1868803200-1868806800@isb.idaho.gov
SUMMARY:Commercial Law & Bankruptcy Section Meeting
DESCRIPTION:
URL:https://isb.idaho.gov/event/commercial-law-bankruptcy-section-meeting/2029-03-21/
CATEGORIES:Commercial Law & Bankruptcy Section
END:VEVENT
BEGIN:VEVENT
DTSTART;TZID=America/Boise:20290323T120000
DTEND;TZID=America/Boise:20290323T130000
DTSTAMP:20260424T160951
CREATED:20240726T194155Z
LAST-MODIFIED:20260414T145846Z
UID:10001351-1868961600-1868965200@isb.idaho.gov
SUMMARY:Child Protection Section Meeting
DESCRIPTION:
URL:https://isb.idaho.gov/event/child-protection-section-meeting/2029-03-23/
CATEGORIES:Child Protection Section
END:VEVENT
BEGIN:VEVENT
DTSTART;TZID=America/Boise:20290327T120000
DTEND;TZID=America/Boise:20290327T130000
DTSTAMP:20260424T160951
CREATED:20250625T154413Z
LAST-MODIFIED:20260401T225401Z
UID:10003518-1869307200-1869310800@isb.idaho.gov
SUMMARY:Technology & Practice Management Section Meeting
DESCRIPTION:
URL:https://isb.idaho.gov/event/technology-property-management-section-meeting-2/2029-03-27/
CATEGORIES:Technology & Practice Management Section
END:VEVENT
BEGIN:VEVENT
DTSTART;TZID=America/Boise:20290328T120000
DTEND;TZID=America/Boise:20290328T130000
DTSTAMP:20260424T160951
CREATED:20240726T173306Z
LAST-MODIFIED:20260401T223343Z
UID:10001825-1869393600-1869397200@isb.idaho.gov
SUMMARY:Environment & Natural Resources Law Section Meeting
DESCRIPTION:
URL:https://isb.idaho.gov/event/environment-natural-resources-law-section-meeting/2029-03-28/
CATEGORIES:Environment & Natural Resources Law Section
END:VEVENT
BEGIN:VEVENT
DTSTART;TZID=America/Boise:20290328T120000
DTEND;TZID=America/Boise:20290328T130000
DTSTAMP:20260424T160951
CREATED:20240726T194141Z
LAST-MODIFIED:20260401T222401Z
UID:10001745-1869393600-1869397200@isb.idaho.gov
SUMMARY:Employment & Labor Law Section Meeting
DESCRIPTION:
URL:https://isb.idaho.gov/event/employment-labor-law-section-meeting/2029-03-28/
CATEGORIES:Employment & Labor Law Section
END:VEVENT
END:VCALENDAR