BEGIN:VCALENDAR
VERSION:2.0
PRODID:-//Idaho State Bar - ECPv6.15.20//NONSGML v1.0//EN
CALSCALE:GREGORIAN
METHOD:PUBLISH
X-WR-CALNAME:Idaho State Bar
X-ORIGINAL-URL:https://isb.idaho.gov
X-WR-CALDESC:Events for Idaho State Bar
REFRESH-INTERVAL;VALUE=DURATION:PT1H
X-Robots-Tag:noindex
X-PUBLISHED-TTL:PT1H
BEGIN:VTIMEZONE
TZID:America/Boise
BEGIN:DAYLIGHT
TZOFFSETFROM:-0700
TZOFFSETTO:-0600
TZNAME:MDT
DTSTART:20260308T090000
END:DAYLIGHT
BEGIN:STANDARD
TZOFFSETFROM:-0600
TZOFFSETTO:-0700
TZNAME:MST
DTSTART:20261101T080000
END:STANDARD
BEGIN:DAYLIGHT
TZOFFSETFROM:-0700
TZOFFSETTO:-0600
TZNAME:MDT
DTSTART:20270314T090000
END:DAYLIGHT
BEGIN:STANDARD
TZOFFSETFROM:-0600
TZOFFSETTO:-0700
TZNAME:MST
DTSTART:20271107T080000
END:STANDARD
BEGIN:DAYLIGHT
TZOFFSETFROM:-0700
TZOFFSETTO:-0600
TZNAME:MDT
DTSTART:20280312T090000
END:DAYLIGHT
BEGIN:STANDARD
TZOFFSETFROM:-0600
TZOFFSETTO:-0700
TZNAME:MST
DTSTART:20281105T080000
END:STANDARD
END:VTIMEZONE
BEGIN:VEVENT
DTSTART;TZID=America/Boise:20270327T080000
DTEND;TZID=America/Boise:20270407T170000
DTSTAMP:20260424T090413
CREATED:20260210T222140Z
LAST-MODIFIED:20260226T180541Z
UID:10003543-1806134400-1807117200@isb.idaho.gov
SUMMARY:2027 Malta & Sicily CLE Trip
DESCRIPTION:
URL:https://isb.idaho.gov/event/2027-malta-sicily-cle-trip/
CATEGORIES:Continuing Legal Education
END:VEVENT
BEGIN:VEVENT
DTSTART;TZID=America/Boise:20270401T120000
DTEND;TZID=America/Boise:20270401T130000
DTSTAMP:20260424T090413
CREATED:20240726T194156Z
LAST-MODIFIED:20260401T220217Z
UID:10001975-1806580800-1806584400@isb.idaho.gov
SUMMARY:Government & Public Sector Lawyers Section Meeting
DESCRIPTION:
URL:https://isb.idaho.gov/event/government-public-sector-lawyers-section-meeting/2027-04-01/
CATEGORIES:Government & Public Sector Lawyers Section
END:VEVENT
BEGIN:VEVENT
DTSTART;TZID=America/Boise:20270401T120000
DTEND;TZID=America/Boise:20270401T130000
DTSTAMP:20260424T090413
CREATED:20241217T201618Z
LAST-MODIFIED:20260401T220138Z
UID:10002661-1806580800-1806584400@isb.idaho.gov
SUMMARY:Health Law Section Meeting
DESCRIPTION:
URL:https://isb.idaho.gov/event/health-law-section-meeting-2-2/2027-04-01/
CATEGORIES:Health Law Section
END:VEVENT
BEGIN:VEVENT
DTSTART;TZID=America/Boise:20270402T130000
DTEND;TZID=America/Boise:20270402T140000
DTSTAMP:20260424T090413
CREATED:20241209T210534Z
LAST-MODIFIED:20260420T180146Z
UID:10002908-1806670800-1806674400@isb.idaho.gov
SUMMARY:Indian Law Section Meeting
DESCRIPTION:
URL:https://isb.idaho.gov/event/indian-law-section-meeting-2/2027-04-02/
CATEGORIES:Indian Law Section
END:VEVENT
BEGIN:VEVENT
DTSTART;TZID=America/Boise:20270406T120000
DTEND;TZID=America/Boise:20270406T130000
DTSTAMP:20260424T090413
CREATED:20250811T192221Z
LAST-MODIFIED:20260401T220614Z
UID:10003208-1807012800-1807016400@isb.idaho.gov
SUMMARY:Professionalism & Ethics Section Meeting
DESCRIPTION:
URL:https://isb.idaho.gov/event/professionalism-ethics-section-meeting-2-2/2027-04-06/
CATEGORIES:Professionalism & Ethics Section
END:VEVENT
BEGIN:VEVENT
DTSTART;TZID=America/Boise:20270407T120000
DTEND;TZID=America/Boise:20270407T130000
DTSTAMP:20260424T090413
CREATED:20240726T185941Z
LAST-MODIFIED:20260401T220244Z
UID:10002368-1807099200-1807102800@isb.idaho.gov
SUMMARY:Real Property Section Meeting
DESCRIPTION:
URL:https://isb.idaho.gov/event/real-property-section-meeting/2027-04-07/
CATEGORIES:Real Property Section
END:VEVENT
BEGIN:VEVENT
DTSTART;TZID=America/Boise:20270408T120000
DTEND;TZID=America/Boise:20270408T130000
DTSTAMP:20260424T090413
CREATED:20240726T194156Z
LAST-MODIFIED:20260401T215403Z
UID:10002605-1807185600-1807189200@isb.idaho.gov
SUMMARY:Appellate Practice Section Member Meeting
DESCRIPTION:
URL:https://isb.idaho.gov/event/appellate-practice-section-member-meeting/2027-04-08/
CATEGORIES:Appellate Practice Section
END:VEVENT
BEGIN:VEVENT
DTSTART;TZID=America/Boise:20270409T120000
DTEND;TZID=America/Boise:20270409T130000
DTSTAMP:20260424T090413
CREATED:20240726T194211Z
LAST-MODIFIED:20260401T220951Z
UID:10001871-1807272000-1807275600@isb.idaho.gov
SUMMARY:Family Law Section Meeting
DESCRIPTION:
URL:https://isb.idaho.gov/event/family-law-section-meeting/2027-04-09/
CATEGORIES:Family Law Section
END:VEVENT
BEGIN:VEVENT
DTSTART;TZID=America/Boise:20270413T120000
DTEND;TZID=America/Boise:20270413T130000
DTSTAMP:20260424T090413
CREATED:20250815T161726Z
LAST-MODIFIED:20260401T221146Z
UID:10003293-1807617600-1807621200@isb.idaho.gov
SUMMARY:Taxation\, Probate & Trust Law Section Meeting
DESCRIPTION:
URL:https://isb.idaho.gov/event/taxation-probate-trust-law-section-meeting-2-2/2027-04-13/
CATEGORIES:Taxation, Probate & Trust Law Section
END:VEVENT
BEGIN:VEVENT
DTSTART;TZID=America/Boise:20270414T120000
DTEND;TZID=America/Boise:20270414T130000
DTSTAMP:20260424T090413
CREATED:20240726T194211Z
LAST-MODIFIED:20260401T220900Z
UID:10001256-1807704000-1807707600@isb.idaho.gov
SUMMARY:Business & Corporate Law Section Meeting
DESCRIPTION:
URL:https://isb.idaho.gov/event/business-corporate-law-section-meeting/2027-04-14/
CATEGORIES:Business & Corporate Law Section
END:VEVENT
BEGIN:VEVENT
DTSTART;TZID=America/Boise:20270415T120000
DTEND;TZID=America/Boise:20270415T130000
DTSTAMP:20260424T090413
CREATED:20240726T194211Z
LAST-MODIFIED:20260413T151349Z
UID:10002141-1807790400-1807794000@isb.idaho.gov
SUMMARY:Intellectual Property Law Section Meeting
DESCRIPTION:
URL:https://isb.idaho.gov/event/intellectual-property-law-section-meeting/2027-04-15/
CATEGORIES:Intellectual Property Law Section
END:VEVENT
BEGIN:VEVENT
DTSTART;TZID=America/Boise:20270416T120000
DTEND;TZID=America/Boise:20270416T130000
DTSTAMP:20260424T090413
CREATED:20240726T193626Z
LAST-MODIFIED:20260401T222237Z
UID:10002231-1807876800-1807880400@isb.idaho.gov
SUMMARY:Litigation Section Meeting
DESCRIPTION:
URL:https://isb.idaho.gov/event/litigation-section-meeting/2027-04-16/
CATEGORIES:Litigation Section
END:VEVENT
BEGIN:VEVENT
DTSTART;TZID=America/Boise:20270420T120000
DTEND;TZID=America/Boise:20270420T130000
DTSTAMP:20260424T090413
CREATED:20240726T194141Z
LAST-MODIFIED:20260401T222312Z
UID:10002550-1808222400-1808226000@isb.idaho.gov
SUMMARY:Young Lawyers Section Meeting
DESCRIPTION:
URL:https://isb.idaho.gov/event/young-lawyers-section-meeting/2027-04-20/
CATEGORIES:Young Lawyers Section
END:VEVENT
BEGIN:VEVENT
DTSTART;TZID=America/Boise:20270421T160000
DTEND;TZID=America/Boise:20270421T170000
DTSTAMP:20260424T090413
CREATED:20240726T175006Z
LAST-MODIFIED:20260401T221958Z
UID:10001555-1808323200-1808326800@isb.idaho.gov
SUMMARY:Commercial Law & Bankruptcy Section Meeting
DESCRIPTION:
URL:https://isb.idaho.gov/event/commercial-law-bankruptcy-section-meeting/2027-04-21/
CATEGORIES:Commercial Law & Bankruptcy Section
END:VEVENT
BEGIN:VEVENT
DTSTART;TZID=America/Boise:20270422T120000
DTEND;TZID=America/Boise:20270422T130000
DTSTAMP:20260424T090413
CREATED:20240726T194141Z
LAST-MODIFIED:20260401T221917Z
UID:10001019-1808395200-1808398800@isb.idaho.gov
SUMMARY:Agricultural Law Section Meeting
DESCRIPTION:
URL:https://isb.idaho.gov/event/agricultural-law-section-meeting/2027-04-22/
CATEGORIES:Agricultural Law Section
END:VEVENT
BEGIN:VEVENT
DTSTART;TZID=America/Boise:20270423T120000
DTEND;TZID=America/Boise:20270423T130000
DTSTAMP:20260424T090413
CREATED:20240726T194155Z
LAST-MODIFIED:20260414T145846Z
UID:10001334-1808481600-1808485200@isb.idaho.gov
SUMMARY:Child Protection Section Meeting
DESCRIPTION:
URL:https://isb.idaho.gov/event/child-protection-section-meeting/2027-04-23/
CATEGORIES:Child Protection Section
END:VEVENT
BEGIN:VEVENT
DTSTART;TZID=America/Boise:20270427T120000
DTEND;TZID=America/Boise:20270427T130000
DTSTAMP:20260424T090413
CREATED:20240726T194341Z
LAST-MODIFIED:20260401T221703Z
UID:10001080-1808827200-1808830800@isb.idaho.gov
SUMMARY:Animal Law Section Meeting
DESCRIPTION:
URL:https://isb.idaho.gov/event/animal-law-section-meeting/2027-04-27/
CATEGORIES:Animal Law Section
END:VEVENT
BEGIN:VEVENT
DTSTART;TZID=America/Boise:20270428T120000
DTEND;TZID=America/Boise:20270428T130000
DTSTAMP:20260424T090413
CREATED:20240726T173306Z
LAST-MODIFIED:20260401T223343Z
UID:10001808-1808913600-1808917200@isb.idaho.gov
SUMMARY:Environment & Natural Resources Law Section Meeting
DESCRIPTION:
URL:https://isb.idaho.gov/event/environment-natural-resources-law-section-meeting/2027-04-28/
CATEGORIES:Environment & Natural Resources Law Section
END:VEVENT
BEGIN:VEVENT
DTSTART;TZID=America/Boise:20270428T120000
DTEND;TZID=America/Boise:20270428T130000
DTSTAMP:20260424T090413
CREATED:20240726T194141Z
LAST-MODIFIED:20260401T222401Z
UID:10001722-1808913600-1808917200@isb.idaho.gov
SUMMARY:Employment & Labor Law Section Meeting
DESCRIPTION:
URL:https://isb.idaho.gov/event/employment-labor-law-section-meeting/2027-04-28/
CATEGORIES:Employment & Labor Law Section
END:VEVENT
END:VCALENDAR