BEGIN:VCALENDAR
VERSION:2.0
PRODID:-//Idaho State Bar - ECPv6.15.20//NONSGML v1.0//EN
CALSCALE:GREGORIAN
METHOD:PUBLISH
X-WR-CALNAME:Idaho State Bar
X-ORIGINAL-URL:https://isb.idaho.gov
X-WR-CALDESC:Events for Idaho State Bar
REFRESH-INTERVAL;VALUE=DURATION:PT1H
X-Robots-Tag:noindex
X-PUBLISHED-TTL:PT1H
BEGIN:VTIMEZONE
TZID:America/Boise
BEGIN:DAYLIGHT
TZOFFSETFROM:-0700
TZOFFSETTO:-0600
TZNAME:MDT
DTSTART:20250309T090000
END:DAYLIGHT
BEGIN:STANDARD
TZOFFSETFROM:-0600
TZOFFSETTO:-0700
TZNAME:MST
DTSTART:20251102T080000
END:STANDARD
BEGIN:DAYLIGHT
TZOFFSETFROM:-0700
TZOFFSETTO:-0600
TZNAME:MDT
DTSTART:20260308T090000
END:DAYLIGHT
BEGIN:STANDARD
TZOFFSETFROM:-0600
TZOFFSETTO:-0700
TZNAME:MST
DTSTART:20261101T080000
END:STANDARD
BEGIN:DAYLIGHT
TZOFFSETFROM:-0700
TZOFFSETTO:-0600
TZNAME:MDT
DTSTART:20270314T090000
END:DAYLIGHT
BEGIN:STANDARD
TZOFFSETFROM:-0600
TZOFFSETTO:-0700
TZNAME:MST
DTSTART:20271107T080000
END:STANDARD
END:VTIMEZONE
BEGIN:VEVENT
DTSTART;TZID=America/Boise:20261024T080000
DTEND;TZID=America/Boise:20261101T170000
DTSTAMP:20260424T210300
CREATED:20250530T182417Z
LAST-MODIFIED:20260226T181431Z
UID:10003108-1792828800-1793552400@isb.idaho.gov
SUMMARY:2026 Casablanca\, Morocco
DESCRIPTION:
URL:https://isb.idaho.gov/event/morocco-3-cities/
CATEGORIES:Continuing Legal Education
END:VEVENT
BEGIN:VEVENT
DTSTART;TZID=America/Boise:20261025T080000
DTEND;TZID=America/Boise:20261101T170000
DTSTAMP:20260424T210300
CREATED:20260127T194103Z
LAST-MODIFIED:20260226T181328Z
UID:10003531-1792915200-1793552400@isb.idaho.gov
SUMMARY:2026 Western Caribbean CLE at Sea – Halloween Cruise
DESCRIPTION:
URL:https://isb.idaho.gov/event/2026-western-caribbean-cruise/
CATEGORIES:Continuing Legal Education
END:VEVENT
BEGIN:VEVENT
DTSTART;TZID=America/Boise:20261104T120000
DTEND;TZID=America/Boise:20261104T130000
DTSTAMP:20260424T210300
CREATED:20240726T185941Z
LAST-MODIFIED:20260401T220244Z
UID:10002363-1793793600-1793797200@isb.idaho.gov
SUMMARY:Real Property Section Meeting
DESCRIPTION:
URL:https://isb.idaho.gov/event/real-property-section-meeting/2026-11-04/
CATEGORIES:Real Property Section
END:VEVENT
BEGIN:VEVENT
DTSTART;TZID=America/Boise:20261105T120000
DTEND;TZID=America/Boise:20261105T130000
DTSTAMP:20260424T210300
CREATED:20240726T194156Z
LAST-MODIFIED:20260401T220217Z
UID:10001970-1793880000-1793883600@isb.idaho.gov
SUMMARY:Government & Public Sector Lawyers Section Meeting
DESCRIPTION:
URL:https://isb.idaho.gov/event/government-public-sector-lawyers-section-meeting/2026-11-05/
CATEGORIES:Government & Public Sector Lawyers Section
END:VEVENT
BEGIN:VEVENT
DTSTART;TZID=America/Boise:20261106T130000
DTEND;TZID=America/Boise:20261106T140000
DTSTAMP:20260424T210300
CREATED:20241209T210534Z
LAST-MODIFIED:20260420T180146Z
UID:10002903-1793970000-1793973600@isb.idaho.gov
SUMMARY:Indian Law Section Meeting
DESCRIPTION:
URL:https://isb.idaho.gov/event/indian-law-section-meeting-2/2026-11-06/
CATEGORIES:Indian Law Section
END:VEVENT
BEGIN:VEVENT
DTSTART;TZID=America/Boise:20261108T080000
DTEND;TZID=America/Boise:20261115T170000
DTSTAMP:20260424T210300
CREATED:20250530T182600Z
LAST-MODIFIED:20260226T181213Z
UID:10003109-1794124800-1794762000@isb.idaho.gov
SUMMARY:2026 Thailand
DESCRIPTION:
URL:https://isb.idaho.gov/event/chiang-mai-chiang-rai-thailand/
CATEGORIES:Continuing Legal Education
END:VEVENT
BEGIN:VEVENT
DTSTART;TZID=America/Boise:20261110T120000
DTEND;TZID=America/Boise:20261110T130000
DTSTAMP:20260424T210300
CREATED:20250815T161726Z
LAST-MODIFIED:20260401T221146Z
UID:10003291-1794312000-1794315600@isb.idaho.gov
SUMMARY:Taxation\, Probate & Trust Law Section Meeting
DESCRIPTION:
URL:https://isb.idaho.gov/event/taxation-probate-trust-law-section-meeting-2-2/2026-11-10/
CATEGORIES:Taxation, Probate & Trust Law Section
END:VEVENT
BEGIN:VEVENT
DTSTART;TZID=America/Boise:20261111T120000
DTEND;TZID=America/Boise:20261111T130000
DTSTAMP:20260424T210300
CREATED:20240726T194211Z
LAST-MODIFIED:20260401T220900Z
UID:10001251-1794398400-1794402000@isb.idaho.gov
SUMMARY:Business & Corporate Law Section Meeting
DESCRIPTION:
URL:https://isb.idaho.gov/event/business-corporate-law-section-meeting/2026-11-11/
CATEGORIES:Business & Corporate Law Section
END:VEVENT
BEGIN:VEVENT
DTSTART;TZID=America/Boise:20261112T120000
DTEND;TZID=America/Boise:20261112T130000
DTSTAMP:20260424T210300
CREATED:20240726T175408Z
LAST-MODIFIED:20260401T230113Z
UID:10002459-1794484800-1794488400@isb.idaho.gov
SUMMARY:Water Law Section Meeting
DESCRIPTION:
URL:https://isb.idaho.gov/event/water-law-section-meeting/2026-11-12/
CATEGORIES:Water Law Section
END:VEVENT
BEGIN:VEVENT
DTSTART;TZID=America/Boise:20261113T120000
DTEND;TZID=America/Boise:20261113T130000
DTSTAMP:20260424T210300
CREATED:20240726T194211Z
LAST-MODIFIED:20260401T220951Z
UID:10001866-1794571200-1794574800@isb.idaho.gov
SUMMARY:Family Law Section Meeting
DESCRIPTION:
URL:https://isb.idaho.gov/event/family-law-section-meeting/2026-11-13/
CATEGORIES:Family Law Section
END:VEVENT
BEGIN:VEVENT
DTSTART;TZID=America/Boise:20261117T120000
DTEND;TZID=America/Boise:20261117T130000
DTSTAMP:20260424T210300
CREATED:20240726T194141Z
LAST-MODIFIED:20260401T222312Z
UID:10002545-1794916800-1794920400@isb.idaho.gov
SUMMARY:Young Lawyers Section Meeting
DESCRIPTION:
URL:https://isb.idaho.gov/event/young-lawyers-section-meeting/2026-11-17/
CATEGORIES:Young Lawyers Section
END:VEVENT
BEGIN:VEVENT
DTSTART;TZID=America/Boise:20261118T120000
DTEND;TZID=America/Boise:20261118T130000
DTSTAMP:20260424T210300
CREATED:20250818T165204Z
LAST-MODIFIED:20260401T224318Z
UID:10001600-1795003200-1795006800@isb.idaho.gov
SUMMARY:Dispute Resolution Section Meeting
DESCRIPTION:
URL:https://isb.idaho.gov/event/dispute-resolution-section-meeting-2/2026-11-18/
CATEGORIES:Dispute Resolution Section
END:VEVENT
BEGIN:VEVENT
DTSTART;TZID=America/Boise:20261118T160000
DTEND;TZID=America/Boise:20261118T170000
DTSTAMP:20260424T210300
CREATED:20240726T175006Z
LAST-MODIFIED:20260401T221958Z
UID:10001454-1795017600-1795021200@isb.idaho.gov
SUMMARY:Commercial Law & Bankruptcy Section Meeting
DESCRIPTION:
URL:https://isb.idaho.gov/event/commercial-law-bankruptcy-section-meeting/2026-11-18/
CATEGORIES:Commercial Law & Bankruptcy Section
END:VEVENT
BEGIN:VEVENT
DTSTART;TZID=America/Boise:20261119T120000
DTEND;TZID=America/Boise:20261119T130000
DTSTAMP:20260424T210300
CREATED:20251113T173953Z
LAST-MODIFIED:20260401T224537Z
UID:10001631-1795089600-1795093200@isb.idaho.gov
SUMMARY:Diversity Section Meeting
DESCRIPTION:
URL:https://isb.idaho.gov/event/diversity-section-meeting-4/2026-11-19/
CATEGORIES:Diversity Section
END:VEVENT
BEGIN:VEVENT
DTSTART;TZID=America/Boise:20261120T120000
DTEND;TZID=America/Boise:20261120T130000
DTSTAMP:20260424T210300
CREATED:20240726T193626Z
LAST-MODIFIED:20260401T222237Z
UID:10002226-1795176000-1795179600@isb.idaho.gov
SUMMARY:Litigation Section Meeting
DESCRIPTION:
URL:https://isb.idaho.gov/event/litigation-section-meeting/2026-11-20/
CATEGORIES:Litigation Section
END:VEVENT
BEGIN:VEVENT
DTSTART;TZID=America/Boise:20261124T120000
DTEND;TZID=America/Boise:20261124T130000
DTSTAMP:20260424T210300
CREATED:20250625T154413Z
LAST-MODIFIED:20260401T225401Z
UID:10003160-1795521600-1795525200@isb.idaho.gov
SUMMARY:Technology & Practice Management Section Meeting
DESCRIPTION:
URL:https://isb.idaho.gov/event/technology-property-management-section-meeting-2/2026-11-24/
CATEGORIES:Technology & Practice Management Section
END:VEVENT
BEGIN:VEVENT
DTSTART;TZID=America/Boise:20261125T120000
DTEND;TZID=America/Boise:20261125T130000
DTSTAMP:20260424T210300
CREATED:20240726T173306Z
LAST-MODIFIED:20260401T223343Z
UID:10001803-1795608000-1795611600@isb.idaho.gov
SUMMARY:Environment & Natural Resources Law Section Meeting
DESCRIPTION:
URL:https://isb.idaho.gov/event/environment-natural-resources-law-section-meeting/2026-11-25/
CATEGORIES:Environment & Natural Resources Law Section
END:VEVENT
BEGIN:VEVENT
DTSTART;TZID=America/Boise:20261125T120000
DTEND;TZID=America/Boise:20261125T130000
DTSTAMP:20260424T210300
CREATED:20240726T194141Z
LAST-MODIFIED:20260401T222401Z
UID:10001717-1795608000-1795611600@isb.idaho.gov
SUMMARY:Employment & Labor Law Section Meeting
DESCRIPTION:
URL:https://isb.idaho.gov/event/employment-labor-law-section-meeting/2026-11-25/
CATEGORIES:Employment & Labor Law Section
END:VEVENT
END:VCALENDAR