BEGIN:VCALENDAR
VERSION:2.0
PRODID:-//Idaho State Bar - ECPv6.15.20//NONSGML v1.0//EN
CALSCALE:GREGORIAN
METHOD:PUBLISH
X-WR-CALNAME:Idaho State Bar
X-ORIGINAL-URL:https://isb.idaho.gov
X-WR-CALDESC:Events for Idaho State Bar
REFRESH-INTERVAL;VALUE=DURATION:PT1H
X-Robots-Tag:noindex
X-PUBLISHED-TTL:PT1H
BEGIN:VTIMEZONE
TZID:America/Boise
BEGIN:DAYLIGHT
TZOFFSETFROM:-0700
TZOFFSETTO:-0600
TZNAME:MDT
DTSTART:20250309T090000
END:DAYLIGHT
BEGIN:STANDARD
TZOFFSETFROM:-0600
TZOFFSETTO:-0700
TZNAME:MST
DTSTART:20251102T080000
END:STANDARD
BEGIN:DAYLIGHT
TZOFFSETFROM:-0700
TZOFFSETTO:-0600
TZNAME:MDT
DTSTART:20260308T090000
END:DAYLIGHT
BEGIN:STANDARD
TZOFFSETFROM:-0600
TZOFFSETTO:-0700
TZNAME:MST
DTSTART:20261101T080000
END:STANDARD
BEGIN:DAYLIGHT
TZOFFSETFROM:-0700
TZOFFSETTO:-0600
TZNAME:MDT
DTSTART:20270314T090000
END:DAYLIGHT
BEGIN:STANDARD
TZOFFSETFROM:-0600
TZOFFSETTO:-0700
TZNAME:MST
DTSTART:20271107T080000
END:STANDARD
END:VTIMEZONE
BEGIN:VEVENT
DTSTART;TZID=America/Boise:20260228T080000
DTEND;TZID=America/Boise:20260308T170000
DTSTAMP:20260424T132747
CREATED:20250530T174257Z
LAST-MODIFIED:20260226T193219Z
UID:10003103-1772265600-1772989200@isb.idaho.gov
SUMMARY:2026 Caribbean Cruise - SOLD OUT
DESCRIPTION:
URL:https://isb.idaho.gov/event/2026-caribbean-with-abc-islands/
CATEGORIES:Continuing Legal Education
END:VEVENT
BEGIN:VEVENT
DTSTART;TZID=America/Boise:20260304T120000
DTEND;TZID=America/Boise:20260304T130000
DTSTAMP:20260424T132747
CREATED:20240726T185941Z
LAST-MODIFIED:20260401T220244Z
UID:10002358-1772625600-1772629200@isb.idaho.gov
SUMMARY:Real Property Section Meeting
DESCRIPTION:
URL:https://isb.idaho.gov/event/real-property-section-meeting/2026-03-04/
CATEGORIES:Real Property Section
END:VEVENT
BEGIN:VEVENT
DTSTART;TZID=America/Boise:20260305T090000
DTEND;TZID=America/Boise:20260305T123000
DTSTAMP:20260424T132747
CREATED:20260204T181533Z
LAST-MODIFIED:20260303T182554Z
UID:10003534-1772701200-1772713800@isb.idaho.gov
SUMMARY:Recent Judicial Decisions and Their Impacts on State and Local Government (Boise/Webcast)
DESCRIPTION:
URL:https://isb.idaho.gov/event/recent-judicial-decisions-and-their-impacts-on-state-and-local-government-boise-webcast/
LOCATION:The Law Center\, 525 W Jefferson Street\, Boise\, Idaho\, 83702
CATEGORIES:Continuing Legal Education,Government & Public Sector Lawyers Section,Government & Public Sector Lawyers Section CLE
END:VEVENT
BEGIN:VEVENT
DTSTART;TZID=America/Boise:20260309T170000
DTEND;TZID=America/Boise:20260309T200000
DTSTAMP:20260424T132747
CREATED:20260218T192824Z
LAST-MODIFIED:20260223T185740Z
UID:10003544-1773075600-1773086400@isb.idaho.gov
SUMMARY:Fearless Legal Leaders: Defending Individual Liberty in the Old & New West (Boise/Webcast)
DESCRIPTION:
URL:https://isb.idaho.gov/event/fearless-legal-leaders-defending-individual-liberty-in-the-old-new-west-boise-webcast/
LOCATION:University of Idaho College of Law\, Boise\, 501 W. Front St.\, Room 221\, Boise\, ID\, 83702
CATEGORIES:Continuing Legal Education,Idaho Legal History Section,Idaho Legal History Section CLE
END:VEVENT
BEGIN:VEVENT
DTSTART;TZID=America/Boise:20260311T110000
DTEND;TZID=America/Boise:20260311T120000
DTSTAMP:20260424T132747
CREATED:20251223T213930Z
LAST-MODIFIED:20260226T192740Z
UID:10003472-1773226800-1773230400@isb.idaho.gov
SUMMARY:Communicating in Opposing Counsel & the Courts: Professionalism and Ethics (Live Audio Streaming)
DESCRIPTION:
URL:https://isb.idaho.gov/event/communicating-in-opposing-counsel-the-courts-professionalism-and-ethics-live-audio-streaming/
CATEGORIES:Continuing Legal Education
END:VEVENT
BEGIN:VEVENT
DTSTART;TZID=America/Boise:20260311T120000
DTEND;TZID=America/Boise:20260311T130000
DTSTAMP:20260424T132747
CREATED:20240726T194211Z
LAST-MODIFIED:20260401T220900Z
UID:10001246-1773230400-1773234000@isb.idaho.gov
SUMMARY:Business & Corporate Law Section Meeting
DESCRIPTION:
URL:https://isb.idaho.gov/event/business-corporate-law-section-meeting/2026-03-11/
CATEGORIES:Business & Corporate Law Section
END:VEVENT
BEGIN:VEVENT
DTSTART;TZID=America/Boise:20260313T120000
DTEND;TZID=America/Boise:20260313T130000
DTSTAMP:20260424T132747
CREATED:20240726T194211Z
LAST-MODIFIED:20260401T220951Z
UID:10001858-1773403200-1773406800@isb.idaho.gov
SUMMARY:Family Law Section Meeting
DESCRIPTION:
URL:https://isb.idaho.gov/event/family-law-section-meeting/2026-03-13/
CATEGORIES:Family Law Section
END:VEVENT
BEGIN:VEVENT
DTSTART;TZID=America/Boise:20260318T160000
DTEND;TZID=America/Boise:20260318T170000
DTSTAMP:20260424T132747
CREATED:20240726T175006Z
LAST-MODIFIED:20260401T221958Z
UID:10001546-1773849600-1773853200@isb.idaho.gov
SUMMARY:Commercial Law & Bankruptcy Section Meeting
DESCRIPTION:
URL:https://isb.idaho.gov/event/commercial-law-bankruptcy-section-meeting/2026-03-18/
CATEGORIES:Commercial Law & Bankruptcy Section
END:VEVENT
BEGIN:VEVENT
DTSTART;TZID=America/Boise:20260319T120000
DTEND;TZID=America/Boise:20260319T153000
DTSTAMP:20260424T132747
CREATED:20260206T173100Z
LAST-MODIFIED:20260306T205122Z
UID:10003539-1773921600-1773934200@isb.idaho.gov
SUMMARY:2026 Fourth District Bar Association Spring Case Review (FREE - Live Webcast Only)
DESCRIPTION:
URL:https://isb.idaho.gov/event/2026-fourth-district-bar-association-spring-case-review-free-live-webcast-only/
CATEGORIES:Continuing Legal Education,Fourth District Bar Association,Fourth District Bar Association CLE,Free CLE
END:VEVENT
BEGIN:VEVENT
DTSTART;TZID=America/Boise:20260320T120000
DTEND;TZID=America/Boise:20260320T130000
DTSTAMP:20260424T132747
CREATED:20240726T193626Z
LAST-MODIFIED:20260401T222237Z
UID:10002218-1774008000-1774011600@isb.idaho.gov
SUMMARY:Litigation Section Meeting
DESCRIPTION:
URL:https://isb.idaho.gov/event/litigation-section-meeting/2026-03-20/
CATEGORIES:Litigation Section
END:VEVENT
BEGIN:VEVENT
DTSTART;TZID=America/Boise:20260324T110000
DTEND;TZID=America/Boise:20260324T120000
DTSTAMP:20260424T132747
CREATED:20260102T205753Z
LAST-MODIFIED:20260226T192600Z
UID:10003478-1774350000-1774353600@isb.idaho.gov
SUMMARY:Cybersecurity Breaches: How to Advise Clients When the Inevitable Happens (Live Audio Streaming)
DESCRIPTION:
URL:https://isb.idaho.gov/event/cybersecurity-breaches-how-to-advise-clients-when-the-inevitable-happens-live-audio-streaming-2/
CATEGORIES:Continuing Legal Education
END:VEVENT
BEGIN:VEVENT
DTSTART;TZID=America/Boise:20260324T120000
DTEND;TZID=America/Boise:20260324T130000
DTSTAMP:20260424T132747
CREATED:20250625T154413Z
LAST-MODIFIED:20260401T225401Z
UID:10003512-1774353600-1774357200@isb.idaho.gov
SUMMARY:Technology & Practice Management Section Meeting
DESCRIPTION:
URL:https://isb.idaho.gov/event/technology-property-management-section-meeting-2/2026-03-24/
CATEGORIES:Technology & Practice Management Section
END:VEVENT
BEGIN:VEVENT
DTSTART;TZID=America/Boise:20260325T110000
DTEND;TZID=America/Boise:20260325T120000
DTSTAMP:20260424T132747
CREATED:20260102T215659Z
LAST-MODIFIED:20260226T192517Z
UID:10003479-1774436400-1774440000@isb.idaho.gov
SUMMARY:Navigating Conflicts of Interest\, Part 1 (Live Audio Streaming)
DESCRIPTION:
URL:https://isb.idaho.gov/event/navigating-conflicts-of-interest-part-1-live-audio-streaming-2/
CATEGORIES:Continuing Legal Education
END:VEVENT
BEGIN:VEVENT
DTSTART;TZID=America/Boise:20260325T120000
DTEND;TZID=America/Boise:20260325T130000
DTSTAMP:20260424T132747
CREATED:20240726T173306Z
LAST-MODIFIED:20260401T223343Z
UID:10001798-1774440000-1774443600@isb.idaho.gov
SUMMARY:Environment & Natural Resources Law Section Meeting
DESCRIPTION:
URL:https://isb.idaho.gov/event/environment-natural-resources-law-section-meeting/2026-03-25/
CATEGORIES:Environment & Natural Resources Law Section
END:VEVENT
BEGIN:VEVENT
DTSTART;TZID=America/Boise:20260325T120000
DTEND;TZID=America/Boise:20260325T130000
DTSTAMP:20260424T132747
CREATED:20240726T194141Z
LAST-MODIFIED:20260401T222401Z
UID:10001709-1774440000-1774443600@isb.idaho.gov
SUMMARY:Employment & Labor Law Section Meeting
DESCRIPTION:
URL:https://isb.idaho.gov/event/employment-labor-law-section-meeting/2026-03-25/
CATEGORIES:Employment & Labor Law Section
END:VEVENT
BEGIN:VEVENT
DTSTART;TZID=America/Boise:20260326T110000
DTEND;TZID=America/Boise:20260326T120000
DTSTAMP:20260424T132747
CREATED:20260105T173914Z
LAST-MODIFIED:20260226T192428Z
UID:10003481-1774522800-1774526400@isb.idaho.gov
SUMMARY:Navigating Conflicts of Interest\, Part 2 (Live Audio Streaming)
DESCRIPTION:
URL:https://isb.idaho.gov/event/navigating-conflicts-of-interest-part-2-live-audio-streaming-2/
CATEGORIES:Continuing Legal Education
END:VEVENT
BEGIN:VEVENT
DTSTART;TZID=America/Boise:20260327T120000
DTEND;TZID=America/Boise:20260327T130000
DTSTAMP:20260424T132747
CREATED:20240726T194155Z
LAST-MODIFIED:20260414T145846Z
UID:10001324-1774612800-1774616400@isb.idaho.gov
SUMMARY:Child Protection Section Meeting
DESCRIPTION:
URL:https://isb.idaho.gov/event/child-protection-section-meeting/2026-03-27/
CATEGORIES:Child Protection Section
END:VEVENT
BEGIN:VEVENT
DTSTART;TZID=America/Boise:20260331T120000
DTEND;TZID=America/Boise:20260331T130000
DTSTAMP:20260424T132747
CREATED:20260311T151929Z
LAST-MODIFIED:20260311T151929Z
UID:10003557-1774958400-1774962000@isb.idaho.gov
SUMMARY:Idaho Legal History Section Meeting
DESCRIPTION:
URL:https://isb.idaho.gov/event/idaho-legal-history-section-meeting-3/
CATEGORIES:Idaho Legal History Section
END:VEVENT
END:VCALENDAR