BEGIN:VCALENDAR
VERSION:2.0
PRODID:-//Idaho State Bar - ECPv6.15.20//NONSGML v1.0//EN
CALSCALE:GREGORIAN
METHOD:PUBLISH
X-WR-CALNAME:Idaho State Bar
X-ORIGINAL-URL:https://isb.idaho.gov
X-WR-CALDESC:Events for Idaho State Bar
REFRESH-INTERVAL;VALUE=DURATION:PT1H
X-Robots-Tag:noindex
X-PUBLISHED-TTL:PT1H
BEGIN:VTIMEZONE
TZID:America/Boise
BEGIN:DAYLIGHT
TZOFFSETFROM:-0700
TZOFFSETTO:-0600
TZNAME:MDT
DTSTART:20270314T090000
END:DAYLIGHT
BEGIN:STANDARD
TZOFFSETFROM:-0600
TZOFFSETTO:-0700
TZNAME:MST
DTSTART:20271107T080000
END:STANDARD
BEGIN:DAYLIGHT
TZOFFSETFROM:-0700
TZOFFSETTO:-0600
TZNAME:MDT
DTSTART:20280312T090000
END:DAYLIGHT
BEGIN:STANDARD
TZOFFSETFROM:-0600
TZOFFSETTO:-0700
TZNAME:MST
DTSTART:20281105T080000
END:STANDARD
BEGIN:DAYLIGHT
TZOFFSETFROM:-0700
TZOFFSETTO:-0600
TZNAME:MDT
DTSTART:20290311T090000
END:DAYLIGHT
BEGIN:STANDARD
TZOFFSETFROM:-0600
TZOFFSETTO:-0700
TZNAME:MST
DTSTART:20291104T080000
END:STANDARD
BEGIN:DAYLIGHT
TZOFFSETFROM:-0700
TZOFFSETTO:-0600
TZNAME:MDT
DTSTART:20300310T090000
END:DAYLIGHT
BEGIN:STANDARD
TZOFFSETFROM:-0600
TZOFFSETTO:-0700
TZNAME:MST
DTSTART:20301103T080000
END:STANDARD
END:VTIMEZONE
BEGIN:VEVENT
DTSTART;TZID=America/Boise:20281205T120000
DTEND;TZID=America/Boise:20281205T130000
DTSTAMP:20260425T081750
CREATED:20250811T192221Z
LAST-MODIFIED:20260401T220614Z
UID:10003218-1859630400-1859634000@isb.idaho.gov
SUMMARY:Professionalism & Ethics Section Meeting
DESCRIPTION:
URL:https://isb.idaho.gov/event/professionalism-ethics-section-meeting-2-2/2028-12-05/
CATEGORIES:Professionalism & Ethics Section
END:VEVENT
BEGIN:VEVENT
DTSTART;TZID=America/Boise:20281206T120000
DTEND;TZID=America/Boise:20281206T130000
DTSTAMP:20260425T081750
CREATED:20240726T185941Z
LAST-MODIFIED:20260401T220244Z
UID:10002382-1859716800-1859720400@isb.idaho.gov
SUMMARY:Real Property Section Meeting
DESCRIPTION:
URL:https://isb.idaho.gov/event/real-property-section-meeting/2028-12-06/
CATEGORIES:Real Property Section
END:VEVENT
BEGIN:VEVENT
DTSTART;TZID=America/Boise:20281207T120000
DTEND;TZID=America/Boise:20281207T130000
DTSTAMP:20260425T081750
CREATED:20240726T194156Z
LAST-MODIFIED:20260401T220217Z
UID:10001995-1859803200-1859806800@isb.idaho.gov
SUMMARY:Government & Public Sector Lawyers Section Meeting
DESCRIPTION:
URL:https://isb.idaho.gov/event/government-public-sector-lawyers-section-meeting/2028-12-07/
CATEGORIES:Government & Public Sector Lawyers Section
END:VEVENT
BEGIN:VEVENT
DTSTART;TZID=America/Boise:20281207T120000
DTEND;TZID=America/Boise:20281207T130000
DTSTAMP:20260425T081750
CREATED:20241217T201618Z
LAST-MODIFIED:20260401T220138Z
UID:10002671-1859803200-1859806800@isb.idaho.gov
SUMMARY:Health Law Section Meeting
DESCRIPTION:
URL:https://isb.idaho.gov/event/health-law-section-meeting-2-2/2028-12-07/
CATEGORIES:Health Law Section
END:VEVENT
BEGIN:VEVENT
DTSTART;TZID=America/Boise:20281208T120000
DTEND;TZID=America/Boise:20281208T130000
DTSTAMP:20260425T081750
CREATED:20240726T194211Z
LAST-MODIFIED:20260401T220951Z
UID:10001891-1859889600-1859893200@isb.idaho.gov
SUMMARY:Family Law Section Meeting
DESCRIPTION:
URL:https://isb.idaho.gov/event/family-law-section-meeting/2028-12-08/
CATEGORIES:Family Law Section
END:VEVENT
BEGIN:VEVENT
DTSTART;TZID=America/Boise:20281213T120000
DTEND;TZID=America/Boise:20281213T130000
DTSTAMP:20260425T081750
CREATED:20240726T194211Z
LAST-MODIFIED:20260401T220900Z
UID:10001270-1860321600-1860325200@isb.idaho.gov
SUMMARY:Business & Corporate Law Section Meeting
DESCRIPTION:
URL:https://isb.idaho.gov/event/business-corporate-law-section-meeting/2028-12-13/
CATEGORIES:Business & Corporate Law Section
END:VEVENT
BEGIN:VEVENT
DTSTART;TZID=America/Boise:20281214T120000
DTEND;TZID=America/Boise:20281214T130000
DTSTAMP:20260425T081750
CREATED:20240726T194156Z
LAST-MODIFIED:20260401T215403Z
UID:10002612-1860408000-1860411600@isb.idaho.gov
SUMMARY:Appellate Practice Section Member Meeting
DESCRIPTION:
URL:https://isb.idaho.gov/event/appellate-practice-section-member-meeting/2028-12-14/
CATEGORIES:Appellate Practice Section
END:VEVENT
BEGIN:VEVENT
DTSTART;TZID=America/Boise:20281215T120000
DTEND;TZID=America/Boise:20281215T130000
DTSTAMP:20260425T081750
CREATED:20240726T193626Z
LAST-MODIFIED:20260401T222237Z
UID:10002251-1860494400-1860498000@isb.idaho.gov
SUMMARY:Litigation Section Meeting
DESCRIPTION:
URL:https://isb.idaho.gov/event/litigation-section-meeting/2028-12-15/
CATEGORIES:Litigation Section
END:VEVENT
BEGIN:VEVENT
DTSTART;TZID=America/Boise:20281219T120000
DTEND;TZID=America/Boise:20281219T130000
DTSTAMP:20260425T081750
CREATED:20240726T194141Z
LAST-MODIFIED:20260401T222312Z
UID:10002570-1860840000-1860843600@isb.idaho.gov
SUMMARY:Young Lawyers Section Meeting
DESCRIPTION:
URL:https://isb.idaho.gov/event/young-lawyers-section-meeting/2028-12-19/
CATEGORIES:Young Lawyers Section
END:VEVENT
BEGIN:VEVENT
DTSTART;TZID=America/Boise:20281220T160000
DTEND;TZID=America/Boise:20281220T170000
DTSTAMP:20260425T081750
CREATED:20240726T175006Z
LAST-MODIFIED:20260401T221958Z
UID:10001568-1860940800-1860944400@isb.idaho.gov
SUMMARY:Commercial Law & Bankruptcy Section Meeting
DESCRIPTION:
URL:https://isb.idaho.gov/event/commercial-law-bankruptcy-section-meeting/2028-12-20/
CATEGORIES:Commercial Law & Bankruptcy Section
END:VEVENT
BEGIN:VEVENT
DTSTART;TZID=America/Boise:20281221T120000
DTEND;TZID=America/Boise:20281221T130000
DTSTAMP:20260425T081750
CREATED:20240726T194211Z
LAST-MODIFIED:20260413T151349Z
UID:10002151-1861012800-1861016400@isb.idaho.gov
SUMMARY:Intellectual Property Law Section Meeting
DESCRIPTION:
URL:https://isb.idaho.gov/event/intellectual-property-law-section-meeting/2028-12-21/
CATEGORIES:Intellectual Property Law Section
END:VEVENT
BEGIN:VEVENT
DTSTART;TZID=America/Boise:20281226T120000
DTEND;TZID=America/Boise:20281226T130000
DTSTAMP:20260425T081750
CREATED:20240726T194341Z
LAST-MODIFIED:20260401T221703Z
UID:10001090-1861444800-1861448400@isb.idaho.gov
SUMMARY:Animal Law Section Meeting
DESCRIPTION:
URL:https://isb.idaho.gov/event/animal-law-section-meeting/2028-12-26/
CATEGORIES:Animal Law Section
END:VEVENT
BEGIN:VEVENT
DTSTART;TZID=America/Boise:20281227T120000
DTEND;TZID=America/Boise:20281227T130000
DTSTAMP:20260425T081750
CREATED:20240726T173306Z
LAST-MODIFIED:20260401T223343Z
UID:10001822-1861531200-1861534800@isb.idaho.gov
SUMMARY:Environment & Natural Resources Law Section Meeting
DESCRIPTION:
URL:https://isb.idaho.gov/event/environment-natural-resources-law-section-meeting/2028-12-27/
CATEGORIES:Environment & Natural Resources Law Section
END:VEVENT
BEGIN:VEVENT
DTSTART;TZID=America/Boise:20281227T120000
DTEND;TZID=America/Boise:20281227T130000
DTSTAMP:20260425T081750
CREATED:20240726T194141Z
LAST-MODIFIED:20260401T222401Z
UID:10001742-1861531200-1861534800@isb.idaho.gov
SUMMARY:Employment & Labor Law Section Meeting
DESCRIPTION:
URL:https://isb.idaho.gov/event/employment-labor-law-section-meeting/2028-12-27/
CATEGORIES:Employment & Labor Law Section
END:VEVENT
BEGIN:VEVENT
DTSTART;TZID=America/Boise:20290103T120000
DTEND;TZID=America/Boise:20290103T130000
DTSTAMP:20260425T081750
CREATED:20240726T185941Z
LAST-MODIFIED:20260401T220244Z
UID:10002383-1862136000-1862139600@isb.idaho.gov
SUMMARY:Real Property Section Meeting
DESCRIPTION:
URL:https://isb.idaho.gov/event/real-property-section-meeting/2029-01-03/
CATEGORIES:Real Property Section
END:VEVENT
BEGIN:VEVENT
DTSTART;TZID=America/Boise:20290104T120000
DTEND;TZID=America/Boise:20290104T130000
DTSTAMP:20260425T081750
CREATED:20240726T194156Z
LAST-MODIFIED:20260401T220217Z
UID:10001996-1862222400-1862226000@isb.idaho.gov
SUMMARY:Government & Public Sector Lawyers Section Meeting
DESCRIPTION:
URL:https://isb.idaho.gov/event/government-public-sector-lawyers-section-meeting/2029-01-04/
CATEGORIES:Government & Public Sector Lawyers Section
END:VEVENT
BEGIN:VEVENT
DTSTART;TZID=America/Boise:20290105T130000
DTEND;TZID=America/Boise:20290105T140000
DTSTAMP:20260425T081750
CREATED:20241209T210534Z
LAST-MODIFIED:20260420T180146Z
UID:10002929-1862312400-1862316000@isb.idaho.gov
SUMMARY:Indian Law Section Meeting
DESCRIPTION:
URL:https://isb.idaho.gov/event/indian-law-section-meeting-2/2029-01-05/
CATEGORIES:Indian Law Section
END:VEVENT
BEGIN:VEVENT
DTSTART;TZID=America/Boise:20290109T120000
DTEND;TZID=America/Boise:20290109T130000
DTSTAMP:20260425T081750
CREATED:20241217T191606Z
LAST-MODIFIED:20260401T223717Z
UID:10002102-1862654400-1862658000@isb.idaho.gov
SUMMARY:Idaho Legal History Section Meeting
DESCRIPTION:
URL:https://isb.idaho.gov/event/idaho-legal-history-section-meeting-2/2029-01-09/
CATEGORIES:Idaho Legal History Section
END:VEVENT
BEGIN:VEVENT
DTSTART;TZID=America/Boise:20290110T120000
DTEND;TZID=America/Boise:20290110T130000
DTSTAMP:20260425T081750
CREATED:20240726T194211Z
LAST-MODIFIED:20260401T220900Z
UID:10001271-1862740800-1862744400@isb.idaho.gov
SUMMARY:Business & Corporate Law Section Meeting
DESCRIPTION:
URL:https://isb.idaho.gov/event/business-corporate-law-section-meeting/2029-01-10/
CATEGORIES:Business & Corporate Law Section
END:VEVENT
BEGIN:VEVENT
DTSTART;TZID=America/Boise:20290111T120000
DTEND;TZID=America/Boise:20290111T130000
DTSTAMP:20260425T081750
CREATED:20240726T175408Z
LAST-MODIFIED:20260401T230113Z
UID:10002472-1862827200-1862830800@isb.idaho.gov
SUMMARY:Water Law Section Meeting
DESCRIPTION:
URL:https://isb.idaho.gov/event/water-law-section-meeting/2029-01-11/
CATEGORIES:Water Law Section
END:VEVENT
BEGIN:VEVENT
DTSTART;TZID=America/Boise:20290112T120000
DTEND;TZID=America/Boise:20290112T130000
DTSTAMP:20260425T081750
CREATED:20240726T194211Z
LAST-MODIFIED:20260401T220951Z
UID:10001892-1862913600-1862917200@isb.idaho.gov
SUMMARY:Family Law Section Meeting
DESCRIPTION:
URL:https://isb.idaho.gov/event/family-law-section-meeting/2029-01-12/
CATEGORIES:Family Law Section
END:VEVENT
BEGIN:VEVENT
DTSTART;TZID=America/Boise:20290116T120000
DTEND;TZID=America/Boise:20290116T130000
DTSTAMP:20260425T081750
CREATED:20240726T194141Z
LAST-MODIFIED:20260401T222312Z
UID:10002571-1863259200-1863262800@isb.idaho.gov
SUMMARY:Young Lawyers Section Meeting
DESCRIPTION:
URL:https://isb.idaho.gov/event/young-lawyers-section-meeting/2029-01-16/
CATEGORIES:Young Lawyers Section
END:VEVENT
BEGIN:VEVENT
DTSTART;TZID=America/Boise:20290117T160000
DTEND;TZID=America/Boise:20290117T170000
DTSTAMP:20260425T081750
CREATED:20240726T175006Z
LAST-MODIFIED:20260401T221958Z
UID:10001569-1863360000-1863363600@isb.idaho.gov
SUMMARY:Commercial Law & Bankruptcy Section Meeting
DESCRIPTION:
URL:https://isb.idaho.gov/event/commercial-law-bankruptcy-section-meeting/2029-01-17/
CATEGORIES:Commercial Law & Bankruptcy Section
END:VEVENT
BEGIN:VEVENT
DTSTART;TZID=America/Boise:20290118T120000
DTEND;TZID=America/Boise:20290118T130000
DTSTAMP:20260425T081750
CREATED:20251113T173953Z
LAST-MODIFIED:20260401T224537Z
UID:10001644-1863432000-1863435600@isb.idaho.gov
SUMMARY:Diversity Section Meeting
DESCRIPTION:
URL:https://isb.idaho.gov/event/diversity-section-meeting-4/2029-01-18/
CATEGORIES:Diversity Section
END:VEVENT
BEGIN:VEVENT
DTSTART;TZID=America/Boise:20290119T120000
DTEND;TZID=America/Boise:20290119T130000
DTSTAMP:20260425T081750
CREATED:20240726T193626Z
LAST-MODIFIED:20260401T222237Z
UID:10002252-1863518400-1863522000@isb.idaho.gov
SUMMARY:Litigation Section Meeting
DESCRIPTION:
URL:https://isb.idaho.gov/event/litigation-section-meeting/2029-01-19/
CATEGORIES:Litigation Section
END:VEVENT
BEGIN:VEVENT
DTSTART;TZID=America/Boise:20290123T120000
DTEND;TZID=America/Boise:20290123T130000
DTSTAMP:20260425T081750
CREATED:20250625T154413Z
LAST-MODIFIED:20260401T225401Z
UID:10003169-1863864000-1863867600@isb.idaho.gov
SUMMARY:Technology & Practice Management Section Meeting
DESCRIPTION:
URL:https://isb.idaho.gov/event/technology-property-management-section-meeting-2/2029-01-23/
CATEGORIES:Technology & Practice Management Section
END:VEVENT
BEGIN:VEVENT
DTSTART;TZID=America/Boise:20290124T120000
DTEND;TZID=America/Boise:20290124T130000
DTSTAMP:20260425T081750
CREATED:20240726T173306Z
LAST-MODIFIED:20260401T223343Z
UID:10001823-1863950400-1863954000@isb.idaho.gov
SUMMARY:Environment & Natural Resources Law Section Meeting
DESCRIPTION:
URL:https://isb.idaho.gov/event/environment-natural-resources-law-section-meeting/2029-01-24/
CATEGORIES:Environment & Natural Resources Law Section
END:VEVENT
BEGIN:VEVENT
DTSTART;TZID=America/Boise:20290124T120000
DTEND;TZID=America/Boise:20290124T130000
DTSTAMP:20260425T081750
CREATED:20240726T194141Z
LAST-MODIFIED:20260401T222401Z
UID:10001743-1863950400-1863954000@isb.idaho.gov
SUMMARY:Employment & Labor Law Section Meeting
DESCRIPTION:
URL:https://isb.idaho.gov/event/employment-labor-law-section-meeting/2029-01-24/
CATEGORIES:Employment & Labor Law Section
END:VEVENT
BEGIN:VEVENT
DTSTART;TZID=America/Boise:20290125T120000
DTEND;TZID=America/Boise:20290125T130000
DTSTAMP:20260425T081750
CREATED:20240726T194141Z
LAST-MODIFIED:20260401T221917Z
UID:10001036-1864036800-1864040400@isb.idaho.gov
SUMMARY:Agricultural Law Section Meeting
DESCRIPTION:
URL:https://isb.idaho.gov/event/agricultural-law-section-meeting/2029-01-25/
CATEGORIES:Agricultural Law Section
END:VEVENT
BEGIN:VEVENT
DTSTART;TZID=America/Boise:20290126T120000
DTEND;TZID=America/Boise:20290126T130000
DTSTAMP:20260425T081750
CREATED:20240726T194155Z
LAST-MODIFIED:20260414T145846Z
UID:10001349-1864123200-1864126800@isb.idaho.gov
SUMMARY:Child Protection Section Meeting
DESCRIPTION:
URL:https://isb.idaho.gov/event/child-protection-section-meeting/2029-01-26/
CATEGORIES:Child Protection Section
END:VEVENT
END:VCALENDAR