BEGIN:VCALENDAR
VERSION:2.0
PRODID:-//Idaho State Bar - ECPv6.15.20//NONSGML v1.0//EN
CALSCALE:GREGORIAN
METHOD:PUBLISH
X-WR-CALNAME:Idaho State Bar
X-ORIGINAL-URL:https://isb.idaho.gov
X-WR-CALDESC:Events for Idaho State Bar
REFRESH-INTERVAL;VALUE=DURATION:PT1H
X-Robots-Tag:noindex
X-PUBLISHED-TTL:PT1H
BEGIN:VTIMEZONE
TZID:America/Boise
BEGIN:DAYLIGHT
TZOFFSETFROM:-0700
TZOFFSETTO:-0600
TZNAME:MDT
DTSTART:20270314T090000
END:DAYLIGHT
BEGIN:STANDARD
TZOFFSETFROM:-0600
TZOFFSETTO:-0700
TZNAME:MST
DTSTART:20271107T080000
END:STANDARD
BEGIN:DAYLIGHT
TZOFFSETFROM:-0700
TZOFFSETTO:-0600
TZNAME:MDT
DTSTART:20280312T090000
END:DAYLIGHT
BEGIN:STANDARD
TZOFFSETFROM:-0600
TZOFFSETTO:-0700
TZNAME:MST
DTSTART:20281105T080000
END:STANDARD
BEGIN:DAYLIGHT
TZOFFSETFROM:-0700
TZOFFSETTO:-0600
TZNAME:MDT
DTSTART:20290311T090000
END:DAYLIGHT
BEGIN:STANDARD
TZOFFSETFROM:-0600
TZOFFSETTO:-0700
TZNAME:MST
DTSTART:20291104T080000
END:STANDARD
END:VTIMEZONE
BEGIN:VEVENT
DTSTART;TZID=America/Boise:20280518T120000
DTEND;TZID=America/Boise:20280518T130000
DTSTAMP:20260424T044027
CREATED:20251113T173953Z
LAST-MODIFIED:20260401T224537Z
UID:10001640-1842264000-1842267600@isb.idaho.gov
SUMMARY:Diversity Section Meeting
DESCRIPTION:
URL:https://isb.idaho.gov/event/diversity-section-meeting-4/2028-05-18/
CATEGORIES:Diversity Section
END:VEVENT
BEGIN:VEVENT
DTSTART;TZID=America/Boise:20280519T120000
DTEND;TZID=America/Boise:20280519T130000
DTSTAMP:20260424T044027
CREATED:20240726T193626Z
LAST-MODIFIED:20260401T222237Z
UID:10002244-1842350400-1842354000@isb.idaho.gov
SUMMARY:Litigation Section Meeting
DESCRIPTION:
URL:https://isb.idaho.gov/event/litigation-section-meeting/2028-05-19/
CATEGORIES:Litigation Section
END:VEVENT
BEGIN:VEVENT
DTSTART;TZID=America/Boise:20280523T120000
DTEND;TZID=America/Boise:20280523T130000
DTSTAMP:20260424T044027
CREATED:20250625T154413Z
LAST-MODIFIED:20260401T225401Z
UID:10003166-1842696000-1842699600@isb.idaho.gov
SUMMARY:Technology & Practice Management Section Meeting
DESCRIPTION:
URL:https://isb.idaho.gov/event/technology-property-management-section-meeting-2/2028-05-23/
CATEGORIES:Technology & Practice Management Section
END:VEVENT
BEGIN:VEVENT
DTSTART;TZID=America/Boise:20280524T120000
DTEND;TZID=America/Boise:20280524T130000
DTSTAMP:20260424T044027
CREATED:20240726T173306Z
LAST-MODIFIED:20260401T223343Z
UID:10001818-1842782400-1842786000@isb.idaho.gov
SUMMARY:Environment & Natural Resources Law Section Meeting
DESCRIPTION:
URL:https://isb.idaho.gov/event/environment-natural-resources-law-section-meeting/2028-05-24/
CATEGORIES:Environment & Natural Resources Law Section
END:VEVENT
BEGIN:VEVENT
DTSTART;TZID=America/Boise:20280524T120000
DTEND;TZID=America/Boise:20280524T130000
DTSTAMP:20260424T044027
CREATED:20240726T194141Z
LAST-MODIFIED:20260401T222401Z
UID:10001735-1842782400-1842786000@isb.idaho.gov
SUMMARY:Employment & Labor Law Section Meeting
DESCRIPTION:
URL:https://isb.idaho.gov/event/employment-labor-law-section-meeting/2028-05-24/
CATEGORIES:Employment & Labor Law Section
END:VEVENT
BEGIN:VEVENT
DTSTART;TZID=America/Boise:20280526T120000
DTEND;TZID=America/Boise:20280526T130000
DTSTAMP:20260424T044027
CREATED:20240726T194155Z
LAST-MODIFIED:20260414T145846Z
UID:10001344-1842955200-1842958800@isb.idaho.gov
SUMMARY:Child Protection Section Meeting
DESCRIPTION:
URL:https://isb.idaho.gov/event/child-protection-section-meeting/2028-05-26/
CATEGORIES:Child Protection Section
END:VEVENT
BEGIN:VEVENT
DTSTART;TZID=America/Boise:20280601T120000
DTEND;TZID=America/Boise:20280601T130000
DTSTAMP:20260424T044027
CREATED:20240726T194156Z
LAST-MODIFIED:20260401T220217Z
UID:10001989-1843473600-1843477200@isb.idaho.gov
SUMMARY:Government & Public Sector Lawyers Section Meeting
DESCRIPTION:
URL:https://isb.idaho.gov/event/government-public-sector-lawyers-section-meeting/2028-06-01/
CATEGORIES:Government & Public Sector Lawyers Section
END:VEVENT
BEGIN:VEVENT
DTSTART;TZID=America/Boise:20280601T120000
DTEND;TZID=America/Boise:20280601T130000
DTSTAMP:20260424T044027
CREATED:20241217T201618Z
LAST-MODIFIED:20260401T220138Z
UID:10002668-1843473600-1843477200@isb.idaho.gov
SUMMARY:Health Law Section Meeting
DESCRIPTION:
URL:https://isb.idaho.gov/event/health-law-section-meeting-2-2/2028-06-01/
CATEGORIES:Health Law Section
END:VEVENT
BEGIN:VEVENT
DTSTART;TZID=America/Boise:20280602T130000
DTEND;TZID=America/Boise:20280602T140000
DTSTAMP:20260424T044027
CREATED:20241209T210534Z
LAST-MODIFIED:20260420T180146Z
UID:10002922-1843563600-1843567200@isb.idaho.gov
SUMMARY:Indian Law Section Meeting
DESCRIPTION:
URL:https://isb.idaho.gov/event/indian-law-section-meeting-2/2028-06-02/
CATEGORIES:Indian Law Section
END:VEVENT
BEGIN:VEVENT
DTSTART;TZID=America/Boise:20280606T120000
DTEND;TZID=America/Boise:20280606T130000
DTSTAMP:20260424T044027
CREATED:20250811T192221Z
LAST-MODIFIED:20260401T220614Z
UID:10003215-1843905600-1843909200@isb.idaho.gov
SUMMARY:Professionalism & Ethics Section Meeting
DESCRIPTION:
URL:https://isb.idaho.gov/event/professionalism-ethics-section-meeting-2-2/2028-06-06/
CATEGORIES:Professionalism & Ethics Section
END:VEVENT
BEGIN:VEVENT
DTSTART;TZID=America/Boise:20280608T120000
DTEND;TZID=America/Boise:20280608T130000
DTSTAMP:20260424T044027
CREATED:20240726T194156Z
LAST-MODIFIED:20260401T215403Z
UID:10002610-1844078400-1844082000@isb.idaho.gov
SUMMARY:Appellate Practice Section Member Meeting
DESCRIPTION:
URL:https://isb.idaho.gov/event/appellate-practice-section-member-meeting/2028-06-08/
CATEGORIES:Appellate Practice Section
END:VEVENT
BEGIN:VEVENT
DTSTART;TZID=America/Boise:20280613T120000
DTEND;TZID=America/Boise:20280613T130000
DTSTAMP:20260424T044027
CREATED:20250815T161726Z
LAST-MODIFIED:20260401T221146Z
UID:10003298-1844510400-1844514000@isb.idaho.gov
SUMMARY:Taxation\, Probate & Trust Law Section Meeting
DESCRIPTION:
URL:https://isb.idaho.gov/event/taxation-probate-trust-law-section-meeting-2-2/2028-06-13/
CATEGORIES:Taxation, Probate & Trust Law Section
END:VEVENT
BEGIN:VEVENT
DTSTART;TZID=America/Boise:20280615T120000
DTEND;TZID=America/Boise:20280615T130000
DTSTAMP:20260424T044027
CREATED:20240726T194211Z
LAST-MODIFIED:20260413T151349Z
UID:10002148-1844683200-1844686800@isb.idaho.gov
SUMMARY:Intellectual Property Law Section Meeting
DESCRIPTION:
URL:https://isb.idaho.gov/event/intellectual-property-law-section-meeting/2028-06-15/
CATEGORIES:Intellectual Property Law Section
END:VEVENT
BEGIN:VEVENT
DTSTART;TZID=America/Boise:20280616T120000
DTEND;TZID=America/Boise:20280616T130000
DTSTAMP:20260424T044027
CREATED:20240726T193626Z
LAST-MODIFIED:20260401T222237Z
UID:10002245-1844769600-1844773200@isb.idaho.gov
SUMMARY:Litigation Section Meeting
DESCRIPTION:
URL:https://isb.idaho.gov/event/litigation-section-meeting/2028-06-16/
CATEGORIES:Litigation Section
END:VEVENT
BEGIN:VEVENT
DTSTART;TZID=America/Boise:20280620T120000
DTEND;TZID=America/Boise:20280620T130000
DTSTAMP:20260424T044027
CREATED:20240726T194141Z
LAST-MODIFIED:20260401T222312Z
UID:10002564-1845115200-1845118800@isb.idaho.gov
SUMMARY:Young Lawyers Section Meeting
DESCRIPTION:
URL:https://isb.idaho.gov/event/young-lawyers-section-meeting/2028-06-20/
CATEGORIES:Young Lawyers Section
END:VEVENT
BEGIN:VEVENT
DTSTART;TZID=America/Boise:20280621T160000
DTEND;TZID=America/Boise:20280621T170000
DTSTAMP:20260424T044027
CREATED:20240726T175006Z
LAST-MODIFIED:20260401T221958Z
UID:10001564-1845216000-1845219600@isb.idaho.gov
SUMMARY:Commercial Law & Bankruptcy Section Meeting
DESCRIPTION:
URL:https://isb.idaho.gov/event/commercial-law-bankruptcy-section-meeting/2028-06-21/
CATEGORIES:Commercial Law & Bankruptcy Section
END:VEVENT
BEGIN:VEVENT
DTSTART;TZID=America/Boise:20280623T120000
DTEND;TZID=America/Boise:20280623T130000
DTSTAMP:20260424T044027
CREATED:20240726T194155Z
LAST-MODIFIED:20260414T145846Z
UID:10001345-1845374400-1845378000@isb.idaho.gov
SUMMARY:Child Protection Section Meeting
DESCRIPTION:
URL:https://isb.idaho.gov/event/child-protection-section-meeting/2028-06-23/
CATEGORIES:Child Protection Section
END:VEVENT
BEGIN:VEVENT
DTSTART;TZID=America/Boise:20280627T120000
DTEND;TZID=America/Boise:20280627T130000
DTSTAMP:20260424T044027
CREATED:20240726T194341Z
LAST-MODIFIED:20260401T221703Z
UID:10001087-1845720000-1845723600@isb.idaho.gov
SUMMARY:Animal Law Section Meeting
DESCRIPTION:
URL:https://isb.idaho.gov/event/animal-law-section-meeting/2028-06-27/
CATEGORIES:Animal Law Section
END:VEVENT
BEGIN:VEVENT
DTSTART;TZID=America/Boise:20280628T120000
DTEND;TZID=America/Boise:20280628T130000
DTSTAMP:20260424T044027
CREATED:20240726T194141Z
LAST-MODIFIED:20260401T222401Z
UID:10001736-1845806400-1845810000@isb.idaho.gov
SUMMARY:Employment & Labor Law Section Meeting
DESCRIPTION:
URL:https://isb.idaho.gov/event/employment-labor-law-section-meeting/2028-06-28/
CATEGORIES:Employment & Labor Law Section
END:VEVENT
BEGIN:VEVENT
DTSTART;TZID=America/Boise:20280706T120000
DTEND;TZID=America/Boise:20280706T130000
DTSTAMP:20260424T044027
CREATED:20240726T194156Z
LAST-MODIFIED:20260401T220217Z
UID:10001990-1846497600-1846501200@isb.idaho.gov
SUMMARY:Government & Public Sector Lawyers Section Meeting
DESCRIPTION:
URL:https://isb.idaho.gov/event/government-public-sector-lawyers-section-meeting/2028-07-06/
CATEGORIES:Government & Public Sector Lawyers Section
END:VEVENT
BEGIN:VEVENT
DTSTART;TZID=America/Boise:20280707T130000
DTEND;TZID=America/Boise:20280707T140000
DTSTAMP:20260424T044027
CREATED:20241209T210534Z
LAST-MODIFIED:20260420T180146Z
UID:10002923-1846587600-1846591200@isb.idaho.gov
SUMMARY:Indian Law Section Meeting
DESCRIPTION:
URL:https://isb.idaho.gov/event/indian-law-section-meeting-2/2028-07-07/
CATEGORIES:Indian Law Section
END:VEVENT
BEGIN:VEVENT
DTSTART;TZID=America/Boise:20280713T120000
DTEND;TZID=America/Boise:20280713T130000
DTSTAMP:20260424T044027
CREATED:20240726T175408Z
LAST-MODIFIED:20260401T230113Z
UID:10002469-1847102400-1847106000@isb.idaho.gov
SUMMARY:Water Law Section Meeting
DESCRIPTION:
URL:https://isb.idaho.gov/event/water-law-section-meeting/2028-07-13/
CATEGORIES:Water Law Section
END:VEVENT
BEGIN:VEVENT
DTSTART;TZID=America/Boise:20280718T120000
DTEND;TZID=America/Boise:20280718T130000
DTSTAMP:20260424T044027
CREATED:20240726T194141Z
LAST-MODIFIED:20260401T222312Z
UID:10002565-1847534400-1847538000@isb.idaho.gov
SUMMARY:Young Lawyers Section Meeting
DESCRIPTION:
URL:https://isb.idaho.gov/event/young-lawyers-section-meeting/2028-07-18/
CATEGORIES:Young Lawyers Section
END:VEVENT
BEGIN:VEVENT
DTSTART;TZID=America/Boise:20280719T160000
DTEND;TZID=America/Boise:20280719T170000
DTSTAMP:20260424T044027
CREATED:20240726T175006Z
LAST-MODIFIED:20260401T221958Z
UID:10001483-1847635200-1847638800@isb.idaho.gov
SUMMARY:Commercial Law & Bankruptcy Section Meeting
DESCRIPTION:
URL:https://isb.idaho.gov/event/commercial-law-bankruptcy-section-meeting/2028-07-19/
CATEGORIES:Commercial Law & Bankruptcy Section
END:VEVENT
BEGIN:VEVENT
DTSTART;TZID=America/Boise:20280720T120000
DTEND;TZID=America/Boise:20280720T130000
DTSTAMP:20260424T044027
CREATED:20251113T173953Z
LAST-MODIFIED:20260401T224537Z
UID:10001641-1847707200-1847710800@isb.idaho.gov
SUMMARY:Diversity Section Meeting
DESCRIPTION:
URL:https://isb.idaho.gov/event/diversity-section-meeting-4/2028-07-20/
CATEGORIES:Diversity Section
END:VEVENT
BEGIN:VEVENT
DTSTART;TZID=America/Boise:20280721T120000
DTEND;TZID=America/Boise:20280721T130000
DTSTAMP:20260424T044027
CREATED:20240726T193626Z
LAST-MODIFIED:20260401T222237Z
UID:10002246-1847793600-1847797200@isb.idaho.gov
SUMMARY:Litigation Section Meeting
DESCRIPTION:
URL:https://isb.idaho.gov/event/litigation-section-meeting/2028-07-21/
CATEGORIES:Litigation Section
END:VEVENT
BEGIN:VEVENT
DTSTART;TZID=America/Boise:20280725T120000
DTEND;TZID=America/Boise:20280725T130000
DTSTAMP:20260424T044027
CREATED:20250625T154413Z
LAST-MODIFIED:20260401T225401Z
UID:10003517-1848139200-1848142800@isb.idaho.gov
SUMMARY:Technology & Practice Management Section Meeting
DESCRIPTION:
URL:https://isb.idaho.gov/event/technology-property-management-section-meeting-2/2028-07-25/
CATEGORIES:Technology & Practice Management Section
END:VEVENT
BEGIN:VEVENT
DTSTART;TZID=America/Boise:20280726T120000
DTEND;TZID=America/Boise:20280726T130000
DTSTAMP:20260424T044027
CREATED:20240726T194141Z
LAST-MODIFIED:20260401T222401Z
UID:10001737-1848225600-1848229200@isb.idaho.gov
SUMMARY:Employment & Labor Law Section Meeting
DESCRIPTION:
URL:https://isb.idaho.gov/event/employment-labor-law-section-meeting/2028-07-26/
CATEGORIES:Employment & Labor Law Section
END:VEVENT
BEGIN:VEVENT
DTSTART;TZID=America/Boise:20280801T120000
DTEND;TZID=America/Boise:20280801T130000
DTSTAMP:20260424T044027
CREATED:20250811T192221Z
LAST-MODIFIED:20260401T220614Z
UID:10003216-1848744000-1848747600@isb.idaho.gov
SUMMARY:Professionalism & Ethics Section Meeting
DESCRIPTION:
URL:https://isb.idaho.gov/event/professionalism-ethics-section-meeting-2-2/2028-08-01/
CATEGORIES:Professionalism & Ethics Section
END:VEVENT
BEGIN:VEVENT
DTSTART;TZID=America/Boise:20280803T120000
DTEND;TZID=America/Boise:20280803T130000
DTSTAMP:20260424T044027
CREATED:20240726T194156Z
LAST-MODIFIED:20260401T220217Z
UID:10001991-1848916800-1848920400@isb.idaho.gov
SUMMARY:Government & Public Sector Lawyers Section Meeting
DESCRIPTION:
URL:https://isb.idaho.gov/event/government-public-sector-lawyers-section-meeting/2028-08-03/
CATEGORIES:Government & Public Sector Lawyers Section
END:VEVENT
END:VCALENDAR