BEGIN:VCALENDAR
VERSION:2.0
PRODID:-//Idaho State Bar - ECPv6.15.20//NONSGML v1.0//EN
CALSCALE:GREGORIAN
METHOD:PUBLISH
X-WR-CALNAME:Idaho State Bar
X-ORIGINAL-URL:https://isb.idaho.gov
X-WR-CALDESC:Events for Idaho State Bar
REFRESH-INTERVAL;VALUE=DURATION:PT1H
X-Robots-Tag:noindex
X-PUBLISHED-TTL:PT1H
BEGIN:VTIMEZONE
TZID:America/Boise
BEGIN:DAYLIGHT
TZOFFSETFROM:-0700
TZOFFSETTO:-0600
TZNAME:MDT
DTSTART:20270314T090000
END:DAYLIGHT
BEGIN:STANDARD
TZOFFSETFROM:-0600
TZOFFSETTO:-0700
TZNAME:MST
DTSTART:20271107T080000
END:STANDARD
BEGIN:DAYLIGHT
TZOFFSETFROM:-0700
TZOFFSETTO:-0600
TZNAME:MDT
DTSTART:20280312T090000
END:DAYLIGHT
BEGIN:STANDARD
TZOFFSETFROM:-0600
TZOFFSETTO:-0700
TZNAME:MST
DTSTART:20281105T080000
END:STANDARD
BEGIN:DAYLIGHT
TZOFFSETFROM:-0700
TZOFFSETTO:-0600
TZNAME:MDT
DTSTART:20290311T090000
END:DAYLIGHT
BEGIN:STANDARD
TZOFFSETFROM:-0600
TZOFFSETTO:-0700
TZNAME:MST
DTSTART:20291104T080000
END:STANDARD
END:VTIMEZONE
BEGIN:VEVENT
DTSTART;TZID=America/Boise:20280114T120000
DTEND;TZID=America/Boise:20280114T130000
DTSTAMP:20260422T201207
CREATED:20240726T194211Z
LAST-MODIFIED:20260401T220951Z
UID:10001880-1831464000-1831467600@isb.idaho.gov
SUMMARY:Family Law Section Meeting
DESCRIPTION:
URL:https://isb.idaho.gov/event/family-law-section-meeting/2028-01-14/
CATEGORIES:Family Law Section
END:VEVENT
BEGIN:VEVENT
DTSTART;TZID=America/Boise:20280118T120000
DTEND;TZID=America/Boise:20280118T130000
DTSTAMP:20260422T201207
CREATED:20240726T194141Z
LAST-MODIFIED:20260401T222312Z
UID:10002559-1831809600-1831813200@isb.idaho.gov
SUMMARY:Young Lawyers Section Meeting
DESCRIPTION:
URL:https://isb.idaho.gov/event/young-lawyers-section-meeting/2028-01-18/
CATEGORIES:Young Lawyers Section
END:VEVENT
BEGIN:VEVENT
DTSTART;TZID=America/Boise:20280119T160000
DTEND;TZID=America/Boise:20280119T170000
DTSTAMP:20260422T201207
CREATED:20240726T175006Z
LAST-MODIFIED:20260401T221958Z
UID:10001561-1831910400-1831914000@isb.idaho.gov
SUMMARY:Commercial Law & Bankruptcy Section Meeting
DESCRIPTION:
URL:https://isb.idaho.gov/event/commercial-law-bankruptcy-section-meeting/2028-01-19/
CATEGORIES:Commercial Law & Bankruptcy Section
END:VEVENT
BEGIN:VEVENT
DTSTART;TZID=America/Boise:20280120T120000
DTEND;TZID=America/Boise:20280120T130000
DTSTAMP:20260422T201207
CREATED:20251113T173953Z
LAST-MODIFIED:20260401T224537Z
UID:10001638-1831982400-1831986000@isb.idaho.gov
SUMMARY:Diversity Section Meeting
DESCRIPTION:
URL:https://isb.idaho.gov/event/diversity-section-meeting-4/2028-01-20/
CATEGORIES:Diversity Section
END:VEVENT
BEGIN:VEVENT
DTSTART;TZID=America/Boise:20280121T120000
DTEND;TZID=America/Boise:20280121T130000
DTSTAMP:20260422T201207
CREATED:20240726T193626Z
LAST-MODIFIED:20260401T222237Z
UID:10002240-1832068800-1832072400@isb.idaho.gov
SUMMARY:Litigation Section Meeting
DESCRIPTION:
URL:https://isb.idaho.gov/event/litigation-section-meeting/2028-01-21/
CATEGORIES:Litigation Section
END:VEVENT
BEGIN:VEVENT
DTSTART;TZID=America/Boise:20280125T120000
DTEND;TZID=America/Boise:20280125T130000
DTSTAMP:20260422T201207
CREATED:20250625T154413Z
LAST-MODIFIED:20260401T225401Z
UID:10003165-1832414400-1832418000@isb.idaho.gov
SUMMARY:Technology & Practice Management Section Meeting
DESCRIPTION:
URL:https://isb.idaho.gov/event/technology-property-management-section-meeting-2/2028-01-25/
CATEGORIES:Technology & Practice Management Section
END:VEVENT
BEGIN:VEVENT
DTSTART;TZID=America/Boise:20280126T120000
DTEND;TZID=America/Boise:20280126T130000
DTSTAMP:20260422T201207
CREATED:20240726T173306Z
LAST-MODIFIED:20260401T223343Z
UID:10001814-1832500800-1832504400@isb.idaho.gov
SUMMARY:Environment & Natural Resources Law Section Meeting
DESCRIPTION:
URL:https://isb.idaho.gov/event/environment-natural-resources-law-section-meeting/2028-01-26/
CATEGORIES:Environment & Natural Resources Law Section
END:VEVENT
BEGIN:VEVENT
DTSTART;TZID=America/Boise:20280126T120000
DTEND;TZID=America/Boise:20280126T130000
DTSTAMP:20260422T201207
CREATED:20240726T194141Z
LAST-MODIFIED:20260401T222401Z
UID:10001731-1832500800-1832504400@isb.idaho.gov
SUMMARY:Employment & Labor Law Section Meeting
DESCRIPTION:
URL:https://isb.idaho.gov/event/employment-labor-law-section-meeting/2028-01-26/
CATEGORIES:Employment & Labor Law Section
END:VEVENT
BEGIN:VEVENT
DTSTART;TZID=America/Boise:20280127T120000
DTEND;TZID=America/Boise:20280127T130000
DTSTAMP:20260422T201207
CREATED:20240726T194141Z
LAST-MODIFIED:20260401T221917Z
UID:10001026-1832587200-1832590800@isb.idaho.gov
SUMMARY:Agricultural Law Section Meeting
DESCRIPTION:
URL:https://isb.idaho.gov/event/agricultural-law-section-meeting/2028-01-27/
CATEGORIES:Agricultural Law Section
END:VEVENT
BEGIN:VEVENT
DTSTART;TZID=America/Boise:20280128T120000
DTEND;TZID=America/Boise:20280128T130000
DTSTAMP:20260422T201207
CREATED:20240726T194155Z
LAST-MODIFIED:20260414T145846Z
UID:10001340-1832673600-1832677200@isb.idaho.gov
SUMMARY:Child Protection Section Meeting
DESCRIPTION:
URL:https://isb.idaho.gov/event/child-protection-section-meeting/2028-01-28/
CATEGORIES:Child Protection Section
END:VEVENT
BEGIN:VEVENT
DTSTART;TZID=America/Boise:20280201T120000
DTEND;TZID=America/Boise:20280201T130000
DTSTAMP:20260422T201207
CREATED:20250811T192221Z
LAST-MODIFIED:20260401T220614Z
UID:10003213-1833019200-1833022800@isb.idaho.gov
SUMMARY:Professionalism & Ethics Section Meeting
DESCRIPTION:
URL:https://isb.idaho.gov/event/professionalism-ethics-section-meeting-2-2/2028-02-01/
CATEGORIES:Professionalism & Ethics Section
END:VEVENT
BEGIN:VEVENT
DTSTART;TZID=America/Boise:20280202T120000
DTEND;TZID=America/Boise:20280202T130000
DTSTAMP:20260422T201207
CREATED:20240726T185941Z
LAST-MODIFIED:20260401T220244Z
UID:10002375-1833105600-1833109200@isb.idaho.gov
SUMMARY:Real Property Section Meeting
DESCRIPTION:
URL:https://isb.idaho.gov/event/real-property-section-meeting/2028-02-02/
CATEGORIES:Real Property Section
END:VEVENT
BEGIN:VEVENT
DTSTART;TZID=America/Boise:20280203T120000
DTEND;TZID=America/Boise:20280203T130000
DTSTAMP:20260422T201207
CREATED:20240726T194156Z
LAST-MODIFIED:20260401T220217Z
UID:10001985-1833192000-1833195600@isb.idaho.gov
SUMMARY:Government & Public Sector Lawyers Section Meeting
DESCRIPTION:
URL:https://isb.idaho.gov/event/government-public-sector-lawyers-section-meeting/2028-02-03/
CATEGORIES:Government & Public Sector Lawyers Section
END:VEVENT
BEGIN:VEVENT
DTSTART;TZID=America/Boise:20280203T120000
DTEND;TZID=America/Boise:20280203T130000
DTSTAMP:20260422T201207
CREATED:20241217T201618Z
LAST-MODIFIED:20260401T220138Z
UID:10002666-1833192000-1833195600@isb.idaho.gov
SUMMARY:Health Law Section Meeting
DESCRIPTION:
URL:https://isb.idaho.gov/event/health-law-section-meeting-2-2/2028-02-03/
CATEGORIES:Health Law Section
END:VEVENT
BEGIN:VEVENT
DTSTART;TZID=America/Boise:20280204T130000
DTEND;TZID=America/Boise:20280204T140000
DTSTAMP:20260422T201207
CREATED:20241209T210534Z
LAST-MODIFIED:20260420T180146Z
UID:10002918-1833282000-1833285600@isb.idaho.gov
SUMMARY:Indian Law Section Meeting
DESCRIPTION:
URL:https://isb.idaho.gov/event/indian-law-section-meeting-2/2028-02-04/
CATEGORIES:Indian Law Section
END:VEVENT
BEGIN:VEVENT
DTSTART;TZID=America/Boise:20280208T120000
DTEND;TZID=America/Boise:20280208T130000
DTSTAMP:20260422T201207
CREATED:20250815T161726Z
LAST-MODIFIED:20260401T221146Z
UID:10003296-1833624000-1833627600@isb.idaho.gov
SUMMARY:Taxation\, Probate & Trust Law Section Meeting
DESCRIPTION:
URL:https://isb.idaho.gov/event/taxation-probate-trust-law-section-meeting-2-2/2028-02-08/
CATEGORIES:Taxation, Probate & Trust Law Section
END:VEVENT
BEGIN:VEVENT
DTSTART;TZID=America/Boise:20280209T120000
DTEND;TZID=America/Boise:20280209T130000
DTSTAMP:20260422T201207
CREATED:20240726T194211Z
LAST-MODIFIED:20260401T220900Z
UID:10001263-1833710400-1833714000@isb.idaho.gov
SUMMARY:Business & Corporate Law Section Meeting
DESCRIPTION:
URL:https://isb.idaho.gov/event/business-corporate-law-section-meeting/2028-02-09/
CATEGORIES:Business & Corporate Law Section
END:VEVENT
BEGIN:VEVENT
DTSTART;TZID=America/Boise:20280211T120000
DTEND;TZID=America/Boise:20280211T130000
DTSTAMP:20260422T201207
CREATED:20240726T194211Z
LAST-MODIFIED:20260401T220951Z
UID:10001881-1833883200-1833886800@isb.idaho.gov
SUMMARY:Family Law Section Meeting
DESCRIPTION:
URL:https://isb.idaho.gov/event/family-law-section-meeting/2028-02-11/
CATEGORIES:Family Law Section
END:VEVENT
BEGIN:VEVENT
DTSTART;TZID=America/Boise:20280215T120000
DTEND;TZID=America/Boise:20280215T130000
DTSTAMP:20260422T201207
CREATED:20240726T194141Z
LAST-MODIFIED:20260401T222312Z
UID:10002560-1834228800-1834232400@isb.idaho.gov
SUMMARY:Young Lawyers Section Meeting
DESCRIPTION:
URL:https://isb.idaho.gov/event/young-lawyers-section-meeting/2028-02-15/
CATEGORIES:Young Lawyers Section
END:VEVENT
BEGIN:VEVENT
DTSTART;TZID=America/Boise:20280216T120000
DTEND;TZID=America/Boise:20280216T130000
DTSTAMP:20260422T201207
CREATED:20250818T165204Z
LAST-MODIFIED:20260401T224318Z
UID:10001605-1834315200-1834318800@isb.idaho.gov
SUMMARY:Dispute Resolution Section Meeting
DESCRIPTION:
URL:https://isb.idaho.gov/event/dispute-resolution-section-meeting-2/2028-02-16/
CATEGORIES:Dispute Resolution Section
END:VEVENT
BEGIN:VEVENT
DTSTART;TZID=America/Boise:20280216T160000
DTEND;TZID=America/Boise:20280216T170000
DTSTAMP:20260422T201207
CREATED:20240726T175006Z
LAST-MODIFIED:20260401T221958Z
UID:10001562-1834329600-1834333200@isb.idaho.gov
SUMMARY:Commercial Law & Bankruptcy Section Meeting
DESCRIPTION:
URL:https://isb.idaho.gov/event/commercial-law-bankruptcy-section-meeting/2028-02-16/
CATEGORIES:Commercial Law & Bankruptcy Section
END:VEVENT
BEGIN:VEVENT
DTSTART;TZID=America/Boise:20280217T120000
DTEND;TZID=America/Boise:20280217T130000
DTSTAMP:20260422T201207
CREATED:20240726T194211Z
LAST-MODIFIED:20260413T151349Z
UID:10002146-1834401600-1834405200@isb.idaho.gov
SUMMARY:Intellectual Property Law Section Meeting
DESCRIPTION:
URL:https://isb.idaho.gov/event/intellectual-property-law-section-meeting/2028-02-17/
CATEGORIES:Intellectual Property Law Section
END:VEVENT
BEGIN:VEVENT
DTSTART;TZID=America/Boise:20280218T120000
DTEND;TZID=America/Boise:20280218T130000
DTSTAMP:20260422T201207
CREATED:20240726T193626Z
LAST-MODIFIED:20260401T222237Z
UID:10002241-1834488000-1834491600@isb.idaho.gov
SUMMARY:Litigation Section Meeting
DESCRIPTION:
URL:https://isb.idaho.gov/event/litigation-section-meeting/2028-02-18/
CATEGORIES:Litigation Section
END:VEVENT
BEGIN:VEVENT
DTSTART;TZID=America/Boise:20280222T120000
DTEND;TZID=America/Boise:20280222T130000
DTSTAMP:20260422T201207
CREATED:20240726T194341Z
LAST-MODIFIED:20260401T221703Z
UID:10001085-1834833600-1834837200@isb.idaho.gov
SUMMARY:Animal Law Section Meeting
DESCRIPTION:
URL:https://isb.idaho.gov/event/animal-law-section-meeting/2028-02-22/
CATEGORIES:Animal Law Section
END:VEVENT
BEGIN:VEVENT
DTSTART;TZID=America/Boise:20280223T120000
DTEND;TZID=America/Boise:20280223T130000
DTSTAMP:20260422T201207
CREATED:20240726T173306Z
LAST-MODIFIED:20260401T223343Z
UID:10001815-1834920000-1834923600@isb.idaho.gov
SUMMARY:Environment & Natural Resources Law Section Meeting
DESCRIPTION:
URL:https://isb.idaho.gov/event/environment-natural-resources-law-section-meeting/2028-02-23/
CATEGORIES:Environment & Natural Resources Law Section
END:VEVENT
BEGIN:VEVENT
DTSTART;TZID=America/Boise:20280223T120000
DTEND;TZID=America/Boise:20280223T130000
DTSTAMP:20260422T201207
CREATED:20240726T194141Z
LAST-MODIFIED:20260401T222401Z
UID:10001732-1834920000-1834923600@isb.idaho.gov
SUMMARY:Employment & Labor Law Section Meeting
DESCRIPTION:
URL:https://isb.idaho.gov/event/employment-labor-law-section-meeting/2028-02-23/
CATEGORIES:Employment & Labor Law Section
END:VEVENT
BEGIN:VEVENT
DTSTART;TZID=America/Boise:20280224T120000
DTEND;TZID=America/Boise:20280224T130000
DTSTAMP:20260422T201207
CREATED:20240726T194141Z
LAST-MODIFIED:20260401T221917Z
UID:10001027-1835006400-1835010000@isb.idaho.gov
SUMMARY:Agricultural Law Section Meeting
DESCRIPTION:
URL:https://isb.idaho.gov/event/agricultural-law-section-meeting/2028-02-24/
CATEGORIES:Agricultural Law Section
END:VEVENT
BEGIN:VEVENT
DTSTART;TZID=America/Boise:20280225T120000
DTEND;TZID=America/Boise:20280225T130000
DTSTAMP:20260422T201207
CREATED:20240726T194155Z
LAST-MODIFIED:20260414T145846Z
UID:10001341-1835092800-1835096400@isb.idaho.gov
SUMMARY:Child Protection Section Meeting
DESCRIPTION:
URL:https://isb.idaho.gov/event/child-protection-section-meeting/2028-02-25/
CATEGORIES:Child Protection Section
END:VEVENT
BEGIN:VEVENT
DTSTART;TZID=America/Boise:20280301T120000
DTEND;TZID=America/Boise:20280301T130000
DTSTAMP:20260422T201207
CREATED:20240726T185941Z
LAST-MODIFIED:20260401T220244Z
UID:10002376-1835524800-1835528400@isb.idaho.gov
SUMMARY:Real Property Section Meeting
DESCRIPTION:
URL:https://isb.idaho.gov/event/real-property-section-meeting/2028-03-01/
CATEGORIES:Real Property Section
END:VEVENT
BEGIN:VEVENT
DTSTART;TZID=America/Boise:20280302T120000
DTEND;TZID=America/Boise:20280302T130000
DTSTAMP:20260422T201207
CREATED:20240726T194156Z
LAST-MODIFIED:20260401T220217Z
UID:10001986-1835611200-1835614800@isb.idaho.gov
SUMMARY:Government & Public Sector Lawyers Section Meeting
DESCRIPTION:
URL:https://isb.idaho.gov/event/government-public-sector-lawyers-section-meeting/2028-03-02/
CATEGORIES:Government & Public Sector Lawyers Section
END:VEVENT
END:VCALENDAR