BEGIN:VCALENDAR
VERSION:2.0
PRODID:-//Idaho State Bar - ECPv6.15.20//NONSGML v1.0//EN
CALSCALE:GREGORIAN
METHOD:PUBLISH
X-WR-CALNAME:Idaho State Bar
X-ORIGINAL-URL:https://isb.idaho.gov
X-WR-CALDESC:Events for Idaho State Bar
REFRESH-INTERVAL;VALUE=DURATION:PT1H
X-Robots-Tag:noindex
X-PUBLISHED-TTL:PT1H
BEGIN:VTIMEZONE
TZID:America/Boise
BEGIN:DAYLIGHT
TZOFFSETFROM:-0700
TZOFFSETTO:-0600
TZNAME:MDT
DTSTART:20270314T090000
END:DAYLIGHT
BEGIN:STANDARD
TZOFFSETFROM:-0600
TZOFFSETTO:-0700
TZNAME:MST
DTSTART:20271107T080000
END:STANDARD
BEGIN:DAYLIGHT
TZOFFSETFROM:-0700
TZOFFSETTO:-0600
TZNAME:MDT
DTSTART:20280312T090000
END:DAYLIGHT
BEGIN:STANDARD
TZOFFSETFROM:-0600
TZOFFSETTO:-0700
TZNAME:MST
DTSTART:20281105T080000
END:STANDARD
BEGIN:DAYLIGHT
TZOFFSETFROM:-0700
TZOFFSETTO:-0600
TZNAME:MDT
DTSTART:20290311T090000
END:DAYLIGHT
BEGIN:STANDARD
TZOFFSETFROM:-0600
TZOFFSETTO:-0700
TZNAME:MST
DTSTART:20291104T080000
END:STANDARD
BEGIN:DAYLIGHT
TZOFFSETFROM:-0700
TZOFFSETTO:-0600
TZNAME:MDT
DTSTART:20300310T090000
END:DAYLIGHT
BEGIN:STANDARD
TZOFFSETFROM:-0600
TZOFFSETTO:-0700
TZNAME:MST
DTSTART:20301103T080000
END:STANDARD
BEGIN:DAYLIGHT
TZOFFSETFROM:-0700
TZOFFSETTO:-0600
TZNAME:MDT
DTSTART:20310309T090000
END:DAYLIGHT
BEGIN:STANDARD
TZOFFSETFROM:-0600
TZOFFSETTO:-0700
TZNAME:MST
DTSTART:20311102T080000
END:STANDARD
BEGIN:DAYLIGHT
TZOFFSETFROM:-0700
TZOFFSETTO:-0600
TZNAME:MDT
DTSTART:20320314T090000
END:DAYLIGHT
BEGIN:STANDARD
TZOFFSETFROM:-0600
TZOFFSETTO:-0700
TZNAME:MST
DTSTART:20321107T080000
END:STANDARD
END:VTIMEZONE
BEGIN:VEVENT
DTSTART;TZID=America/Boise:20281004T120000
DTEND;TZID=America/Boise:20281004T130000
DTSTAMP:20260424T165132
CREATED:20240726T185941Z
LAST-MODIFIED:20260401T220244Z
UID:10002380-1854273600-1854277200@isb.idaho.gov
SUMMARY:Real Property Section Meeting
DESCRIPTION:
URL:https://isb.idaho.gov/event/real-property-section-meeting/2028-10-04/
CATEGORIES:Real Property Section
END:VEVENT
BEGIN:VEVENT
DTSTART;TZID=America/Boise:20281101T120000
DTEND;TZID=America/Boise:20281101T130000
DTSTAMP:20260424T165132
CREATED:20240726T185941Z
LAST-MODIFIED:20260401T220244Z
UID:10002381-1856692800-1856696400@isb.idaho.gov
SUMMARY:Real Property Section Meeting
DESCRIPTION:
URL:https://isb.idaho.gov/event/real-property-section-meeting/2028-11-01/
CATEGORIES:Real Property Section
END:VEVENT
BEGIN:VEVENT
DTSTART;TZID=America/Boise:20281206T120000
DTEND;TZID=America/Boise:20281206T130000
DTSTAMP:20260424T165132
CREATED:20240726T185941Z
LAST-MODIFIED:20260401T220244Z
UID:10002382-1859716800-1859720400@isb.idaho.gov
SUMMARY:Real Property Section Meeting
DESCRIPTION:
URL:https://isb.idaho.gov/event/real-property-section-meeting/2028-12-06/
CATEGORIES:Real Property Section
END:VEVENT
BEGIN:VEVENT
DTSTART;TZID=America/Boise:20290103T120000
DTEND;TZID=America/Boise:20290103T130000
DTSTAMP:20260424T165132
CREATED:20240726T185941Z
LAST-MODIFIED:20260401T220244Z
UID:10002383-1862136000-1862139600@isb.idaho.gov
SUMMARY:Real Property Section Meeting
DESCRIPTION:
URL:https://isb.idaho.gov/event/real-property-section-meeting/2029-01-03/
CATEGORIES:Real Property Section
END:VEVENT
BEGIN:VEVENT
DTSTART;TZID=America/Boise:20290207T120000
DTEND;TZID=America/Boise:20290207T130000
DTSTAMP:20260424T165132
CREATED:20240726T185941Z
LAST-MODIFIED:20260401T220244Z
UID:10002384-1865160000-1865163600@isb.idaho.gov
SUMMARY:Real Property Section Meeting
DESCRIPTION:
URL:https://isb.idaho.gov/event/real-property-section-meeting/2029-02-07/
CATEGORIES:Real Property Section
END:VEVENT
BEGIN:VEVENT
DTSTART;TZID=America/Boise:20290307T120000
DTEND;TZID=America/Boise:20290307T130000
DTSTAMP:20260424T165132
CREATED:20240726T185941Z
LAST-MODIFIED:20260401T220244Z
UID:10002385-1867579200-1867582800@isb.idaho.gov
SUMMARY:Real Property Section Meeting
DESCRIPTION:
URL:https://isb.idaho.gov/event/real-property-section-meeting/2029-03-07/
CATEGORIES:Real Property Section
END:VEVENT
BEGIN:VEVENT
DTSTART;TZID=America/Boise:20290404T120000
DTEND;TZID=America/Boise:20290404T130000
DTSTAMP:20260424T165132
CREATED:20240726T185941Z
LAST-MODIFIED:20260401T220244Z
UID:10002386-1869998400-1870002000@isb.idaho.gov
SUMMARY:Real Property Section Meeting
DESCRIPTION:
URL:https://isb.idaho.gov/event/real-property-section-meeting/2029-04-04/
CATEGORIES:Real Property Section
END:VEVENT
BEGIN:VEVENT
DTSTART;TZID=America/Boise:20290502T120000
DTEND;TZID=America/Boise:20290502T130000
DTSTAMP:20260424T165132
CREATED:20240726T185941Z
LAST-MODIFIED:20260401T220244Z
UID:10002387-1872417600-1872421200@isb.idaho.gov
SUMMARY:Real Property Section Meeting
DESCRIPTION:
URL:https://isb.idaho.gov/event/real-property-section-meeting/2029-05-02/
CATEGORIES:Real Property Section
END:VEVENT
BEGIN:VEVENT
DTSTART;TZID=America/Boise:20290905T120000
DTEND;TZID=America/Boise:20290905T130000
DTSTAMP:20260424T165132
CREATED:20240726T185941Z
LAST-MODIFIED:20260401T220244Z
UID:10002388-1883304000-1883307600@isb.idaho.gov
SUMMARY:Real Property Section Meeting
DESCRIPTION:
URL:https://isb.idaho.gov/event/real-property-section-meeting/2029-09-05/
CATEGORIES:Real Property Section
END:VEVENT
BEGIN:VEVENT
DTSTART;TZID=America/Boise:20291003T120000
DTEND;TZID=America/Boise:20291003T130000
DTSTAMP:20260424T165132
CREATED:20240726T185941Z
LAST-MODIFIED:20260401T220244Z
UID:10002389-1885723200-1885726800@isb.idaho.gov
SUMMARY:Real Property Section Meeting
DESCRIPTION:
URL:https://isb.idaho.gov/event/real-property-section-meeting/2029-10-03/
CATEGORIES:Real Property Section
END:VEVENT
BEGIN:VEVENT
DTSTART;TZID=America/Boise:20291107T120000
DTEND;TZID=America/Boise:20291107T130000
DTSTAMP:20260424T165132
CREATED:20240726T185941Z
LAST-MODIFIED:20260401T220244Z
UID:10002390-1888747200-1888750800@isb.idaho.gov
SUMMARY:Real Property Section Meeting
DESCRIPTION:
URL:https://isb.idaho.gov/event/real-property-section-meeting/2029-11-07/
CATEGORIES:Real Property Section
END:VEVENT
BEGIN:VEVENT
DTSTART;TZID=America/Boise:20291205T120000
DTEND;TZID=America/Boise:20291205T130000
DTSTAMP:20260424T165132
CREATED:20240726T185941Z
LAST-MODIFIED:20260401T220244Z
UID:10002391-1891166400-1891170000@isb.idaho.gov
SUMMARY:Real Property Section Meeting
DESCRIPTION:
URL:https://isb.idaho.gov/event/real-property-section-meeting/2029-12-05/
CATEGORIES:Real Property Section
END:VEVENT
BEGIN:VEVENT
DTSTART;TZID=America/Boise:20300102T120000
DTEND;TZID=America/Boise:20300102T130000
DTSTAMP:20260424T165132
CREATED:20240726T185941Z
LAST-MODIFIED:20260401T220244Z
UID:10002962-1893585600-1893589200@isb.idaho.gov
SUMMARY:Real Property Section Meeting
DESCRIPTION:
URL:https://isb.idaho.gov/event/real-property-section-meeting/2030-01-02/
CATEGORIES:Real Property Section
END:VEVENT
BEGIN:VEVENT
DTSTART;TZID=America/Boise:20300206T120000
DTEND;TZID=America/Boise:20300206T130000
DTSTAMP:20260424T165132
CREATED:20240726T185941Z
LAST-MODIFIED:20260401T220244Z
UID:10002963-1896609600-1896613200@isb.idaho.gov
SUMMARY:Real Property Section Meeting
DESCRIPTION:
URL:https://isb.idaho.gov/event/real-property-section-meeting/2030-02-06/
CATEGORIES:Real Property Section
END:VEVENT
BEGIN:VEVENT
DTSTART;TZID=America/Boise:20300306T120000
DTEND;TZID=America/Boise:20300306T130000
DTSTAMP:20260424T165132
CREATED:20240726T185941Z
LAST-MODIFIED:20260401T220244Z
UID:10002964-1899028800-1899032400@isb.idaho.gov
SUMMARY:Real Property Section Meeting
DESCRIPTION:
URL:https://isb.idaho.gov/event/real-property-section-meeting/2030-03-06/
CATEGORIES:Real Property Section
END:VEVENT
BEGIN:VEVENT
DTSTART;TZID=America/Boise:20300403T120000
DTEND;TZID=America/Boise:20300403T130000
DTSTAMP:20260424T165132
CREATED:20240726T185941Z
LAST-MODIFIED:20260401T220244Z
UID:10002965-1901448000-1901451600@isb.idaho.gov
SUMMARY:Real Property Section Meeting
DESCRIPTION:
URL:https://isb.idaho.gov/event/real-property-section-meeting/2030-04-03/
CATEGORIES:Real Property Section
END:VEVENT
BEGIN:VEVENT
DTSTART;TZID=America/Boise:20300501T120000
DTEND;TZID=America/Boise:20300501T130000
DTSTAMP:20260424T165132
CREATED:20240726T185941Z
LAST-MODIFIED:20260401T220244Z
UID:10002966-1903867200-1903870800@isb.idaho.gov
SUMMARY:Real Property Section Meeting
DESCRIPTION:
URL:https://isb.idaho.gov/event/real-property-section-meeting/2030-05-01/
CATEGORIES:Real Property Section
END:VEVENT
BEGIN:VEVENT
DTSTART;TZID=America/Boise:20300904T120000
DTEND;TZID=America/Boise:20300904T130000
DTSTAMP:20260424T165132
CREATED:20240726T185941Z
LAST-MODIFIED:20260401T220244Z
UID:10003473-1914753600-1914757200@isb.idaho.gov
SUMMARY:Real Property Section Meeting
DESCRIPTION:
URL:https://isb.idaho.gov/event/real-property-section-meeting/2030-09-04/
CATEGORIES:Real Property Section
END:VEVENT
BEGIN:VEVENT
DTSTART;TZID=America/Boise:20301002T120000
DTEND;TZID=America/Boise:20301002T130000
DTSTAMP:20260424T165132
CREATED:20240726T185941Z
LAST-MODIFIED:20260401T220244Z
UID:10003474-1917172800-1917176400@isb.idaho.gov
SUMMARY:Real Property Section Meeting
DESCRIPTION:
URL:https://isb.idaho.gov/event/real-property-section-meeting/2030-10-02/
CATEGORIES:Real Property Section
END:VEVENT
BEGIN:VEVENT
DTSTART;TZID=America/Boise:20301106T120000
DTEND;TZID=America/Boise:20301106T130000
DTSTAMP:20260424T165132
CREATED:20240726T185941Z
LAST-MODIFIED:20260401T220244Z
UID:10003475-1920196800-1920200400@isb.idaho.gov
SUMMARY:Real Property Section Meeting
DESCRIPTION:
URL:https://isb.idaho.gov/event/real-property-section-meeting/2030-11-06/
CATEGORIES:Real Property Section
END:VEVENT
BEGIN:VEVENT
DTSTART;TZID=America/Boise:20301204T120000
DTEND;TZID=America/Boise:20301204T130000
DTSTAMP:20260424T165132
CREATED:20240726T185941Z
LAST-MODIFIED:20260401T220244Z
UID:10003476-1922616000-1922619600@isb.idaho.gov
SUMMARY:Real Property Section Meeting
DESCRIPTION:
URL:https://isb.idaho.gov/event/real-property-section-meeting/2030-12-04/
CATEGORIES:Real Property Section
END:VEVENT
BEGIN:VEVENT
DTSTART;TZID=America/Boise:20310101T120000
DTEND;TZID=America/Boise:20310101T130000
DTSTAMP:20260424T165132
CREATED:20240726T185941Z
LAST-MODIFIED:20260401T220244Z
UID:10003477-1925035200-1925038800@isb.idaho.gov
SUMMARY:Real Property Section Meeting
DESCRIPTION:
URL:https://isb.idaho.gov/event/real-property-section-meeting/2031-01-01/
CATEGORIES:Real Property Section
END:VEVENT
BEGIN:VEVENT
DTSTART;TZID=America/Boise:20310205T120000
DTEND;TZID=America/Boise:20310205T130000
DTSTAMP:20260424T165132
CREATED:20240726T185941Z
LAST-MODIFIED:20260401T220244Z
UID:10003580-1928059200-1928062800@isb.idaho.gov
SUMMARY:Real Property Section Meeting
DESCRIPTION:
URL:https://isb.idaho.gov/event/real-property-section-meeting/2031-02-05/
CATEGORIES:Real Property Section
END:VEVENT
BEGIN:VEVENT
DTSTART;TZID=America/Boise:20310305T120000
DTEND;TZID=America/Boise:20310305T130000
DTSTAMP:20260424T165132
CREATED:20240726T185941Z
LAST-MODIFIED:20260401T220244Z
UID:10003581-1930478400-1930482000@isb.idaho.gov
SUMMARY:Real Property Section Meeting
DESCRIPTION:
URL:https://isb.idaho.gov/event/real-property-section-meeting/2031-03-05/
CATEGORIES:Real Property Section
END:VEVENT
END:VCALENDAR