BEGIN:VCALENDAR
VERSION:2.0
PRODID:-//Idaho State Bar - ECPv6.15.20//NONSGML v1.0//EN
CALSCALE:GREGORIAN
METHOD:PUBLISH
X-WR-CALNAME:Idaho State Bar
X-ORIGINAL-URL:https://isb.idaho.gov
X-WR-CALDESC:Events for Idaho State Bar
REFRESH-INTERVAL;VALUE=DURATION:PT1H
X-Robots-Tag:noindex
X-PUBLISHED-TTL:PT1H
BEGIN:VTIMEZONE
TZID:America/Boise
BEGIN:DAYLIGHT
TZOFFSETFROM:-0700
TZOFFSETTO:-0600
TZNAME:MDT
DTSTART:20250309T090000
END:DAYLIGHT
BEGIN:STANDARD
TZOFFSETFROM:-0600
TZOFFSETTO:-0700
TZNAME:MST
DTSTART:20251102T080000
END:STANDARD
BEGIN:DAYLIGHT
TZOFFSETFROM:-0700
TZOFFSETTO:-0600
TZNAME:MDT
DTSTART:20260308T090000
END:DAYLIGHT
BEGIN:STANDARD
TZOFFSETFROM:-0600
TZOFFSETTO:-0700
TZNAME:MST
DTSTART:20261101T080000
END:STANDARD
BEGIN:DAYLIGHT
TZOFFSETFROM:-0700
TZOFFSETTO:-0600
TZNAME:MDT
DTSTART:20270314T090000
END:DAYLIGHT
BEGIN:STANDARD
TZOFFSETFROM:-0600
TZOFFSETTO:-0700
TZNAME:MST
DTSTART:20271107T080000
END:STANDARD
BEGIN:DAYLIGHT
TZOFFSETFROM:-0700
TZOFFSETTO:-0600
TZNAME:MDT
DTSTART:20280312T090000
END:DAYLIGHT
BEGIN:STANDARD
TZOFFSETFROM:-0600
TZOFFSETTO:-0700
TZNAME:MST
DTSTART:20281105T080000
END:STANDARD
BEGIN:DAYLIGHT
TZOFFSETFROM:-0700
TZOFFSETTO:-0600
TZNAME:MDT
DTSTART:20290311T090000
END:DAYLIGHT
BEGIN:STANDARD
TZOFFSETFROM:-0600
TZOFFSETTO:-0700
TZNAME:MST
DTSTART:20291104T080000
END:STANDARD
BEGIN:DAYLIGHT
TZOFFSETFROM:-0700
TZOFFSETTO:-0600
TZNAME:MDT
DTSTART:20300310T090000
END:DAYLIGHT
BEGIN:STANDARD
TZOFFSETFROM:-0600
TZOFFSETTO:-0700
TZNAME:MST
DTSTART:20301103T080000
END:STANDARD
BEGIN:DAYLIGHT
TZOFFSETFROM:-0700
TZOFFSETTO:-0600
TZNAME:MDT
DTSTART:20310309T090000
END:DAYLIGHT
BEGIN:STANDARD
TZOFFSETFROM:-0600
TZOFFSETTO:-0700
TZNAME:MST
DTSTART:20311102T080000
END:STANDARD
BEGIN:DAYLIGHT
TZOFFSETFROM:-0700
TZOFFSETTO:-0600
TZNAME:MDT
DTSTART:20320314T090000
END:DAYLIGHT
BEGIN:STANDARD
TZOFFSETFROM:-0600
TZOFFSETTO:-0700
TZNAME:MST
DTSTART:20321107T080000
END:STANDARD
END:VTIMEZONE
BEGIN:VEVENT
DTSTART;TZID=America/Boise:20260618T120000
DTEND;TZID=America/Boise:20260618T130000
DTSTAMP:20260424T161057
CREATED:20240726T194211Z
LAST-MODIFIED:20260413T151349Z
UID:10002136-1781784000-1781787600@isb.idaho.gov
SUMMARY:Intellectual Property Law Section Meeting
DESCRIPTION:
URL:https://isb.idaho.gov/event/intellectual-property-law-section-meeting/2026-06-18/
CATEGORIES:Intellectual Property Law Section
END:VEVENT
BEGIN:VEVENT
DTSTART;TZID=America/Boise:20260820T120000
DTEND;TZID=America/Boise:20260820T130000
DTSTAMP:20260424T161057
CREATED:20240726T194211Z
LAST-MODIFIED:20260413T151349Z
UID:10002137-1787227200-1787230800@isb.idaho.gov
SUMMARY:Intellectual Property Law Section Meeting
DESCRIPTION:
URL:https://isb.idaho.gov/event/intellectual-property-law-section-meeting/2026-08-20/
CATEGORIES:Intellectual Property Law Section
END:VEVENT
BEGIN:VEVENT
DTSTART;TZID=America/Boise:20261015T120000
DTEND;TZID=America/Boise:20261015T130000
DTSTAMP:20260424T161057
CREATED:20240726T194211Z
LAST-MODIFIED:20260413T151349Z
UID:10002138-1792065600-1792069200@isb.idaho.gov
SUMMARY:Intellectual Property Law Section Meeting
DESCRIPTION:
URL:https://isb.idaho.gov/event/intellectual-property-law-section-meeting/2026-10-15/
CATEGORIES:Intellectual Property Law Section
END:VEVENT
BEGIN:VEVENT
DTSTART;TZID=America/Boise:20261217T120000
DTEND;TZID=America/Boise:20261217T130000
DTSTAMP:20260424T161057
CREATED:20240726T194211Z
LAST-MODIFIED:20260413T151349Z
UID:10002139-1797508800-1797512400@isb.idaho.gov
SUMMARY:Intellectual Property Law Section Meeting
DESCRIPTION:
URL:https://isb.idaho.gov/event/intellectual-property-law-section-meeting/2026-12-17/
CATEGORIES:Intellectual Property Law Section
END:VEVENT
BEGIN:VEVENT
DTSTART;TZID=America/Boise:20270218T120000
DTEND;TZID=America/Boise:20270218T130000
DTSTAMP:20260424T161057
CREATED:20240726T194211Z
LAST-MODIFIED:20260413T151349Z
UID:10002140-1802952000-1802955600@isb.idaho.gov
SUMMARY:Intellectual Property Law Section Meeting
DESCRIPTION:
URL:https://isb.idaho.gov/event/intellectual-property-law-section-meeting/2027-02-18/
CATEGORIES:Intellectual Property Law Section
END:VEVENT
BEGIN:VEVENT
DTSTART;TZID=America/Boise:20270415T120000
DTEND;TZID=America/Boise:20270415T130000
DTSTAMP:20260424T161057
CREATED:20240726T194211Z
LAST-MODIFIED:20260413T151349Z
UID:10002141-1807790400-1807794000@isb.idaho.gov
SUMMARY:Intellectual Property Law Section Meeting
DESCRIPTION:
URL:https://isb.idaho.gov/event/intellectual-property-law-section-meeting/2027-04-15/
CATEGORIES:Intellectual Property Law Section
END:VEVENT
BEGIN:VEVENT
DTSTART;TZID=America/Boise:20270617T120000
DTEND;TZID=America/Boise:20270617T130000
DTSTAMP:20260424T161057
CREATED:20240726T194211Z
LAST-MODIFIED:20260413T151349Z
UID:10002142-1813233600-1813237200@isb.idaho.gov
SUMMARY:Intellectual Property Law Section Meeting
DESCRIPTION:
URL:https://isb.idaho.gov/event/intellectual-property-law-section-meeting/2027-06-17/
CATEGORIES:Intellectual Property Law Section
END:VEVENT
BEGIN:VEVENT
DTSTART;TZID=America/Boise:20270819T120000
DTEND;TZID=America/Boise:20270819T130000
DTSTAMP:20260424T161057
CREATED:20240726T194211Z
LAST-MODIFIED:20260413T151349Z
UID:10002143-1818676800-1818680400@isb.idaho.gov
SUMMARY:Intellectual Property Law Section Meeting
DESCRIPTION:
URL:https://isb.idaho.gov/event/intellectual-property-law-section-meeting/2027-08-19/
CATEGORIES:Intellectual Property Law Section
END:VEVENT
BEGIN:VEVENT
DTSTART;TZID=America/Boise:20271021T120000
DTEND;TZID=America/Boise:20271021T130000
DTSTAMP:20260424T161057
CREATED:20240726T194211Z
LAST-MODIFIED:20260413T151349Z
UID:10002144-1824120000-1824123600@isb.idaho.gov
SUMMARY:Intellectual Property Law Section Meeting
DESCRIPTION:
URL:https://isb.idaho.gov/event/intellectual-property-law-section-meeting/2027-10-21/
CATEGORIES:Intellectual Property Law Section
END:VEVENT
BEGIN:VEVENT
DTSTART;TZID=America/Boise:20271216T120000
DTEND;TZID=America/Boise:20271216T130000
DTSTAMP:20260424T161057
CREATED:20240726T194211Z
LAST-MODIFIED:20260413T151349Z
UID:10002145-1828958400-1828962000@isb.idaho.gov
SUMMARY:Intellectual Property Law Section Meeting
DESCRIPTION:
URL:https://isb.idaho.gov/event/intellectual-property-law-section-meeting/2027-12-16/
CATEGORIES:Intellectual Property Law Section
END:VEVENT
BEGIN:VEVENT
DTSTART;TZID=America/Boise:20280217T120000
DTEND;TZID=America/Boise:20280217T130000
DTSTAMP:20260424T161057
CREATED:20240726T194211Z
LAST-MODIFIED:20260413T151349Z
UID:10002146-1834401600-1834405200@isb.idaho.gov
SUMMARY:Intellectual Property Law Section Meeting
DESCRIPTION:
URL:https://isb.idaho.gov/event/intellectual-property-law-section-meeting/2028-02-17/
CATEGORIES:Intellectual Property Law Section
END:VEVENT
BEGIN:VEVENT
DTSTART;TZID=America/Boise:20280420T120000
DTEND;TZID=America/Boise:20280420T130000
DTSTAMP:20260424T161057
CREATED:20240726T194211Z
LAST-MODIFIED:20260413T151349Z
UID:10002147-1839844800-1839848400@isb.idaho.gov
SUMMARY:Intellectual Property Law Section Meeting
DESCRIPTION:
URL:https://isb.idaho.gov/event/intellectual-property-law-section-meeting/2028-04-20/
CATEGORIES:Intellectual Property Law Section
END:VEVENT
BEGIN:VEVENT
DTSTART;TZID=America/Boise:20280615T120000
DTEND;TZID=America/Boise:20280615T130000
DTSTAMP:20260424T161057
CREATED:20240726T194211Z
LAST-MODIFIED:20260413T151349Z
UID:10002148-1844683200-1844686800@isb.idaho.gov
SUMMARY:Intellectual Property Law Section Meeting
DESCRIPTION:
URL:https://isb.idaho.gov/event/intellectual-property-law-section-meeting/2028-06-15/
CATEGORIES:Intellectual Property Law Section
END:VEVENT
BEGIN:VEVENT
DTSTART;TZID=America/Boise:20280817T120000
DTEND;TZID=America/Boise:20280817T130000
DTSTAMP:20260424T161057
CREATED:20240726T194211Z
LAST-MODIFIED:20260413T151349Z
UID:10002149-1850126400-1850130000@isb.idaho.gov
SUMMARY:Intellectual Property Law Section Meeting
DESCRIPTION:
URL:https://isb.idaho.gov/event/intellectual-property-law-section-meeting/2028-08-17/
CATEGORIES:Intellectual Property Law Section
END:VEVENT
BEGIN:VEVENT
DTSTART;TZID=America/Boise:20281019T120000
DTEND;TZID=America/Boise:20281019T130000
DTSTAMP:20260424T161057
CREATED:20240726T194211Z
LAST-MODIFIED:20260413T151349Z
UID:10002150-1855569600-1855573200@isb.idaho.gov
SUMMARY:Intellectual Property Law Section Meeting
DESCRIPTION:
URL:https://isb.idaho.gov/event/intellectual-property-law-section-meeting/2028-10-19/
CATEGORIES:Intellectual Property Law Section
END:VEVENT
BEGIN:VEVENT
DTSTART;TZID=America/Boise:20281221T120000
DTEND;TZID=America/Boise:20281221T130000
DTSTAMP:20260424T161057
CREATED:20240726T194211Z
LAST-MODIFIED:20260413T151349Z
UID:10002151-1861012800-1861016400@isb.idaho.gov
SUMMARY:Intellectual Property Law Section Meeting
DESCRIPTION:
URL:https://isb.idaho.gov/event/intellectual-property-law-section-meeting/2028-12-21/
CATEGORIES:Intellectual Property Law Section
END:VEVENT
BEGIN:VEVENT
DTSTART;TZID=America/Boise:20290215T120000
DTEND;TZID=America/Boise:20290215T130000
DTSTAMP:20260424T161057
CREATED:20240726T194211Z
LAST-MODIFIED:20260413T151349Z
UID:10002152-1865851200-1865854800@isb.idaho.gov
SUMMARY:Intellectual Property Law Section Meeting
DESCRIPTION:
URL:https://isb.idaho.gov/event/intellectual-property-law-section-meeting/2029-02-15/
CATEGORIES:Intellectual Property Law Section
END:VEVENT
BEGIN:VEVENT
DTSTART;TZID=America/Boise:20290419T120000
DTEND;TZID=America/Boise:20290419T130000
DTSTAMP:20260424T161057
CREATED:20240726T194211Z
LAST-MODIFIED:20260413T151349Z
UID:10002153-1871294400-1871298000@isb.idaho.gov
SUMMARY:Intellectual Property Law Section Meeting
DESCRIPTION:
URL:https://isb.idaho.gov/event/intellectual-property-law-section-meeting/2029-04-19/
CATEGORIES:Intellectual Property Law Section
END:VEVENT
BEGIN:VEVENT
DTSTART;TZID=America/Boise:20290621T120000
DTEND;TZID=America/Boise:20290621T130000
DTSTAMP:20260424T161057
CREATED:20240726T194211Z
LAST-MODIFIED:20260413T151349Z
UID:10002154-1876737600-1876741200@isb.idaho.gov
SUMMARY:Intellectual Property Law Section Meeting
DESCRIPTION:
URL:https://isb.idaho.gov/event/intellectual-property-law-section-meeting/2029-06-21/
CATEGORIES:Intellectual Property Law Section
END:VEVENT
BEGIN:VEVENT
DTSTART;TZID=America/Boise:20290816T120000
DTEND;TZID=America/Boise:20290816T130000
DTSTAMP:20260424T161057
CREATED:20240726T194211Z
LAST-MODIFIED:20260413T151349Z
UID:10002155-1881576000-1881579600@isb.idaho.gov
SUMMARY:Intellectual Property Law Section Meeting
DESCRIPTION:
URL:https://isb.idaho.gov/event/intellectual-property-law-section-meeting/2029-08-16/
CATEGORIES:Intellectual Property Law Section
END:VEVENT
BEGIN:VEVENT
DTSTART;TZID=America/Boise:20291018T120000
DTEND;TZID=America/Boise:20291018T130000
DTSTAMP:20260424T161057
CREATED:20240726T194211Z
LAST-MODIFIED:20260413T151349Z
UID:10002156-1887019200-1887022800@isb.idaho.gov
SUMMARY:Intellectual Property Law Section Meeting
DESCRIPTION:
URL:https://isb.idaho.gov/event/intellectual-property-law-section-meeting/2029-10-18/
CATEGORIES:Intellectual Property Law Section
END:VEVENT
BEGIN:VEVENT
DTSTART;TZID=America/Boise:20291220T120000
DTEND;TZID=America/Boise:20291220T130000
DTSTAMP:20260424T161057
CREATED:20240726T194211Z
LAST-MODIFIED:20260413T151349Z
UID:10002720-1892462400-1892466000@isb.idaho.gov
SUMMARY:Intellectual Property Law Section Meeting
DESCRIPTION:
URL:https://isb.idaho.gov/event/intellectual-property-law-section-meeting/2029-12-20/
CATEGORIES:Intellectual Property Law Section
END:VEVENT
BEGIN:VEVENT
DTSTART;TZID=America/Boise:20300221T120000
DTEND;TZID=America/Boise:20300221T130000
DTSTAMP:20260424T161057
CREATED:20240726T194211Z
LAST-MODIFIED:20260413T151349Z
UID:10003056-1897905600-1897909200@isb.idaho.gov
SUMMARY:Intellectual Property Law Section Meeting
DESCRIPTION:
URL:https://isb.idaho.gov/event/intellectual-property-law-section-meeting/2030-02-21/
CATEGORIES:Intellectual Property Law Section
END:VEVENT
BEGIN:VEVENT
DTSTART;TZID=America/Boise:20300418T120000
DTEND;TZID=America/Boise:20300418T130000
DTSTAMP:20260424T161057
CREATED:20240726T194211Z
LAST-MODIFIED:20260413T151349Z
UID:10003057-1902744000-1902747600@isb.idaho.gov
SUMMARY:Intellectual Property Law Section Meeting
DESCRIPTION:
URL:https://isb.idaho.gov/event/intellectual-property-law-section-meeting/2030-04-18/
CATEGORIES:Intellectual Property Law Section
END:VEVENT
BEGIN:VEVENT
DTSTART;TZID=America/Boise:20300620T120000
DTEND;TZID=America/Boise:20300620T130000
DTSTAMP:20260424T161057
CREATED:20240726T194211Z
LAST-MODIFIED:20260413T151349Z
UID:10003316-1908187200-1908190800@isb.idaho.gov
SUMMARY:Intellectual Property Law Section Meeting
DESCRIPTION:
URL:https://isb.idaho.gov/event/intellectual-property-law-section-meeting/2030-06-20/
CATEGORIES:Intellectual Property Law Section
END:VEVENT
BEGIN:VEVENT
DTSTART;TZID=America/Boise:20300815T120000
DTEND;TZID=America/Boise:20300815T130000
DTSTAMP:20260424T161057
CREATED:20240726T194211Z
LAST-MODIFIED:20260413T151349Z
UID:10003317-1913025600-1913029200@isb.idaho.gov
SUMMARY:Intellectual Property Law Section Meeting
DESCRIPTION:
URL:https://isb.idaho.gov/event/intellectual-property-law-section-meeting/2030-08-15/
CATEGORIES:Intellectual Property Law Section
END:VEVENT
BEGIN:VEVENT
DTSTART;TZID=America/Boise:20301017T120000
DTEND;TZID=America/Boise:20301017T130000
DTSTAMP:20260424T161058
CREATED:20240726T194211Z
LAST-MODIFIED:20260413T151349Z
UID:10003469-1918468800-1918472400@isb.idaho.gov
SUMMARY:Intellectual Property Law Section Meeting
DESCRIPTION:
URL:https://isb.idaho.gov/event/intellectual-property-law-section-meeting/2030-10-17/
CATEGORIES:Intellectual Property Law Section
END:VEVENT
BEGIN:VEVENT
DTSTART;TZID=America/Boise:20301219T120000
DTEND;TZID=America/Boise:20301219T130000
DTSTAMP:20260424T161058
CREATED:20240726T194211Z
LAST-MODIFIED:20260413T151349Z
UID:10003614-1923912000-1923915600@isb.idaho.gov
SUMMARY:Intellectual Property Law Section Meeting
DESCRIPTION:
URL:https://isb.idaho.gov/event/intellectual-property-law-section-meeting/2030-12-19/
CATEGORIES:Intellectual Property Law Section
END:VEVENT
BEGIN:VEVENT
DTSTART;TZID=America/Boise:20310220T120000
DTEND;TZID=America/Boise:20310220T130000
DTSTAMP:20260424T161058
CREATED:20240726T194211Z
LAST-MODIFIED:20260413T151349Z
UID:10003615-1929355200-1929358800@isb.idaho.gov
SUMMARY:Intellectual Property Law Section Meeting
DESCRIPTION:
URL:https://isb.idaho.gov/event/intellectual-property-law-section-meeting/2031-02-20/
CATEGORIES:Intellectual Property Law Section
END:VEVENT
END:VCALENDAR