BEGIN:VCALENDAR
VERSION:2.0
PRODID:-//Idaho State Bar - ECPv6.15.20//NONSGML v1.0//EN
CALSCALE:GREGORIAN
METHOD:PUBLISH
X-WR-CALNAME:Idaho State Bar
X-ORIGINAL-URL:https://isb.idaho.gov
X-WR-CALDESC:Events for Idaho State Bar
REFRESH-INTERVAL;VALUE=DURATION:PT1H
X-Robots-Tag:noindex
X-PUBLISHED-TTL:PT1H
BEGIN:VTIMEZONE
TZID:America/Boise
BEGIN:DAYLIGHT
TZOFFSETFROM:-0700
TZOFFSETTO:-0600
TZNAME:MDT
DTSTART:20230312T090000
END:DAYLIGHT
BEGIN:STANDARD
TZOFFSETFROM:-0600
TZOFFSETTO:-0700
TZNAME:MST
DTSTART:20231105T080000
END:STANDARD
BEGIN:DAYLIGHT
TZOFFSETFROM:-0700
TZOFFSETTO:-0600
TZNAME:MDT
DTSTART:20240310T090000
END:DAYLIGHT
BEGIN:STANDARD
TZOFFSETFROM:-0600
TZOFFSETTO:-0700
TZNAME:MST
DTSTART:20241103T080000
END:STANDARD
BEGIN:DAYLIGHT
TZOFFSETFROM:-0700
TZOFFSETTO:-0600
TZNAME:MDT
DTSTART:20250309T090000
END:DAYLIGHT
BEGIN:STANDARD
TZOFFSETFROM:-0600
TZOFFSETTO:-0700
TZNAME:MST
DTSTART:20251102T080000
END:STANDARD
BEGIN:DAYLIGHT
TZOFFSETFROM:-0700
TZOFFSETTO:-0600
TZNAME:MDT
DTSTART:20260308T090000
END:DAYLIGHT
BEGIN:STANDARD
TZOFFSETFROM:-0600
TZOFFSETTO:-0700
TZNAME:MST
DTSTART:20261101T080000
END:STANDARD
BEGIN:DAYLIGHT
TZOFFSETFROM:-0700
TZOFFSETTO:-0600
TZNAME:MDT
DTSTART:20270314T090000
END:DAYLIGHT
BEGIN:STANDARD
TZOFFSETFROM:-0600
TZOFFSETTO:-0700
TZNAME:MST
DTSTART:20271107T080000
END:STANDARD
END:VTIMEZONE
BEGIN:VEVENT
DTSTART;TZID=America/Boise:20260319T120000
DTEND;TZID=America/Boise:20260319T153000
DTSTAMP:20260425T175703
CREATED:20260206T173100Z
LAST-MODIFIED:20260306T205122Z
UID:10003539-1773921600-1773934200@isb.idaho.gov
SUMMARY:2026 Fourth District Bar Association Spring Case Review (FREE - Live Webcast Only)
DESCRIPTION:
URL:https://isb.idaho.gov/event/2026-fourth-district-bar-association-spring-case-review-free-live-webcast-only/
LOCATION:ID
CATEGORIES:Continuing Legal Education,Fourth District Bar Association,Fourth District Bar Association CLE,Free CLE
END:VEVENT
BEGIN:VEVENT
DTSTART;TZID=America/Boise:20251119T113000
DTEND;TZID=America/Boise:20251119T133000
DTSTAMP:20260425T175703
CREATED:20250905T200619Z
LAST-MODIFIED:20251111T185834Z
UID:10003390-1763551800-1763559000@isb.idaho.gov
SUMMARY:Fourth District Bar 2025 Roadshow (Boise) - SOLD OUT
DESCRIPTION:
URL:https://isb.idaho.gov/event/fourth-district-bar-2025-roadshow/
LOCATION:The Arid Club\, 1137 W River Street\, Boise\, Idaho\, 83702
CATEGORIES:Continuing Legal Education,Fourth District Bar Association,Fourth District Bar Association CLE,Free CLE
END:VEVENT
BEGIN:VEVENT
DTSTART;TZID=America/Boise:20251118T173000
DTEND;TZID=America/Boise:20251118T193000
DTSTAMP:20260425T175703
CREATED:20250905T200234Z
LAST-MODIFIED:20251001T010801Z
UID:10003389-1763487000-1763494200@isb.idaho.gov
SUMMARY:Third District Bar 2025 Roadshow (Caldwell)
DESCRIPTION:
URL:https://isb.idaho.gov/event/third-district-bar-2025-roadshow/
LOCATION:Indian Creek Steakhouse\, 711 Main St.\, Caldwell\, ID\, 83605\, United States
CATEGORIES:Continuing Legal Education,Free CLE,Third District Bar Association,Third District Bar Association CLE
END:VEVENT
BEGIN:VEVENT
DTSTART;TZID=America/Boise:20251106T110000
DTEND;TZID=America/Boise:20251106T130000
DTSTAMP:20260425T175703
CREATED:20250903T183804Z
LAST-MODIFIED:20251010T170309Z
UID:10003386-1762426800-1762434000@isb.idaho.gov
SUMMARY:First District Bar 2025 Roadshow (Coeur d'Alene)
DESCRIPTION:
URL:https://isb.idaho.gov/event/first-district-bar-2025-roadshow/
LOCATION:ID
CATEGORIES:Continuing Legal Education,First District Bar Association,First District Bar Association CLE,Free CLE
END:VEVENT
BEGIN:VEVENT
DTSTART;VALUE=DATE:20250919
DTEND;VALUE=DATE:20250920
DTSTAMP:20260425T175703
CREATED:20250714T225018Z
LAST-MODIFIED:20250714T230336Z
UID:10003190-1758240000-1758326399@isb.idaho.gov
SUMMARY:First District Bar Event: Golf Tournament with Ethics CLE
DESCRIPTION:
URL:https://isb.idaho.gov/event/47165/
LOCATION:ID
CATEGORIES:First District Bar Association
END:VEVENT
BEGIN:VEVENT
DTSTART;TZID=America/Boise:20250917T060000
DTEND;TZID=America/Boise:20250917T200000
DTSTAMP:20260425T175703
CREATED:20250714T224849Z
LAST-MODIFIED:20250714T225213Z
UID:10003189-1758088800-1758139200@isb.idaho.gov
SUMMARY:First District Bar Event: Idaho Supreme Court Dinner
DESCRIPTION:
URL:https://isb.idaho.gov/event/first-district-bar-event-idaho-supreme-court-dinner/
LOCATION:The Club at Prairie Falls\, 3200 N. Spokane Street\, Post Falls\, ID\, 83854\, United States
CATEGORIES:First District Bar Association
END:VEVENT
BEGIN:VEVENT
DTSTART;TZID=America/Boise:20250801T173000
DTEND;TZID=America/Boise:20250801T193000
DTSTAMP:20260425T175703
CREATED:20250714T223829Z
LAST-MODIFIED:20250714T223829Z
UID:10003188-1754069400-1754076600@isb.idaho.gov
SUMMARY:First District Bar Event: LUPA 101
DESCRIPTION:
URL:https://isb.idaho.gov/event/first-district-bar-event-lupa-101/
LOCATION:Vantage Point Brewing\, 208 E. Coeur d'Alene Lake Drive\, Coeur d'Alene\, ID\, 83814\, United States
CATEGORIES:First District Bar Association
END:VEVENT
BEGIN:VEVENT
DTSTART;TZID=America/Boise:20250718T180000
DTEND;TZID=America/Boise:20250718T200000
DTSTAMP:20260425T175703
CREATED:20250714T223616Z
LAST-MODIFIED:20250714T223616Z
UID:10003187-1752861600-1752868800@isb.idaho.gov
SUMMARY:First District Bar Event: Juries- Criminal and Civil.  Picking Them\, Keeping them Engaged from Voir Dire Through Closing
DESCRIPTION:
URL:https://isb.idaho.gov/event/first-district-bar-event-juries-criminal-and-civil-picking-them-keeping-them-engaged-from-voir-dire-through-closing/
LOCATION:MickDuff’s Brewing\, 419 N. 2nd Avenue\, Sandpoint\, ID\, 83864\, United States
CATEGORIES:First District Bar Association
END:VEVENT
BEGIN:VEVENT
DTSTART;TZID=America/Boise:20250718T120000
DTEND;TZID=America/Boise:20250718T130000
DTSTAMP:20260425T175703
CREATED:20250714T222559Z
LAST-MODIFIED:20250714T223245Z
UID:10003186-1752840000-1752843600@isb.idaho.gov
SUMMARY:First District Bar Event: Abandoning the Iron Horse - Land Titles for Railroads on Indian Reservations and the Doctrine of Implied Reverter
DESCRIPTION:
URL:https://isb.idaho.gov/event/abandoning-the-iron-horse-land-titles-for-railroads-on-indian-reservations-and-the-doctrine-of-implied-reverter-presenter-art-macomber/
LOCATION:Seasons Resturant\, 209 E Lakeside Ave\, Coeur d'Alene\, FL\, 83814\, United States
CATEGORIES:First District Bar Association
END:VEVENT
BEGIN:VEVENT
DTSTART;TZID=America/Boise:20250613T080000
DTEND;TZID=America/Boise:20250613T170000
DTSTAMP:20260425T175703
CREATED:20250408T173356Z
LAST-MODIFIED:20250409T200807Z
UID:10002945-1749801600-1749834000@isb.idaho.gov
SUMMARY:2025 4th District Bar Spring Fling Golf Scramble
DESCRIPTION:
URL:https://isb.idaho.gov/event/2025-spring-fling-golf-scramble/
LOCATION:Warm Springs Golf Course\, 2495 Warm Springs Ave.\, Boise\, ID\, 83712
CATEGORIES:Fourth District Bar Association
END:VEVENT
BEGIN:VEVENT
DTSTART;TZID=America/Boise:20250508T173000
DTEND;TZID=America/Boise:20250508T200000
DTSTAMP:20260425T175703
CREATED:20250422T174637Z
LAST-MODIFIED:20250422T191619Z
UID:10002952-1746725400-1746734400@isb.idaho.gov
SUMMARY:Attorney Well-Being Supper and CLE (Caldwell)
DESCRIPTION:
URL:https://isb.idaho.gov/event/third-district-bar-association-attorney-well-being-supper-and-cle-caldwell/
LOCATION:Canyon County Administration Building\, 111 N 11th Ave\, Caldwell\, Idaho\, 83605
CATEGORIES:Continuing Legal Education,Free CLE,Third District Bar Association,Third District Bar Association CLE
END:VEVENT
BEGIN:VEVENT
DTSTART;TZID=America/Boise:20250508T173000
DTEND;TZID=America/Boise:20250508T200000
DTSTAMP:20260425T175703
CREATED:20250403T155624Z
LAST-MODIFIED:20250422T210718Z
UID:10002880-1746725400-1746734400@isb.idaho.gov
SUMMARY:Family Night at Zoo Boise
DESCRIPTION:
URL:https://isb.idaho.gov/event/family-night-at-zoo-boise/
LOCATION:Zoo Boise\, 355 Julia Davis Dr\, Boise\, ID\, 83702
CATEGORIES:Fourth District Bar Association
END:VEVENT
BEGIN:VEVENT
DTSTART;TZID=America/Boise:20250312T120000
DTEND;TZID=America/Boise:20250312T153000
DTSTAMP:20260425T175703
CREATED:20250225T190305Z
LAST-MODIFIED:20250310T175729Z
UID:10002732-1741780800-1741793400@isb.idaho.gov
SUMMARY:2025 Fourth District Bar Association Spring Case Review - Free Webcast
DESCRIPTION:
URL:https://isb.idaho.gov/event/2025-fourth-district-bar-association-spring-case-review/
LOCATION:ID
CATEGORIES:Continuing Legal Education,Fourth District Bar Association,Fourth District Bar Association CLE,Free CLE
END:VEVENT
BEGIN:VEVENT
DTSTART;TZID=America/Boise:20240926T120000
DTEND;TZID=America/Boise:20240926T130000
DTSTAMP:20260425T175703
CREATED:20240919T213355Z
LAST-MODIFIED:20240919T213355Z
UID:10000813-1727352000-1727355600@isb.idaho.gov
SUMMARY:First District Bar Association Officer Meeting
DESCRIPTION:
URL:https://isb.idaho.gov/event/first-district-bar-association-officer-meeting-4/
LOCATION:Lake City Law\, 120 E. Lake Street\, Ste. 202\, Sandpoint\, ID
CATEGORIES:District Bar Associations,First District Bar Association
END:VEVENT
BEGIN:VEVENT
DTSTART;TZID=America/Boise:20240918T180000
DTEND;TZID=America/Boise:20240918T200000
DTSTAMP:20260425T175703
CREATED:20240906T223250Z
LAST-MODIFIED:20240911T025504Z
UID:10000806-1726682400-1726689600@isb.idaho.gov
SUMMARY:Condemnation 101 (Caldwell)
DESCRIPTION:
URL:https://isb.idaho.gov/event/condemnation-101-caldwell/
LOCATION:Canyon County Administration Building\, 111 N 11th Ave\, Caldwell\, Idaho\, 83605
CATEGORIES:Continuing Legal Education,District Bar Associations,Third District Bar Association,Third District Bar Association CLE
END:VEVENT
BEGIN:VEVENT
DTSTART;TZID=America/Boise:20240918T140000
DTEND;TZID=America/Boise:20240918T153000
DTSTAMP:20260425T175703
CREATED:20240905T230607Z
LAST-MODIFIED:20240910T045952Z
UID:10000801-1726668000-1726673400@isb.idaho.gov
SUMMARY:Nuts and Bolts of Nursing Home Litigation (Boise/Webcast)
DESCRIPTION:
URL:https://isb.idaho.gov/event/nuts-and-bolts-of-nursing-home-litigation-boise-webcast/
LOCATION:The Law Center\, 525 W Jefferson Street\, Boise\, Idaho\, 83702
CATEGORIES:Continuing Legal Education,District Bar Associations,Fourth District Bar Association,Fourth District Bar Association CLE
END:VEVENT
END:VCALENDAR