BEGIN:VCALENDAR
VERSION:2.0
PRODID:-//Idaho State Bar - ECPv6.15.20//NONSGML v1.0//EN
CALSCALE:GREGORIAN
METHOD:PUBLISH
X-WR-CALNAME:Idaho State Bar
X-ORIGINAL-URL:https://isb.idaho.gov
X-WR-CALDESC:Events for Idaho State Bar
REFRESH-INTERVAL;VALUE=DURATION:PT1H
X-Robots-Tag:noindex
X-PUBLISHED-TTL:PT1H
BEGIN:VTIMEZONE
TZID:America/Boise
BEGIN:DAYLIGHT
TZOFFSETFROM:-0700
TZOFFSETTO:-0600
TZNAME:MDT
DTSTART:20240310T090000
END:DAYLIGHT
BEGIN:STANDARD
TZOFFSETFROM:-0600
TZOFFSETTO:-0700
TZNAME:MST
DTSTART:20241103T080000
END:STANDARD
BEGIN:DAYLIGHT
TZOFFSETFROM:-0700
TZOFFSETTO:-0600
TZNAME:MDT
DTSTART:20250309T090000
END:DAYLIGHT
BEGIN:STANDARD
TZOFFSETFROM:-0600
TZOFFSETTO:-0700
TZNAME:MST
DTSTART:20251102T080000
END:STANDARD
BEGIN:DAYLIGHT
TZOFFSETFROM:-0700
TZOFFSETTO:-0600
TZNAME:MDT
DTSTART:20260308T090000
END:DAYLIGHT
BEGIN:STANDARD
TZOFFSETFROM:-0600
TZOFFSETTO:-0700
TZNAME:MST
DTSTART:20261101T080000
END:STANDARD
END:VTIMEZONE
BEGIN:VEVENT
DTSTART;TZID=America/Boise:20251106T110000
DTEND;TZID=America/Boise:20251106T130000
DTSTAMP:20260425T093302
CREATED:20250903T183804Z
LAST-MODIFIED:20251010T170309Z
UID:10003386-1762426800-1762434000@isb.idaho.gov
SUMMARY:First District Bar 2025 Roadshow (Coeur d'Alene)
DESCRIPTION:
URL:https://isb.idaho.gov/event/first-district-bar-2025-roadshow/
LOCATION:ID
CATEGORIES:Continuing Legal Education,First District Bar Association,First District Bar Association CLE,Free CLE
END:VEVENT
BEGIN:VEVENT
DTSTART;TZID=America/Boise:20251118T173000
DTEND;TZID=America/Boise:20251118T193000
DTSTAMP:20260425T093302
CREATED:20250905T200234Z
LAST-MODIFIED:20251001T010801Z
UID:10003389-1763487000-1763494200@isb.idaho.gov
SUMMARY:Third District Bar 2025 Roadshow (Caldwell)
DESCRIPTION:
URL:https://isb.idaho.gov/event/third-district-bar-2025-roadshow/
LOCATION:Indian Creek Steakhouse\, 711 Main St.\, Caldwell\, ID\, 83605\, United States
CATEGORIES:Continuing Legal Education,Free CLE,Third District Bar Association,Third District Bar Association CLE
END:VEVENT
BEGIN:VEVENT
DTSTART;TZID=America/Boise:20251119T113000
DTEND;TZID=America/Boise:20251119T133000
DTSTAMP:20260425T093302
CREATED:20250905T200619Z
LAST-MODIFIED:20251111T185834Z
UID:10003390-1763551800-1763559000@isb.idaho.gov
SUMMARY:Fourth District Bar 2025 Roadshow (Boise) - SOLD OUT
DESCRIPTION:
URL:https://isb.idaho.gov/event/fourth-district-bar-2025-roadshow/
LOCATION:The Arid Club\, 1137 W River Street\, Boise\, Idaho\, 83702
CATEGORIES:Continuing Legal Education,Fourth District Bar Association,Fourth District Bar Association CLE,Free CLE
END:VEVENT
END:VCALENDAR