BEGIN:VCALENDAR
VERSION:2.0
PRODID:-//Idaho State Bar - ECPv6.15.20//NONSGML v1.0//EN
CALSCALE:GREGORIAN
METHOD:PUBLISH
X-WR-CALNAME:Idaho State Bar
X-ORIGINAL-URL:https://isb.idaho.gov
X-WR-CALDESC:Events for Idaho State Bar
REFRESH-INTERVAL;VALUE=DURATION:PT1H
X-Robots-Tag:noindex
X-PUBLISHED-TTL:PT1H
BEGIN:VTIMEZONE
TZID:America/Boise
BEGIN:DAYLIGHT
TZOFFSETFROM:-0700
TZOFFSETTO:-0600
TZNAME:MDT
DTSTART:20250309T090000
END:DAYLIGHT
BEGIN:STANDARD
TZOFFSETFROM:-0600
TZOFFSETTO:-0700
TZNAME:MST
DTSTART:20251102T080000
END:STANDARD
BEGIN:DAYLIGHT
TZOFFSETFROM:-0700
TZOFFSETTO:-0600
TZNAME:MDT
DTSTART:20260308T090000
END:DAYLIGHT
BEGIN:STANDARD
TZOFFSETFROM:-0600
TZOFFSETTO:-0700
TZNAME:MST
DTSTART:20261101T080000
END:STANDARD
BEGIN:DAYLIGHT
TZOFFSETFROM:-0700
TZOFFSETTO:-0600
TZNAME:MDT
DTSTART:20270314T090000
END:DAYLIGHT
BEGIN:STANDARD
TZOFFSETFROM:-0600
TZOFFSETTO:-0700
TZNAME:MST
DTSTART:20271107T080000
END:STANDARD
BEGIN:DAYLIGHT
TZOFFSETFROM:-0700
TZOFFSETTO:-0600
TZNAME:MDT
DTSTART:20280312T090000
END:DAYLIGHT
BEGIN:STANDARD
TZOFFSETFROM:-0600
TZOFFSETTO:-0700
TZNAME:MST
DTSTART:20281105T080000
END:STANDARD
END:VTIMEZONE
BEGIN:VEVENT
DTSTART;TZID=America/Boise:20260515T090000
DTEND;TZID=America/Boise:20260515T153000
DTSTAMP:20260424T165132
CREATED:20260413T191829Z
LAST-MODIFIED:20260420T205312Z
UID:10003641-1778835600-1778859000@isb.idaho.gov
SUMMARY:2026 Business and Corporate Law Section Annual CLE (Boise/Webcast)
DESCRIPTION:
URL:https://isb.idaho.gov/event/2026-business-and-corporate-law-section-annual-cle-boise-webcast/
LOCATION:University of Idaho College of Law\, Boise\, 501 W. Front St.\, Room 221\, Boise\, ID\, 83702
CATEGORIES:Business & Corporate Law Section,Business & Corporate Law Section CLE,Continuing Legal Education
END:VEVENT
BEGIN:VEVENT
DTSTART;TZID=America/Boise:20260605T110000
DTEND;TZID=America/Boise:20260605T120000
DTSTAMP:20260424T165132
CREATED:20260306T214924Z
LAST-MODIFIED:20260401T225321Z
UID:10003548-1780657200-1780660800@isb.idaho.gov
SUMMARY:Lawyer Ethics and Email (Live Audio Streaming)
DESCRIPTION:
URL:https://isb.idaho.gov/event/lawyer-ethics-and-email-live-audio-streaming-7/
LOCATION:ID
CATEGORIES:Continuing Legal Education
END:VEVENT
BEGIN:VEVENT
DTSTART;TZID=America/Boise:20260617T080000
DTEND;TZID=America/Boise:20260617T190000
DTSTAMP:20260424T165132
CREATED:20251210T181058Z
LAST-MODIFIED:20260401T225800Z
UID:10003470-1781683200-1781722800@isb.idaho.gov
SUMMARY:2026 ISB Annual Meeting
DESCRIPTION:
URL:https://isb.idaho.gov/event/2026-isb-annual-meeting/
LOCATION:Jack’s Urban Meeting Place – JUMP\, 1000 W Myrtle Street\, Boise\, Idaho\, 83702
CATEGORIES:Continuing Legal Education
END:VEVENT
BEGIN:VEVENT
DTSTART;TZID=America/Boise:20260617T090000
DTEND;TZID=America/Boise:20260617T103000
DTSTAMP:20260424T165132
CREATED:20260401T211932Z
LAST-MODIFIED:20260403T153804Z
UID:10003568-1781686800-1781692200@isb.idaho.gov
SUMMARY:Bar Counsel Panel: Decades of Ethics - Idaho State Bar Annual Meeting CLE Session 1
DESCRIPTION:
URL:https://isb.idaho.gov/event/bar-counsel-panel-decades-of-ethics-idaho-state-bar-annual-meeting-cle-session-4/
LOCATION:Jack’s Urban Meeting Place – JUMP\, 1000 W Myrtle Street\, Boise\, Idaho\, 83702
CATEGORIES:Continuing Legal Education
END:VEVENT
BEGIN:VEVENT
DTSTART;TZID=America/Boise:20260617T103000
DTEND;TZID=America/Boise:20260617T120000
DTSTAMP:20260424T165132
CREATED:20260401T211314Z
LAST-MODIFIED:20260403T153822Z
UID:10003566-1781692200-1781697600@isb.idaho.gov
SUMMARY:AI and its Use in the Legal Profession - Idaho State Bar Annual Meeting CLE Session 2
DESCRIPTION:
URL:https://isb.idaho.gov/event/ai-and-its-use-in-the-legal-profession-idaho-state-bar-annual-meeting-cle-session-2/
LOCATION:Jack’s Urban Meeting Place – JUMP\, 1000 W Myrtle Street\, Boise\, Idaho\, 83702
CATEGORIES:Continuing Legal Education
END:VEVENT
BEGIN:VEVENT
DTSTART;TZID=America/Boise:20260617T133000
DTEND;TZID=America/Boise:20260617T150000
DTSTAMP:20260424T165132
CREATED:20260401T211643Z
LAST-MODIFIED:20260403T153840Z
UID:10003567-1781703000-1781708400@isb.idaho.gov
SUMMARY:NextGen Bar Exam: What Attorneys Need to Know - Idaho State Bar Annual Meeting CLE Session 3
DESCRIPTION:
URL:https://isb.idaho.gov/event/nextgen-bar-exam-what-attorneys-need-to-know-idaho-state-bar-annual-meeting-cle-session-3/
LOCATION:Jack’s Urban Meeting Place – JUMP\, 1000 W Myrtle Street\, Boise\, Idaho\, 83702
CATEGORIES:Continuing Legal Education
END:VEVENT
BEGIN:VEVENT
DTSTART;TZID=America/Boise:20260617T150000
DTEND;TZID=America/Boise:20260617T163000
DTSTAMP:20260424T165132
CREATED:20260401T210813Z
LAST-MODIFIED:20260403T153859Z
UID:10003565-1781708400-1781713800@isb.idaho.gov
SUMMARY:Ligertown: The Escape and the Legal Saga That Followed - Idaho State Bar Annual Meeting CLE Session 4
DESCRIPTION:
URL:https://isb.idaho.gov/event/ligertown-the-escape-and-the-legal-saga-that-followed-cle-session-1/
LOCATION:Jack’s Urban Meeting Place – JUMP\, 1000 W Myrtle Street\, Boise\, Idaho\, 83702
CATEGORIES:Continuing Legal Education
END:VEVENT
BEGIN:VEVENT
DTSTART;TZID=America/Boise:20260626T120000
DTEND;TZID=America/Boise:20260626T130000
DTSTAMP:20260424T165132
CREATED:20260421T191303Z
LAST-MODIFIED:20260421T193625Z
UID:10003647-1782475200-1782478800@isb.idaho.gov
SUMMARY:How Ethics Rules Apply to Lawyers Outside of Law Practice (Live Audio Streaming)
DESCRIPTION:
URL:https://isb.idaho.gov/event/how-ethics-rules-apply-to-lawyers-outside-of-law-practice-live-audio-streaming-4/
LOCATION:ID
CATEGORIES:Continuing Legal Education
END:VEVENT
BEGIN:VEVENT
DTSTART;TZID=America/Boise:20260628T080000
DTEND;TZID=America/Boise:20260705T170000
DTSTAMP:20260424T165132
CREATED:20250530T174709Z
LAST-MODIFIED:20260226T182225Z
UID:10003105-1782633600-1783270800@isb.idaho.gov
SUMMARY:2026 Munich\, Germany
DESCRIPTION:
URL:https://isb.idaho.gov/event/munich-germany/
LOCATION:ID
CATEGORIES:Continuing Legal Education
END:VEVENT
BEGIN:VEVENT
DTSTART;TZID=America/Boise:20260713T080000
DTEND;TZID=America/Boise:20260727T170000
DTSTAMP:20260424T165132
CREATED:20260127T171224Z
LAST-MODIFIED:20260226T182011Z
UID:10003528-1783929600-1785171600@isb.idaho.gov
SUMMARY:2026 South Africa (Optional Add-On to Dubai) - SOLD OUT!
DESCRIPTION:
URL:https://isb.idaho.gov/event/2026-south-africa-optional-add-on-to-dubai-sold-out/
LOCATION:ID
CATEGORIES:Continuing Legal Education
END:VEVENT
BEGIN:VEVENT
DTSTART;TZID=America/Boise:20260801T080000
DTEND;TZID=America/Boise:20260808T170000
DTSTAMP:20260424T165132
CREATED:20250530T182054Z
LAST-MODIFIED:20260226T181808Z
UID:10003107-1785571200-1786208400@isb.idaho.gov
SUMMARY:Norwegian Fjords CLE Cruise
DESCRIPTION:
URL:https://isb.idaho.gov/event/norwegian-fjords-cle-cruise/
LOCATION:ID
CATEGORIES:Continuing Legal Education
END:VEVENT
BEGIN:VEVENT
DTSTART;TZID=America/Boise:20260829T080000
DTEND;TZID=America/Boise:20260905T170000
DTSTAMP:20260424T165132
CREATED:20260127T174603Z
LAST-MODIFIED:20260226T181712Z
UID:10003529-1787990400-1788627600@isb.idaho.gov
SUMMARY:2026 Alaska Cruise
DESCRIPTION:
URL:https://isb.idaho.gov/event/2026-alaska-cruise/
LOCATION:ID
CATEGORIES:Continuing Legal Education
END:VEVENT
BEGIN:VEVENT
DTSTART;TZID=America/Boise:20260903T080000
DTEND;TZID=America/Boise:20260912T170000
DTSTAMP:20260424T165132
CREATED:20260127T193205Z
LAST-MODIFIED:20260226T181545Z
UID:10003530-1788422400-1789232400@isb.idaho.gov
SUMMARY:2026 Colorado National Parks
DESCRIPTION:
URL:https://isb.idaho.gov/event/2026-colorado-national-parks/
LOCATION:ID
CATEGORIES:Continuing Legal Education
END:VEVENT
BEGIN:VEVENT
DTSTART;TZID=America/Boise:20261023T080000
DTEND;TZID=America/Boise:20261023T123000
DTSTAMP:20260424T165132
CREATED:20260313T170434Z
LAST-MODIFIED:20260313T171636Z
UID:10003559-1792742400-1792758600@isb.idaho.gov
SUMMARY:2026 Fall New Attorney Program (Boise)
DESCRIPTION:
URL:https://isb.idaho.gov/event/2026-fall-new-attorney-program-boise/
LOCATION:Boise Centre East\, 195 S Capitol Blvd\, Boise\, Idaho\, 83706
CATEGORIES:Continuing Legal Education
END:VEVENT
BEGIN:VEVENT
DTSTART;TZID=America/Boise:20261024T080000
DTEND;TZID=America/Boise:20261101T170000
DTSTAMP:20260424T165132
CREATED:20250530T182417Z
LAST-MODIFIED:20260226T181431Z
UID:10003108-1792828800-1793552400@isb.idaho.gov
SUMMARY:2026 Casablanca\, Morocco
DESCRIPTION:
URL:https://isb.idaho.gov/event/morocco-3-cities/
LOCATION:ID
CATEGORIES:Continuing Legal Education
END:VEVENT
BEGIN:VEVENT
DTSTART;TZID=America/Boise:20261025T080000
DTEND;TZID=America/Boise:20261101T170000
DTSTAMP:20260424T165132
CREATED:20260127T194103Z
LAST-MODIFIED:20260226T181328Z
UID:10003531-1792915200-1793552400@isb.idaho.gov
SUMMARY:2026 Western Caribbean CLE at Sea – Halloween Cruise
DESCRIPTION:
URL:https://isb.idaho.gov/event/2026-western-caribbean-cruise/
LOCATION:ID
CATEGORIES:Continuing Legal Education
END:VEVENT
BEGIN:VEVENT
DTSTART;TZID=America/Boise:20261108T080000
DTEND;TZID=America/Boise:20261115T170000
DTSTAMP:20260424T165132
CREATED:20250530T182600Z
LAST-MODIFIED:20260226T181213Z
UID:10003109-1794124800-1794762000@isb.idaho.gov
SUMMARY:2026 Thailand
DESCRIPTION:
URL:https://isb.idaho.gov/event/chiang-mai-chiang-rai-thailand/
LOCATION:ID
CATEGORIES:Continuing Legal Education
END:VEVENT
BEGIN:VEVENT
DTSTART;TZID=America/Boise:20261206T080000
DTEND;TZID=America/Boise:20261211T170000
DTSTAMP:20260424T165132
CREATED:20260326T155230Z
LAST-MODIFIED:20260326T162427Z
UID:10003562-1796544000-1797008400@isb.idaho.gov
SUMMARY:2026 Los Cabos CLE
DESCRIPTION:
URL:https://isb.idaho.gov/event/2026-los-cabos/
LOCATION:ID
CATEGORIES:Continuing Legal Education
END:VEVENT
BEGIN:VEVENT
DTSTART;TZID=America/Boise:20261212T080000
DTEND;TZID=America/Boise:20261218T170000
DTSTAMP:20260424T165132
CREATED:20260127T201004Z
LAST-MODIFIED:20260226T180913Z
UID:10003533-1797062400-1797613200@isb.idaho.gov
SUMMARY:2026 Turks & Caicos
DESCRIPTION:
URL:https://isb.idaho.gov/event/2026-turks-caicos/
LOCATION:ID
CATEGORIES:Continuing Legal Education
END:VEVENT
BEGIN:VEVENT
DTSTART;TZID=America/Boise:20270213T080000
DTEND;TZID=America/Boise:20270220T170000
DTSTAMP:20260424T165132
CREATED:20260127T195456Z
LAST-MODIFIED:20260226T180754Z
UID:10003532-1802505600-1803142800@isb.idaho.gov
SUMMARY:2027 Hawaiian Island Cruise
DESCRIPTION:
URL:https://isb.idaho.gov/event/2027-hawaiian-island-cruise/
LOCATION:ID
CATEGORIES:Continuing Legal Education
END:VEVENT
BEGIN:VEVENT
DTSTART;TZID=America/Boise:20270327T080000
DTEND;TZID=America/Boise:20270407T170000
DTSTAMP:20260424T165132
CREATED:20260210T222140Z
LAST-MODIFIED:20260226T180541Z
UID:10003543-1806134400-1807117200@isb.idaho.gov
SUMMARY:2027 Malta & Sicily CLE Trip
DESCRIPTION:
URL:https://isb.idaho.gov/event/2027-malta-sicily-cle-trip/
LOCATION:ID
CATEGORIES:Continuing Legal Education
END:VEVENT
BEGIN:VEVENT
DTSTART;TZID=America/Boise:20270625T080000
DTEND;TZID=America/Boise:20270703T170000
DTSTAMP:20260424T165132
CREATED:20260326T161719Z
LAST-MODIFIED:20260326T162319Z
UID:10003563-1813910400-1814634000@isb.idaho.gov
SUMMARY:2027 Scottish & Irish CLE Cruise
DESCRIPTION:
URL:https://isb.idaho.gov/event/2027-scottish-irish-cle-cruise/
LOCATION:ID
CATEGORIES:Continuing Legal Education
END:VEVENT
END:VCALENDAR