BEGIN:VCALENDAR
VERSION:2.0
PRODID:-//Idaho State Bar - ECPv6.15.20//NONSGML v1.0//EN
CALSCALE:GREGORIAN
METHOD:PUBLISH
X-WR-CALNAME:Idaho State Bar
X-ORIGINAL-URL:https://isb.idaho.gov
X-WR-CALDESC:Events for Idaho State Bar
REFRESH-INTERVAL;VALUE=DURATION:PT1H
X-Robots-Tag:noindex
X-PUBLISHED-TTL:PT1H
BEGIN:VTIMEZONE
TZID:America/Boise
BEGIN:DAYLIGHT
TZOFFSETFROM:-0700
TZOFFSETTO:-0600
TZNAME:MDT
DTSTART:20270314T090000
END:DAYLIGHT
BEGIN:STANDARD
TZOFFSETFROM:-0600
TZOFFSETTO:-0700
TZNAME:MST
DTSTART:20271107T080000
END:STANDARD
BEGIN:DAYLIGHT
TZOFFSETFROM:-0700
TZOFFSETTO:-0600
TZNAME:MDT
DTSTART:20280312T090000
END:DAYLIGHT
BEGIN:STANDARD
TZOFFSETFROM:-0600
TZOFFSETTO:-0700
TZNAME:MST
DTSTART:20281105T080000
END:STANDARD
BEGIN:DAYLIGHT
TZOFFSETFROM:-0700
TZOFFSETTO:-0600
TZNAME:MDT
DTSTART:20290311T090000
END:DAYLIGHT
BEGIN:STANDARD
TZOFFSETFROM:-0600
TZOFFSETTO:-0700
TZNAME:MST
DTSTART:20291104T080000
END:STANDARD
BEGIN:DAYLIGHT
TZOFFSETFROM:-0700
TZOFFSETTO:-0600
TZNAME:MDT
DTSTART:20300310T090000
END:DAYLIGHT
BEGIN:STANDARD
TZOFFSETFROM:-0600
TZOFFSETTO:-0700
TZNAME:MST
DTSTART:20301103T080000
END:STANDARD
BEGIN:DAYLIGHT
TZOFFSETFROM:-0700
TZOFFSETTO:-0600
TZNAME:MDT
DTSTART:20310309T090000
END:DAYLIGHT
BEGIN:STANDARD
TZOFFSETFROM:-0600
TZOFFSETTO:-0700
TZNAME:MST
DTSTART:20311102T080000
END:STANDARD
END:VTIMEZONE
BEGIN:VEVENT
DTSTART;TZID=America/Boise:20281214T120000
DTEND;TZID=America/Boise:20281214T130000
DTSTAMP:20260423T215230
CREATED:20240726T194156Z
LAST-MODIFIED:20260401T215403Z
UID:10002612-1860408000-1860411600@isb.idaho.gov
SUMMARY:Appellate Practice Section Member Meeting
DESCRIPTION:
URL:https://isb.idaho.gov/event/appellate-practice-section-member-meeting/2028-12-14/
CATEGORIES:Appellate Practice Section
END:VEVENT
BEGIN:VEVENT
DTSTART;TZID=America/Boise:20290412T120000
DTEND;TZID=America/Boise:20290412T130000
DTSTAMP:20260423T215230
CREATED:20240726T194156Z
LAST-MODIFIED:20260401T215403Z
UID:10002613-1870689600-1870693200@isb.idaho.gov
SUMMARY:Appellate Practice Section Member Meeting
DESCRIPTION:
URL:https://isb.idaho.gov/event/appellate-practice-section-member-meeting/2029-04-12/
CATEGORIES:Appellate Practice Section
END:VEVENT
BEGIN:VEVENT
DTSTART;TZID=America/Boise:20290614T120000
DTEND;TZID=America/Boise:20290614T130000
DTSTAMP:20260423T215230
CREATED:20240726T194156Z
LAST-MODIFIED:20260401T215403Z
UID:10002614-1876132800-1876136400@isb.idaho.gov
SUMMARY:Appellate Practice Section Member Meeting
DESCRIPTION:
URL:https://isb.idaho.gov/event/appellate-practice-section-member-meeting/2029-06-14/
CATEGORIES:Appellate Practice Section
END:VEVENT
BEGIN:VEVENT
DTSTART;TZID=America/Boise:20290913T120000
DTEND;TZID=America/Boise:20290913T130000
DTSTAMP:20260423T215230
CREATED:20240726T194156Z
LAST-MODIFIED:20260401T215403Z
UID:10002615-1883995200-1883998800@isb.idaho.gov
SUMMARY:Appellate Practice Section Member Meeting
DESCRIPTION:
URL:https://isb.idaho.gov/event/appellate-practice-section-member-meeting/2029-09-13/
CATEGORIES:Appellate Practice Section
END:VEVENT
BEGIN:VEVENT
DTSTART;TZID=America/Boise:20291213T120000
DTEND;TZID=America/Boise:20291213T130000
DTSTAMP:20260423T215230
CREATED:20240726T194156Z
LAST-MODIFIED:20260401T215403Z
UID:10002616-1891857600-1891861200@isb.idaho.gov
SUMMARY:Appellate Practice Section Member Meeting
DESCRIPTION:
URL:https://isb.idaho.gov/event/appellate-practice-section-member-meeting/2029-12-13/
CATEGORIES:Appellate Practice Section
END:VEVENT
BEGIN:VEVENT
DTSTART;TZID=America/Boise:20300411T120000
DTEND;TZID=America/Boise:20300411T130000
DTSTAMP:20260423T215230
CREATED:20240726T194156Z
LAST-MODIFIED:20260401T215403Z
UID:10003051-1902139200-1902142800@isb.idaho.gov
SUMMARY:Appellate Practice Section Member Meeting
DESCRIPTION:
URL:https://isb.idaho.gov/event/appellate-practice-section-member-meeting/2030-04-11/
CATEGORIES:Appellate Practice Section
END:VEVENT
BEGIN:VEVENT
DTSTART;TZID=America/Boise:20300613T120000
DTEND;TZID=America/Boise:20300613T130000
DTSTAMP:20260423T215230
CREATED:20240726T194156Z
LAST-MODIFIED:20260401T215403Z
UID:10003569-1907582400-1907586000@isb.idaho.gov
SUMMARY:Appellate Practice Section Member Meeting
DESCRIPTION:
URL:https://isb.idaho.gov/event/appellate-practice-section-member-meeting/2030-06-13/
CATEGORIES:Appellate Practice Section
END:VEVENT
BEGIN:VEVENT
DTSTART;TZID=America/Boise:20300912T120000
DTEND;TZID=America/Boise:20300912T130000
DTSTAMP:20260423T215230
CREATED:20240726T194156Z
LAST-MODIFIED:20260401T215403Z
UID:10003570-1915444800-1915448400@isb.idaho.gov
SUMMARY:Appellate Practice Section Member Meeting
DESCRIPTION:
URL:https://isb.idaho.gov/event/appellate-practice-section-member-meeting/2030-09-12/
CATEGORIES:Appellate Practice Section
END:VEVENT
BEGIN:VEVENT
DTSTART;TZID=America/Boise:20301212T120000
DTEND;TZID=America/Boise:20301212T130000
DTSTAMP:20260423T215230
CREATED:20240726T194156Z
LAST-MODIFIED:20260401T215403Z
UID:10003571-1923307200-1923310800@isb.idaho.gov
SUMMARY:Appellate Practice Section Member Meeting
DESCRIPTION:
URL:https://isb.idaho.gov/event/appellate-practice-section-member-meeting/2030-12-12/
CATEGORIES:Appellate Practice Section
END:VEVENT
END:VCALENDAR